Uber Exif Photo
By-line : Carol How
By-line Title : Photographer
Object Name : Water Canvas
Province-State : BC
Country-Primary Location Name : Canada
Keywords : Canada, Nikon D800, Vancouver, False Creek, reflection, abstract, visual, painterly, abstraction, vivid, tourism, Zeiss
Copyright Notice : Copyright C Ann How, all rights reseved
Copyright Flag : True
Make : NIKON CORPORATION
Camera Model Name : NIKON D800
Orientation : Horizontal (normal)
Software : Adobe Photoshop CS5 Macintosh
Modify Date : 2012:06:30 23:33:21
Artist : Carol How
Copyright : Copyright C Ann How, all rights reseved
Exposure Time : 1/160
F Number : 7.1
Exposure Program : Aperture-priority AE
ISO : 200
Sensitivity Type : Recommended Exposure Index
Date/Time Original : 2012:05:05 19:33:09
Create Date : 2012:05:05 19:33:09
Shutter Speed Value : 1/160
Aperture Value : 7.1
Exposure Compensation : -1/3
Max Aperture Value : 1.4
Metering Mode : Multi-segment
Light Source : Unknown
Flash : Off, Did not fire
Focal Length : 50.0 mm
Color Space : Uncalibrated
Exif Image Width : 1998
Exif Image Height : 891
Sensing Method : One-chip color area
Scene Type : Directly photographed
CFA Pattern : [Red,Green][Green,Blue]
Custom Rendered : Normal
Exposure Mode : Auto
White Balance : Auto
Digital Zoom Ratio : 1
Focal Length In 35mm Format : 50 mm
Scene Capture Type : Standard
Gain Control : None
Contrast : Normal
Saturation : Normal
Sharpness : Normal
Subject Distance Range : Unknown
Serial Number : 5000932
Lens Info : 50mm f/1.4
Lens Model : Zeiss Planar T* 1.4/50 ZF.2
Profile Description : Adobe RGB (1998)
Format : image/jpeg
Creator Tool : Adobe Photoshop CS5 Macintosh
Lens : Zeiss Planar T* 1.4/50 ZF.2
Image Number : 366
ICC Profile Name : Adobe RGB (1998)
Authors Position : Photographer
State : BC
Country : Canada
Color Mode : RGB
Raw File Name : _CAH1216.NEF
Version : 6.7
Process Version : 5.7
Color Temperature : 5400
Tint : +13
Exposure : +1.05
Shadows : 13
Brightness : +50
Luminance Smoothing : 0
Color Noise Reduction : 25
Vignette Amount : 0
Shadow Tint : 0
Red Hue : 0
Red Saturation : 0
Green Hue : 0
Green Saturation : 0
Blue Hue : 0
Blue Saturation : 0
Fill Light : 0
Vibrance : 0
Highlight Recovery : 100
Clarity : +56
Defringe : 0
Hue Adjustment Red : 0
Hue Adjustment Orange : 0
Hue Adjustment Yellow : 0
Hue Adjustment Green : 0
Hue Adjustment Aqua : 0
Hue Adjustment Blue : 0
Hue Adjustment Purple : 0
Hue Adjustment Magenta : 0
Saturation Adjustment Red : 0
Saturation Adjustment Orange : 0
Saturation Adjustment Yellow : 0
Saturation Adjustment Green : 0
Saturation Adjustment Aqua : 0
Saturation Adjustment Blue : 0
Saturation Adjustment Purple : 0
Saturation Adjustment Magenta : 0
Luminance Adjustment Red : 0
Luminance Adjustment Orange : 0
Luminance Adjustment Yellow : 0
Luminance Adjustment Green : 0
Luminance Adjustment Aqua : 0
Luminance Adjustment Blue : 0
Luminance Adjustment Purple : 0
Luminance Adjustment Magenta : 0
Split Toning Shadow Hue : 0
Split Toning Shadow Saturation : 0
Split Toning Highlight Hue : 0
Split Toning Highlight Saturation : 0
Split Toning Balance : 0
Parametric Shadows : 0
Parametric Darks : 0
Parametric Lights : 0
Parametric Highlights : 0
Parametric Shadow Split : 25
Parametric Midtone Split : 50
Parametric Highlight Split : 75
Sharpen Radius : +1.0
Sharpen Detail : 25
Sharpen Edge Masking : 0
Post Crop Vignette Amount : 0
Grain Amount : 0
Color Noise Reduction Detail : 50
Lens Profile Enable : 0
Lens Manual Distortion Amount : 0
Perspective Vertical : 0
Perspective Horizontal : 0
Perspective Rotate : 0.0
Perspective Scale : 100
Auto Lateral CA : 0
Exposure 2012 : 0.00
Contrast 2012 : 0
Highlights 2012 : 0
Shadows 2012 : 0
Whites 2012 : 0
Blacks 2012 : 0
Clarity 2012 : 0
Convert To Grayscale : False
Tone Curve Name : Medium Contrast
Tone Curve Name 2012 : Linear
Camera Profile : Adobe Standard
Lens Profile Setup : LensDefaults
Has Settings : True
Crop Top : 0.176815
Crop Left : 0.00625
Crop Bottom : 0.836066
Crop Right : 0.342187
Crop Angle : 0
Crop Constrain To Warp : 1
Has Crop : True
Already Applied : True
Intellectual Genre : Copyright, Carol How, All rights reserved
Marked : True
Creator : Carol How
Rights : Copyright C Ann How, all rights reseved
Title : Water Canvas
Subject : Canada, Nikon D800, Vancouver, False Creek, reflection, abstract, visual, painterly, abstraction, vivid, tourism, Zeiss
Tone Curve : 0, 0, 32, 22, 64, 56, 128, 128, 192, 196, 255, 255
Tone Curve Red : 0, 0, 255, 255
Tone Curve Green : 0, 0, 255, 255
Tone Curve Blue : 0, 0, 255, 255
Tone Curve PV2012 : 0, 0, 255, 255
Tone Curve PV2012 Red : 0, 0, 255, 255
Tone Curve PV2012 Green : 0, 0, 255, 255
Tone Curve PV2012 Blue : 0, 0, 255, 255
Creator City : Surrey
Creator Region : BC
Creator Country : Canada
Creator Work Email : carolhow@shaw.ca; how.carol@yahoo.com
Usage Terms : all rights reserved
Image Width : 300
Image Height : 134
Bits Per Sample : 8
Color Components : 3
Aperture : 7.1
Image Size : 300x134
Megapixels : 0.040
Scale Factor To 35 mm Equivalent : 1.0
Shutter Speed : 1/160
Create Date : 2012:05:05 19:33:09.00
Date/Time Original : 2012:05:05 19:33:09.00
Modify Date : 2012:06:30 23:33:21.00
Circle Of Confusion : 0.030 mm
Field Of View : 39.6 deg
Focal Length : 50.0 mm (35 mm equivalent: 50.0 mm)
Hyperfocal Distance : 11.72 m
Light Value : 12.0