Uber Exif Photo
Make : SONY
Camera Model Name : SLT-A77V
Software : Adobe Photoshop Lightroom 3.5 (Windows)
Modify Date : 2012:06:28 22:03:26
Exposure Time : 1/640
F Number : 5.6
Exposure Program : Aperture-priority AE
ISO : 100
Sensitivity Type : Recommended Exposure Index
Recommended Exposure Index : 100
Date/Time Original : 2012:06:27 19:22:52
Create Date : 2012:06:27 19:22:52
Shutter Speed Value : 1/640
Aperture Value : 5.6
Brightness Value : 9.25546875
Exposure Compensation : +0.7
Max Aperture Value : 2.0
Metering Mode : Multi-segment
Light Source : Daylight
Flash : Off, Did not fire
Focal Length : 24.0 mm
Scene Type : Directly photographed
Custom Rendered : Normal
Exposure Mode : Auto
White Balance : Manual
Focal Length In 35mm Format : 36 mm
Scene Capture Type : Standard
Contrast : Normal
Saturation : Normal
Sharpness : Normal
Lens Info : 24mm f/2
Lens Model : 24mm F2 ZA SSM
GPS Version ID : 2.3.0.0
GPS Latitude Ref : North
GPS Longitude Ref : West
GPS Altitude Ref : Below Sea Level
GPS Time Stamp : 03:22:53
GPS Status : Measurement Active
GPS Measure Mode : 3-Dimensional Measurement
GPS Dilution Of Precision : 1.5338
GPS Speed Ref : km/h
GPS Speed : 0.044
GPS Track Ref : True North
GPS Track : 351.85
GPS Map Datum : WGS-84
GPS Date Stamp : 2012:06:28
GPS Differential : No Correction
Profile Description : sRGB IEC61966-2.1
Creator Tool : Adobe Photoshop Lightroom 3.5 (Windows)
Lens : 24mm F2 ZA SSM
Date Created : 2012:06:27 19:22:52
Version : 6.5
Process Version : 5.7
Color Temperature : 5200
Tint : +2
Exposure : +0.32
Shadows : 4
Brightness : +50
Luminance Smoothing : 0
Color Noise Reduction : 25
Chromatic Aberration R : 0
Chromatic Aberration B : 0
Vignette Amount : 0
Shadow Tint : 0
Red Hue : 0
Red Saturation : 0
Green Hue : 0
Green Saturation : 0
Blue Hue : 0
Blue Saturation : 0
Fill Light : 53
Vibrance : 0
Highlight Recovery : 0
Clarity : +43
Defringe : 0
Hue Adjustment Red : 0
Hue Adjustment Orange : -48
Hue Adjustment Yellow : -11
Hue Adjustment Green : +7
Hue Adjustment Aqua : +5
Hue Adjustment Blue : +5
Hue Adjustment Purple : 0
Hue Adjustment Magenta : 0
Saturation Adjustment Red : +5
Saturation Adjustment Orange : 0
Saturation Adjustment Yellow : +9
Saturation Adjustment Green : +11
Saturation Adjustment Aqua : 0
Saturation Adjustment Blue : +5
Saturation Adjustment Purple : 0
Saturation Adjustment Magenta : 0
Luminance Adjustment Red : +2
Luminance Adjustment Orange : 0
Luminance Adjustment Yellow : -7
Luminance Adjustment Green : +45
Luminance Adjustment Aqua : 0
Luminance Adjustment Blue : -43
Luminance Adjustment Purple : 0
Luminance Adjustment Magenta : 0
Split Toning Shadow Hue : 0
Split Toning Shadow Saturation : 0
Split Toning Highlight Hue : 0
Split Toning Highlight Saturation : 0
Split Toning Balance : 0
Parametric Shadows : +1
Parametric Darks : +7
Parametric Lights : -3
Parametric Highlights : +18
Parametric Shadow Split : 25
Parametric Midtone Split : 50
Parametric Highlight Split : 75
Sharpen Radius : +1.0
Sharpen Detail : 25
Sharpen Edge Masking : 0
Post Crop Vignette Amount : 0
Grain Amount : 0
Color Noise Reduction Detail : 50
Lens Profile Enable : 0
Lens Manual Distortion Amount : 0
Perspective Vertical : 0
Perspective Horizontal : 0
Perspective Rotate : 0.0
Perspective Scale : 100
Convert To Grayscale : False
Tone Curve Name : Medium Contrast
Camera Profile : Adobe Standard
Lens Profile Setup : LensDefaults
Has Settings : True
Has Crop : False
Already Applied : True
Tone Curve : 0, 0, 32, 22, 64, 56, 128, 128, 192, 196, 255, 255
Paint Correction What : Correction
Paint Correction Amount : 1.000000
Paint Correction Active : true
Paint Correction Exposure : -0.170750
Paint Correction Saturation : 0.000000
Paint Correction Contrast : 0.000000
Paint Correction Clarity : 0.000000
Paint Correction Sharpness : 0.000000
Paint Correction Brightness : 0.000000
Paint Correction Toning Hue : 0.000000
Paint Correction Toning Saturation : 0.000000
Paint Correction Mask What : Mask/Paint
Paint Correction Mask Value : 1.000000
Paint Correction Mask Radius : 0.066061
Paint Correction Mask Flow : 1.000000
Paint Correction Mask Center Weight : 0.120166
Image Width : 300
Image Height : 200
Bits Per Sample : 8
Color Components : 3
Aperture : 5.6
Image Size : 300x200
Megapixels : 0.060
Scale Factor To 35 mm Equivalent : 1.5
Shutter Speed : 1/640
GPS Altitude : 1.4 m Below Sea Level
GPS Date/Time : 2012:06:28 03:22:53Z
GPS Latitude : 47 deg 59' 25.55" N
GPS Longitude : 122 deg 9' 22.97" W
Circle Of Confusion : 0.020 mm
Field Of View : 53.1 deg
Focal Length : 24.0 mm (35 mm equivalent: 36.0 mm)
GPS Position : 47 deg 59' 25.55" N, 122 deg 9' 22.97" W
Hyperfocal Distance : 5.13 m
Light Value : 14.3
Lens ID : Carl Zeiss Distagon T* 24mm F2 ZA SSM (SAL24F20Z)