Uber Exif Photo
Copyright Flag : False
Make : Canon
Camera Model Name : Canon EOS 5D Mark II
Orientation : Horizontal (normal)
Software : Adobe Photoshop Elements 7.0 Windows
Modify Date : 2012:06:20 23:26:56
Exposure Time : 1/80
F Number : 2.8
Exposure Program : Aperture-priority AE
ISO : 200
Date/Time Original : 2012:06:14 07:29:24
Create Date : 2012:06:14 07:29:24
Shutter Speed Value : 1/80
Aperture Value : 2.8
Exposure Compensation : 0
Max Aperture Value : 2.0
Metering Mode : Multi-segment
Focal Length : 35.0 mm
Color Space : Uncalibrated
Exif Image Width : 1318
Exif Image Height : 2000
Custom Rendered : Normal
Exposure Mode : Auto
White Balance : Manual
Scene Capture Type : Standard
Profile Description : Adobe RGB (1998)
Date/Time Digitized : 2012:06:14 07:29:24.77+01:00
Rating : 0
Creator Tool : Adobe Photoshop Elements 7.0 Windows
Serial Number : 3231605256
Lens Info : 35mm f/?
Lens : 35mm
Image Number : 0
Flash Compensation : 0
Firmware : 2.0.9
Raw File Name : _MG_2272.CR2
Version : 5.2
Color Temperature : 4850
Tint : 0
Exposure : 0.00
Shadows : 7
Brightness : +50
Contrast : +26
Saturation : +3
Sharpness : 50
Luminance Smoothing : 0
Color Noise Reduction : 25
Chromatic Aberration R : 0
Chromatic Aberration B : 0
Vignette Amount : 0
Shadow Tint : 0
Red Hue : 0
Red Saturation : 0
Green Hue : 0
Green Saturation : 0
Blue Hue : 0
Blue Saturation : 0
Fill Light : 3
Vibrance : 0
Highlight Recovery : 18
Clarity : 0
Defringe : 0
Hue Adjustment Red : 0
Hue Adjustment Orange : 0
Hue Adjustment Yellow : 0
Hue Adjustment Green : 0
Hue Adjustment Aqua : 0
Hue Adjustment Blue : 0
Hue Adjustment Purple : 0
Hue Adjustment Magenta : 0
Saturation Adjustment Red : 0
Saturation Adjustment Orange : 0
Saturation Adjustment Yellow : 0
Saturation Adjustment Green : 0
Saturation Adjustment Aqua : 0
Saturation Adjustment Blue : 0
Saturation Adjustment Purple : 0
Saturation Adjustment Magenta : 0
Luminance Adjustment Red : 0
Luminance Adjustment Orange : 0
Luminance Adjustment Yellow : 0
Luminance Adjustment Green : 0
Luminance Adjustment Aqua : 0
Luminance Adjustment Blue : 0
Luminance Adjustment Purple : 0
Luminance Adjustment Magenta : 0
Split Toning Shadow Hue : 0
Split Toning Shadow Saturation : 0
Split Toning Highlight Hue : 0
Split Toning Highlight Saturation : 0
Split Toning Balance : 0
Parametric Shadows : 0
Parametric Darks : 0
Parametric Lights : 0
Parametric Highlights : 0
Parametric Shadow Split : 25
Parametric Midtone Split : 50
Parametric Highlight Split : 75
Sharpen Radius : +0.7
Sharpen Detail : 50
Sharpen Edge Masking : 20
Post Crop Vignette Amount : 0
Convert To Grayscale : False
Tone Curve Name : Medium Contrast
Camera Profile : Matrix
Has Settings : True
Has Crop : False
Already Applied : True
Format : image/jpeg
Color Mode : RGB
ICC Profile Name : Adobe RGB (1998)
Flash Fired : False
Flash Return : No return detection
Flash Mode : Off
Flash Function : False
Flash Red Eye Mode : False
Tone Curve : 0, 0, 32, 22, 64, 56, 128, 128, 192, 196, 255, 255
Image Width : 198
Image Height : 300
Bits Per Sample : 8
Color Components : 3
Aperture : 2.8
Image Size : 198x300
Megapixels : 0.059
Scale Factor To 35 mm Equivalent : 1.0
Shutter Speed : 1/80
Create Date : 2012:06:14 07:29:24.77
Date/Time Original : 2012:06:14 07:29:24.77
Modify Date : 2012:06:20 23:26:56.77
Flash : Off, Did not fire
Circle Of Confusion : 0.031 mm
Field Of View : 55.6 deg
Focal Length : 35.0 mm (35 mm equivalent: 34.2 mm)
Hyperfocal Distance : 14.21 m
Light Value : 8.3
Lens ID : 35mm