Uber Exif Photo
Keywords : boardwalk, dec, elwick bay, gasp
By-line : Philip Northeast
Copyright Notice : Notheast Media
Copyright Flag : True
Make : PENTAX
Camera Model Name : PENTAX K-5
Software : Adobe Photoshop Lightroom 3.6 (Windows)
Modify Date : 2012:04:12 11:19:03
Artist : Philip Northeast
Copyright : Notheast Media
Exposure Time : 1/80
Exposure Program : Aperture-priority AE
ISO : 80
Date/Time Original : 2012:04:11 15:20:36
Create Date : 2012:04:11 15:20:36
Shutter Speed Value : 1/80
Exposure Compensation : 0
Metering Mode : Center-weighted average
Flash : Off, Did not fire
Focal Length : 50.0 mm
Sensing Method : One-chip color area
Custom Rendered : Normal
Exposure Mode : Auto
White Balance : Auto
Focal Length In 35mm Format : 75 mm
Scene Capture Type : Standard
Contrast : Normal
Saturation : Normal
Sharpness : Normal
Subject Distance Range : Unknown
Profile Description : sRGB IEC61966-2.1
Format : image/jpeg
Creator Tool : Adobe Photoshop Lightroom 3.6 (Windows)
Rating : 1
Date Created : 2011:12:03
Marked : True
Version : 6.6
Process Version : 5.7
Color Temperature : 5700
Tint : +17
Exposure : 0.00
Shadows : 1
Brightness : +64
Luminance Smoothing : 0
Color Noise Reduction : 25
Chromatic Aberration R : 0
Chromatic Aberration B : 0
Vignette Amount : 0
Shadow Tint : 0
Red Hue : 0
Red Saturation : 0
Green Hue : 0
Green Saturation : 0
Blue Hue : 0
Blue Saturation : 0
Fill Light : 0
Vibrance : +15
Highlight Recovery : 0
Clarity : +49
Defringe : 0
Hue Adjustment Red : 0
Hue Adjustment Orange : 0
Hue Adjustment Yellow : 0
Hue Adjustment Green : 0
Hue Adjustment Aqua : 0
Hue Adjustment Blue : 0
Hue Adjustment Purple : 0
Hue Adjustment Magenta : 0
Saturation Adjustment Red : 0
Saturation Adjustment Orange : 0
Saturation Adjustment Yellow : 0
Saturation Adjustment Green : 0
Saturation Adjustment Aqua : 0
Saturation Adjustment Blue : 0
Saturation Adjustment Purple : 0
Saturation Adjustment Magenta : 0
Luminance Adjustment Red : 0
Luminance Adjustment Orange : 0
Luminance Adjustment Yellow : 0
Luminance Adjustment Green : 0
Luminance Adjustment Aqua : 0
Luminance Adjustment Blue : 0
Luminance Adjustment Purple : 0
Luminance Adjustment Magenta : 0
Split Toning Shadow Hue : 0
Split Toning Shadow Saturation : 0
Split Toning Highlight Hue : 0
Split Toning Highlight Saturation : 0
Split Toning Balance : 0
Parametric Shadows : 0
Parametric Darks : 0
Parametric Lights : +1
Parametric Highlights : 0
Parametric Shadow Split : 25
Parametric Midtone Split : 50
Parametric Highlight Split : 75
Sharpen Radius : +1.0
Sharpen Detail : 25
Sharpen Edge Masking : 0
Post Crop Vignette Amount : 0
Grain Amount : 0
Color Noise Reduction Detail : 50
Lens Profile Enable : 0
Lens Manual Distortion Amount : 0
Perspective Vertical : 0
Perspective Horizontal : 0
Perspective Rotate : 0.0
Perspective Scale : 100
Convert To Grayscale : False
Tone Curve Name : Medium Contrast
Camera Profile : Adobe Standard
Lens Profile Setup : LensDefaults
Has Settings : True
Crop Top : 0.01364
Crop Left : 0.01364
Crop Bottom : 0.98636
Crop Right : 0.98636
Crop Angle : 0
Crop Constrain To Warp : 0
Crop Width : 1800
Crop Height : 1192
Crop Unit : pixels
Has Crop : True
Already Applied : True
Creator : Philip Northeast
Rights : Notheast Media
Subject : boardwalk, dec, elwick bay, gasp
Usage Terms : All Rights Reserved - no copy without written permission
Creator Postal Code : 7010
Creator Work Telephone : 610408778754
Creator Region : Tasmania
Creator Country : Australia
Creator City : Glenorchy
Creator Work Email : northeastmedia@bigpond.com
Creator Address : 12 Verbena Pl
Creator Work URL : philnortheast.com
Tone Curve : 0, 0, 32, 22, 64, 56, 128, 128, 192, 196, 255, 255
Gradient Based Corr What : Correction
Gradient Based Corr Amount : 1.000000
Gradient Based Corr Active : true
Gradient Based Corr Exposure : -0.122000
Gradient Based Corr Saturation : 0.000000
Gradient Based Corr Contrast : 0.000000
Gradient Based Corr Clarity : 0.000000
Gradient Based Corr Sharpness : 0.000000
Gradient Based Corr Brightness : -0.048780
Gradient Based Corr Toning Hue : 240.000000
Gradient Based Corr Toning Saturation : 0.000000
Gradient Based Corr Mask What : Mask/Gradient
Gradient Based Corr Mask Value : 1.000000
Gradient Based Corr Mask Zero X : 0.467532
Gradient Based Corr Mask Zero Y : 0.634454
Gradient Based Corr Mask Full X : 0.467532
Gradient Based Corr Mask Full Y : 0.007003
Image Width : 300
Image Height : 199
Bits Per Sample : 8
Color Components : 3
Image Size : 300x199
Megapixels : 0.060
Scale Factor To 35 mm Equivalent : 1.5
Shutter Speed : 1/80
Circle Of Confusion : 0.020 mm
Field Of View : 27.0 deg
Focal Length : 50.0 mm (35 mm equivalent: 75.0 mm)
Lens ID : M-42 or No Lens