Uber Exif Photo
Keywords : zeiss zf 50 makro
Make : Canon
Camera Model Name : Canon EOS 5D Mark II
Software : Adobe Photoshop Lightroom 3.4
Modify Date : 2012:02:12 02:11:33
Exposure Time : 1/60
Exposure Program : Aperture-priority AE
ISO : 100
Date/Time Original : 2012:02:11 15:33:08
Create Date : 2012:02:11 15:33:08
Shutter Speed Value : 1/60
Exposure Compensation : 0
Metering Mode : Center-weighted average
Flash : Off, Did not fire
Focal Length : 50.0 mm
Custom Rendered : Normal
Exposure Mode : Auto
White Balance : Manual
Scene Capture Type : Standard
Serial Number : 1831108037
Image Number : 0
Flash Compensation : 0
Firmware : 2.0.9
Label : Green
Creator Tool : Adobe Photoshop Lightroom 3.4
Date Created : 2012:02:11 15:33:08.25
Version : 6.4
Process Version : 5.7
Color Temperature : 4644
Tint : +3
Exposure : 0.00
Shadows : 0
Brightness : +50
Contrast : +20
Sharpness : 80
Luminance Smoothing : 0
Color Noise Reduction : 25
Chromatic Aberration R : 0
Chromatic Aberration B : 0
Vignette Amount : 0
Shadow Tint : 0
Red Hue : 0
Red Saturation : 0
Green Hue : 0
Green Saturation : 0
Blue Hue : 0
Blue Saturation : 0
Fill Light : 0
Highlight Recovery : 30
Clarity : 0
Defringe : 0
Gray Mixer Red : -15
Gray Mixer Orange : -26
Gray Mixer Yellow : -31
Gray Mixer Green : -32
Gray Mixer Aqua : -11
Gray Mixer Blue : +30
Gray Mixer Purple : +30
Gray Mixer Magenta : +7
Split Toning Shadow Hue : 0
Split Toning Shadow Saturation : 0
Split Toning Highlight Hue : 0
Split Toning Highlight Saturation : 0
Split Toning Balance : 0
Parametric Shadows : -15
Parametric Darks : 0
Parametric Lights : 0
Parametric Highlights : 0
Parametric Shadow Split : 14
Parametric Midtone Split : 50
Parametric Highlight Split : 75
Sharpen Radius : +2.0
Sharpen Detail : 5
Sharpen Edge Masking : 5
Post Crop Vignette Amount : 0
Grain Amount : 0
Color Noise Reduction Detail : 50
Lens Profile Enable : 0
Lens Manual Distortion Amount : 0
Perspective Vertical : 0
Perspective Horizontal : 0
Perspective Rotate : 0.0
Perspective Scale : 100
Convert To Grayscale : True
Tone Curve Name : Linear
Camera Profile : 5DMKIICorrected
Lens Profile Setup : LensDefaults
Has Settings : True
Has Crop : False
Already Applied : True
Subject : zeiss zf 50 makro
Tone Curve : 0, 0, 255, 255
Paint Correction What : Correction
Paint Correction Amount : 1.000000
Paint Correction Active : true
Paint Correction Exposure : 0.000000
Paint Correction Saturation : 0.000000
Paint Correction Contrast : 0.000000
Paint Correction Clarity : 0.220000
Paint Correction Sharpness : 0.366000
Paint Correction Brightness : 0.000000
Paint Correction Toning Hue : 240.000000
Paint Correction Toning Saturation : 0.000000
Paint Correction Mask What : Mask/Paint
Paint Correction Mask Value : 1.000000
Paint Correction Mask Radius : 0.152732
Paint Correction Mask Flow : 1.000000
Paint Correction Mask Center Weight : 0.049246
Image Width : 300
Image Height : 200
Bits Per Sample : 8
Color Components : 1
Image Size : 300x200
Megapixels : 0.060
Scale Factor To 35 mm Equivalent : 1.0
Shutter Speed : 1/60
Create Date : 2012:02:11 15:33:08.25
Date/Time Original : 2012:02:11 15:33:08.25
Circle Of Confusion : 0.031 mm
Field Of View : 40.5 deg
Focal Length : 50.0 mm (35 mm equivalent: 48.8 mm)