Uber Exif Photo
Caption-Abstract : SONY DSC
Image Description : SONY DSC
Make : SONY
Camera Model Name : NEX-5
Orientation : Horizontal (normal)
Software : Adobe Photoshop CS5 Windows
Modify Date : 2011:12:11 21:38:47
Exposure Time : 1/80
F Number : 1.0
Exposure Program : Aperture-priority AE
ISO : 400
Sensitivity Type : Recommended Exposure Index
Recommended Exposure Index : 400
Date/Time Original : 2011:12:07 20:13:56
Create Date : 2011:12:07 20:13:56
Shutter Speed Value : 1/80
Aperture Value : 1.0
Brightness Value : -1.25
Exposure Compensation : +0.7
Max Aperture Value : 1.0
Metering Mode : Center-weighted average
Light Source : Unknown
Flash : Off, Did not fire
Color Space : Uncalibrated
Exif Image Width : 3287
Exif Image Height : 2191
Scene Type : Directly photographed
Custom Rendered : Normal
Exposure Mode : Auto
White Balance : Auto
Scene Capture Type : Standard
Contrast : Normal
Saturation : Normal
Sharpness : Normal
Lens Model : ----
Profile Description : Adobe RGB (1998)
Format : image/jpeg
Creator Tool : Adobe Photoshop CS5 Windows
Rating : 0
Lens : ----
Date Created : 2011:12:07 20:13:56
Color Mode : RGB
ICC Profile Name : Adobe RGB (1998)
Raw File Name : _DSC1197.ARW
Version : 6.4.1
Process Version : 5.7
Color Temperature : 3200
Tint : -20
Exposure : 0.00
Shadows : 0
Brightness : +60
Luminance Smoothing : 50
Color Noise Reduction : 25
Chromatic Aberration R : 0
Chromatic Aberration B : 0
Vignette Amount : 0
Shadow Tint : 0
Red Hue : 0
Red Saturation : 0
Green Hue : 0
Green Saturation : 0
Blue Hue : 0
Blue Saturation : 0
Fill Light : 23
Vibrance : 0
Highlight Recovery : 33
Clarity : 0
Defringe : 0
Hue Adjustment Red : 0
Hue Adjustment Orange : 0
Hue Adjustment Yellow : 0
Hue Adjustment Green : 0
Hue Adjustment Aqua : 0
Hue Adjustment Blue : 0
Hue Adjustment Purple : 0
Hue Adjustment Magenta : 0
Saturation Adjustment Red : 0
Saturation Adjustment Orange : 0
Saturation Adjustment Yellow : 0
Saturation Adjustment Green : 0
Saturation Adjustment Aqua : 0
Saturation Adjustment Blue : 0
Saturation Adjustment Purple : 0
Saturation Adjustment Magenta : 0
Luminance Adjustment Red : 0
Luminance Adjustment Orange : 0
Luminance Adjustment Yellow : 0
Luminance Adjustment Green : 0
Luminance Adjustment Aqua : 0
Luminance Adjustment Blue : 0
Luminance Adjustment Purple : 0
Luminance Adjustment Magenta : 0
Split Toning Shadow Hue : 0
Split Toning Shadow Saturation : 0
Split Toning Highlight Hue : 0
Split Toning Highlight Saturation : 0
Split Toning Balance : 0
Parametric Shadows : 0
Parametric Darks : 0
Parametric Lights : 0
Parametric Highlights : 0
Parametric Shadow Split : 25
Parametric Midtone Split : 50
Parametric Highlight Split : 75
Sharpen Radius : +1.0
Sharpen Detail : 25
Sharpen Edge Masking : 0
Post Crop Vignette Amount : 0
Grain Amount : 0
Luminance Noise Reduction Detail : 50
Color Noise Reduction Detail : 50
Luminance Noise Reduction Contrast : 50
Lens Profile Enable : 0
Lens Manual Distortion Amount : 0
Perspective Vertical : 0
Perspective Horizontal : 0
Perspective Rotate : 0.0
Perspective Scale : 100
Convert To Grayscale : False
Tone Curve Name : Strong Contrast
Camera Profile : Adobe Standard
Lens Profile Setup : LensDefaults
Has Settings : True
Crop Top : 0.023479
Crop Left : 0.034801
Crop Bottom : 0.979723
Crop Right : 0.989379
Crop Angle : 0
Crop Constrain To Warp : 1
Crop Width : 2
Crop Height : 3
Crop Unit : Unknown (3)
Has Crop : True
Already Applied : True
Description : SONY DSC
Tone Curve : 0, 0, 32, 16, 64, 50, 128, 128, 192, 202, 255, 255
Image Width : 300
Image Height : 200
Bits Per Sample : 8
Color Components : 3
Aperture : 1.0
Image Size : 300x200
Megapixels : 0.060
Shutter Speed : 1/80
Light Value : 4.3