Uber Exif Photo
Make : Canon
Camera Model Name : Canon EOS 5D Mark II
Orientation : Horizontal (normal)
Software : Adobe Photoshop CS5 Windows
Modify Date : 2011:10:04 23:52:38
Exposure Time : 1/8
F Number : 8.0
Exposure Program : Aperture-priority AE
ISO : 200
Date/Time Original : 2011:10:04 15:46:42
Create Date : 2011:10:04 15:46:42
Shutter Speed Value : 1/8
Aperture Value : 8.0
Exposure Compensation : +2
Max Aperture Value : 3.5
Metering Mode : Multi-segment
Flash : Off, Did not fire
Focal Length : 18.0 mm
Color Space : Uncalibrated
Exif Image Width : 2000
Exif Image Height : 3000
Custom Rendered : Normal
Exposure Mode : Auto bracket
White Balance : Auto
Scene Capture Type : Standard
Serial Number : 330232965
Lens Info : 18mm f/?
Lens Model : Zeiss Distagon T* 3.5/18 ZE
Profile Description : Adobe RGB (1998)
Lens : Zeiss Distagon T* 3.5/18 ZE
Image Number : 0
Flash Compensation : 0
Firmware : 2.0.9
Rating : 1
Date Created : 2011:10:04 15:46:42.077
Color Mode : RGB
ICC Profile Name : Adobe RGB (1998)
Format : image/jpeg
Raw File Name : _MG_7052.CR2
Version : 6.5
Process Version : 5.7
Color Temperature : 4100
Tint : +3
Exposure : 0.00
Shadows : 5
Brightness : +50
Contrast : +25
Saturation : 0
Sharpness : 60
Luminance Smoothing : 20
Color Noise Reduction : 25
Chromatic Aberration R : 0
Chromatic Aberration B : 0
Vignette Amount : 0
Shadow Tint : 0
Red Hue : 0
Red Saturation : 0
Green Hue : 0
Green Saturation : 0
Blue Hue : 0
Blue Saturation : 0
Fill Light : 20
Vibrance : 0
Highlight Recovery : 100
Clarity : 0
Defringe : 1
Hue Adjustment Red : 0
Hue Adjustment Orange : 0
Hue Adjustment Yellow : 0
Hue Adjustment Green : 0
Hue Adjustment Aqua : 0
Hue Adjustment Blue : 0
Hue Adjustment Purple : 0
Hue Adjustment Magenta : 0
Saturation Adjustment Red : 0
Saturation Adjustment Orange : 0
Saturation Adjustment Yellow : 0
Saturation Adjustment Green : 0
Saturation Adjustment Aqua : 0
Saturation Adjustment Blue : 0
Saturation Adjustment Purple : 0
Saturation Adjustment Magenta : 0
Luminance Adjustment Red : 0
Luminance Adjustment Orange : 0
Luminance Adjustment Yellow : 0
Luminance Adjustment Green : 0
Luminance Adjustment Aqua : 0
Luminance Adjustment Blue : 0
Luminance Adjustment Purple : 0
Luminance Adjustment Magenta : 0
Split Toning Shadow Hue : 0
Split Toning Shadow Saturation : 0
Split Toning Highlight Hue : 0
Split Toning Highlight Saturation : 0
Split Toning Balance : 0
Parametric Shadows : 0
Parametric Darks : 0
Parametric Lights : 0
Parametric Highlights : 0
Parametric Shadow Split : 25
Parametric Midtone Split : 50
Parametric Highlight Split : 75
Sharpen Radius : +0.5
Sharpen Detail : 25
Sharpen Edge Masking : 0
Post Crop Vignette Amount : 0
Grain Amount : 0
Luminance Noise Reduction Detail : 50
Color Noise Reduction Detail : 50
Luminance Noise Reduction Contrast : 0
Lens Profile Enable : 1
Lens Manual Distortion Amount : 0
Perspective Vertical : 0
Perspective Horizontal : 0
Perspective Rotate : 0.0
Perspective Scale : 100
Convert To Grayscale : False
Tone Curve Name : Linear
Camera Profile : Adobe Standard
Lens Profile Setup : LensDefaults
Lens Profile Name : Adobe (Zeiss Distagon T* 3,5/18 ZE)
Lens Profile Filename : Canon (Zeiss Distagon T 18 f35 ZE).lcp
Lens Profile Distortion Scale : 100
Lens Profile Chromatic Aberration Scale : 100
Lens Profile Vignetting Scale : 100
Has Settings : True
Has Crop : False
Already Applied : True
Tone Curve : 0, 0, 255, 255
Image Width : 200
Image Height : 300
Bits Per Sample : 8
Color Components : 3
Aperture : 8.0
Image Size : 200x300
Megapixels : 0.060
Scale Factor To 35 mm Equivalent : 1.0
Shutter Speed : 1/8
Create Date : 2011:10:04 15:46:42.77
Date/Time Original : 2011:10:04 15:46:42.77
Modify Date : 2011:10:04 23:52:38.77
Circle Of Confusion : 0.031 mm
Field Of View : 91.4 deg
Focal Length : 18.0 mm (35 mm equivalent: 17.6 mm)
Hyperfocal Distance : 1.32 m
Light Value : 8.0
Lens ID : Carl Zeiss Distagon T* 18mm f/3.5 ZE