Uber Exif Photo
By-line : unknown
Photometric Interpretation : BlackIsZero
Make : Canon
Camera Model Name : Canon EOS 20D
Orientation : Horizontal (normal)
Samples Per Pixel : 4
Software : Adobe Photoshop CS5 Macintosh
Modify Date : 2011:09:12 18:17:39
Artist : unknown
Exposure Time : 1/125
F Number : 5.0
Exposure Program : Manual
ISO : 100
Date/Time Original : 2011:09:10 21:20:19
Create Date : 2011:09:10 21:20:19
Shutter Speed Value : 1/125
Aperture Value : 5.0
Exposure Compensation : 0
Max Aperture Value : 2.0
Metering Mode : Average
Flash : Off, Did not fire
Focal Length : 100.0 mm
Color Space : Uncalibrated
Exif Image Width : 701
Exif Image Height : 876
Custom Rendered : Normal
Exposure Mode : Manual
White Balance : Auto
Scene Capture Type : Standard
Owner Name : unknown
Serial Number : 1320913116
Lens Info : 100mm f/?
Lens Model : 100.0 mm
Format : image/jpeg
Lens : 100.0 mm
Image Number : 44
Flash Compensation : 0
Firmware : 2.0.2
Rating : 3
Creator Tool : Adobe Photoshop CS5 Macintosh
Date Created : 2011:09:10 21:20:19
Color Mode : Grayscale
ICC Profile Name : Gray Gamma 2.2
Raw File Name : IMG_8236.CR2
Version : 6.4.1
Process Version : 5.7
Color Temperature : 4600
Tint : -4
Exposure : +0.35
Shadows : 40
Brightness : +50
Contrast : +61
Sharpness : 58
Luminance Smoothing : 0
Color Noise Reduction : 25
Chromatic Aberration R : 0
Chromatic Aberration B : 0
Vignette Amount : 0
Shadow Tint : 0
Red Hue : 0
Red Saturation : 0
Green Hue : 0
Green Saturation : 0
Blue Hue : 0
Blue Saturation : 0
Fill Light : 0
Highlight Recovery : 0
Clarity : +19
Defringe : 0
Gray Mixer Red : 0
Gray Mixer Orange : 0
Gray Mixer Yellow : 0
Gray Mixer Green : 0
Gray Mixer Aqua : 0
Gray Mixer Blue : 0
Gray Mixer Purple : 0
Gray Mixer Magenta : 0
Split Toning Shadow Hue : 0
Split Toning Shadow Saturation : 0
Split Toning Highlight Hue : 0
Split Toning Highlight Saturation : 0
Split Toning Balance : 0
Parametric Shadows : 0
Parametric Darks : -55
Parametric Lights : 0
Parametric Highlights : 0
Parametric Shadow Split : 25
Parametric Midtone Split : 50
Parametric Highlight Split : 75
Sharpen Radius : +1.0
Sharpen Detail : 25
Sharpen Edge Masking : 0
Post Crop Vignette Amount : 0
Grain Amount : 0
Color Noise Reduction Detail : 50
Lens Profile Enable : 0
Lens Manual Distortion Amount : 0
Perspective Vertical : 0
Perspective Horizontal : 0
Perspective Rotate : 0.0
Perspective Scale : 100
Convert To Grayscale : True
Tone Curve Name : Medium Contrast
Camera Profile : Adobe Standard
Lens Profile Setup : LensDefaults
Has Settings : True
Crop Top : 0
Crop Left : 0.099642
Crop Bottom : 1
Crop Right : 0.932976
Crop Angle : 0
Crop Constrain To Warp : 1
Crop Width : 4
Crop Height : 5
Crop Unit : Unknown (3)
Has Crop : True
Already Applied : True
Creator : unknown
Tone Curve : 0, 0, 32, 22, 64, 56, 128, 128, 192, 196, 255, 255
Image Width : 240
Image Height : 300
Bits Per Sample : 8
Color Components : 1
Aperture : 5.0
Image Size : 240x300
Megapixels : 0.072
Scale Factor To 35 mm Equivalent : 1.6
Shutter Speed : 1/125
Circle Of Confusion : 0.019 mm
Field Of View : 12.8 deg
Focal Length : 100.0 mm (35 mm equivalent: 160.1 mm)
Hyperfocal Distance : 106.60 m
Light Value : 11.6
Lens ID : 100.0mm