Uber Exif Photo
By-line : unknown
Photometric Interpretation : BlackIsZero
Make : Canon
Camera Model Name : Canon EOS 20D
Orientation : Horizontal (normal)
Samples Per Pixel : 4
Software : Adobe Photoshop CS5 Macintosh
Modify Date : 2011:09:12 18:18:42
Artist : unknown
Exposure Time : 1/60
F Number : 6.3
Exposure Program : Manual
ISO : 100
Date/Time Original : 2011:09:10 21:00:47
Create Date : 2011:09:10 21:00:47
Shutter Speed Value : 1/60
Aperture Value : 6.3
Exposure Compensation : 0
Max Aperture Value : 2.0
Metering Mode : Average
Flash : Off, Did not fire
Focal Length : 100.0 mm
Color Space : Uncalibrated
Exif Image Width : 631
Exif Image Height : 789
Custom Rendered : Normal
Exposure Mode : Manual
White Balance : Auto
Scene Capture Type : Standard
Owner Name : unknown
Serial Number : 1320913116
Lens Info : 100mm f/?
Lens Model : 100.0 mm
Format : image/jpeg
Lens : 100.0 mm
Image Number : 9
Flash Compensation : 0
Firmware : 2.0.2
Rating : 3
Creator Tool : Adobe Photoshop CS5 Macintosh
Date Created : 2011:09:10 21:00:47
Color Mode : Grayscale
ICC Profile Name : Gray Gamma 2.2
Raw File Name : IMG_8201.CR2
Version : 6.4.1
Process Version : 5.7
Color Temperature : 6500
Tint : +10
Exposure : 0.00
Shadows : 58
Brightness : +1
Contrast : +54
Sharpness : 51
Luminance Smoothing : 0
Color Noise Reduction : 25
Chromatic Aberration R : 0
Chromatic Aberration B : 0
Vignette Amount : 0
Shadow Tint : 0
Red Hue : 0
Red Saturation : 0
Green Hue : 0
Green Saturation : 0
Blue Hue : 0
Blue Saturation : 0
Fill Light : 0
Highlight Recovery : 0
Clarity : +31
Defringe : 0
Gray Mixer Red : +3
Gray Mixer Orange : -15
Gray Mixer Yellow : -23
Gray Mixer Green : -30
Gray Mixer Aqua : -24
Gray Mixer Blue : +11
Gray Mixer Purple : +27
Gray Mixer Magenta : +19
Split Toning Shadow Hue : 0
Split Toning Shadow Saturation : 0
Split Toning Highlight Hue : 0
Split Toning Highlight Saturation : 0
Split Toning Balance : 0
Parametric Shadows : 0
Parametric Darks : -33
Parametric Lights : 0
Parametric Highlights : 0
Parametric Shadow Split : 25
Parametric Midtone Split : 50
Parametric Highlight Split : 75
Sharpen Radius : +1.0
Sharpen Detail : 25
Sharpen Edge Masking : 0
Post Crop Vignette Amount : 0
Grain Amount : 0
Color Noise Reduction Detail : 50
Lens Profile Enable : 0
Lens Manual Distortion Amount : 0
Perspective Vertical : 0
Perspective Horizontal : 0
Perspective Rotate : 0.0
Perspective Scale : 100
Convert To Grayscale : True
Tone Curve Name : Medium Contrast
Camera Profile : Adobe Standard
Lens Profile Setup : LensDefaults
Has Settings : True
Crop Top : 0.065952
Crop Left : 0
Crop Bottom : 0.936142
Crop Right : 0.766411
Crop Angle : -1.5363
Crop Constrain To Warp : 1
Crop Width : 4
Crop Height : 5
Crop Unit : Unknown (3)
Has Crop : True
Already Applied : True
Creator : unknown
Tone Curve : 0, 0, 32, 22, 64, 56, 128, 128, 192, 196, 255, 255
Image Width : 240
Image Height : 300
Bits Per Sample : 8
Color Components : 1
Aperture : 6.3
Image Size : 240x300
Megapixels : 0.072
Scale Factor To 35 mm Equivalent : 1.6
Shutter Speed : 1/60
Circle Of Confusion : 0.019 mm
Field Of View : 12.8 deg
Focal Length : 100.0 mm (35 mm equivalent: 160.1 mm)
Hyperfocal Distance : 84.60 m
Light Value : 11.2
Lens ID : 100.0mm