Uber Exif Photo
By-line : Russell J.T. Dyer
Copyright Notice : Russell J.T. Dyer 2011, All Rights Reserved.
Caption-Abstract : Autosave-File vom d-lab2/3 der AgfaPhoto GmbH
Image Description : Autosave-File vom d-lab2/3 der AgfaPhoto GmbH
Make : Zeiss Ikon
Camera Model Name : Zeiss Ikon
Software : Adobe Photoshop Lightroom 3.4.1
Modify Date : 2011:09:09 08:17:36
Artist : Russell J.T. Dyer
Copyright : Russell J.T. Dyer 2011, All Rights Reserved.
ISO : 160
Create Date : 2011:06:11 14:30:00
Focal Length : 35.0 mm
Lens Model : Zeiss 35mm f/2.0 T* ZM Biogon
Profile Description : sRGB IEC61966-2.1
Lens : Zeiss 35mm f/2.0 T* ZM Biogon
Creator Tool : Adobe Photoshop Lightroom 3.4.1
Rating : 1
Version : 6.4.1
Process Version : 5.7
White Balance : Custom
Incremental Temperature : -7
Incremental Tint : +8
Exposure : +0.20
Shadows : 0
Brightness : +41
Contrast : +18
Saturation : +8
Sharpness : 0
Luminance Smoothing : 0
Color Noise Reduction : 0
Chromatic Aberration R : 0
Chromatic Aberration B : 0
Vignette Amount : 0
Shadow Tint : 0
Red Hue : 0
Red Saturation : 0
Green Hue : 0
Green Saturation : 0
Blue Hue : 0
Blue Saturation : 0
Fill Light : 26
Vibrance : 0
Highlight Recovery : 86
Clarity : +43
Defringe : 0
Hue Adjustment Red : 0
Hue Adjustment Orange : 0
Hue Adjustment Yellow : 0
Hue Adjustment Green : 0
Hue Adjustment Aqua : 0
Hue Adjustment Blue : 0
Hue Adjustment Purple : 0
Hue Adjustment Magenta : 0
Saturation Adjustment Red : 0
Saturation Adjustment Orange : 0
Saturation Adjustment Yellow : 0
Saturation Adjustment Green : 0
Saturation Adjustment Aqua : 0
Saturation Adjustment Blue : 0
Saturation Adjustment Purple : 0
Saturation Adjustment Magenta : 0
Luminance Adjustment Red : 0
Luminance Adjustment Orange : 0
Luminance Adjustment Yellow : 0
Luminance Adjustment Green : 0
Luminance Adjustment Aqua : 0
Luminance Adjustment Blue : 0
Luminance Adjustment Purple : 0
Luminance Adjustment Magenta : 0
Split Toning Shadow Hue : 0
Split Toning Shadow Saturation : 0
Split Toning Highlight Hue : 0
Split Toning Highlight Saturation : 0
Split Toning Balance : 0
Parametric Shadows : 0
Parametric Darks : 0
Parametric Lights : 0
Parametric Highlights : 0
Parametric Shadow Split : 25
Parametric Midtone Split : 50
Parametric Highlight Split : 75
Sharpen Radius : +1.0
Sharpen Detail : 25
Sharpen Edge Masking : 0
Post Crop Vignette Amount : 0
Grain Amount : 0
Lens Profile Enable : 0
Lens Manual Distortion Amount : 0
Perspective Vertical : 0
Perspective Horizontal : 0
Perspective Rotate : 0.0
Perspective Scale : 100
Convert To Grayscale : False
Tone Curve Name : Linear
Camera Profile : Embedded
Lens Profile Setup : LensDefaults
Has Settings : True
Crop Top : 0.162306
Crop Left : 0.21704
Crop Bottom : 0.943472
Crop Right : 0.998206
Crop Angle : 0
Crop Constrain To Warp : 0
Crop Width : 1024
Crop Height : 683
Crop Unit : pixels
Has Crop : True
Already Applied : True
Creator : Russell J.T. Dyer
Description : Autosave-File vom d-lab2/3 der AgfaPhoto GmbH
Rights : Russell J.T. Dyer 2011, All Rights Reserved.
Tone Curve : 0, 0, 255, 255
Image Width : 300
Image Height : 200
Bits Per Sample : 8
Color Components : 3
Image Size : 300x200
Megapixels : 0.060
Lens ID : Zeiss 35mm f/2.0 T* ZM Biogon