Uber Exif Photo
By-line : Photographer:
Make : Canon
Camera Model Name : Canon EOS 5D Mark II
Software : Adobe Photoshop Lightroom 3.4.1
Modify Date : 2011:08:14 23:26:31
Artist : Photographer:
Exposure Time : 1/125
F Number : 2.5
Exposure Program : Manual
ISO : 100
Date/Time Original : 2011:07:10 18:04:04
Create Date : 2011:07:10 18:04:04
Shutter Speed Value : 1/125
Aperture Value : 2.5
Exposure Compensation : 0
Max Aperture Value : 1.4
Metering Mode : Spot
Flash : Off, Did not fire
Focal Length : 50.0 mm
Custom Rendered : Normal
Exposure Mode : Manual
White Balance : Auto
Scene Capture Type : Standard
Serial Number : 2731504112
Lens Info : 50mm f/?
Lens Model : 50mm
Profile Description : sRGB IEC61966-2.1
Lens : 50mm
Image Number : 0
Flash Compensation : 0
Firmware : 2.0.8
Rating : 5
Creator Tool : Adobe Photoshop Lightroom 3.4.1
Date Created : 2011:07:10 18:04:04.35
Version : 6.4.1
Process Version : 5.7
Color Temperature : 6200
Tint : +15
Exposure : 0.00
Shadows : 13
Brightness : +41
Contrast : +84
Sharpness : 38
Luminance Smoothing : 1
Color Noise Reduction : 25
Chromatic Aberration R : 0
Chromatic Aberration B : 0
Vignette Amount : 0
Shadow Tint : 0
Red Hue : 0
Red Saturation : +65
Green Hue : 0
Green Saturation : +33
Blue Hue : 0
Blue Saturation : +100
Fill Light : 0
Highlight Recovery : 41
Clarity : +77
Defringe : 2
Gray Mixer Red : -6
Gray Mixer Orange : +16
Gray Mixer Yellow : -24
Gray Mixer Green : -27
Gray Mixer Aqua : -18
Gray Mixer Blue : -35
Gray Mixer Purple : +6
Gray Mixer Magenta : +4
Split Toning Shadow Hue : 0
Split Toning Shadow Saturation : 0
Split Toning Highlight Hue : 53
Split Toning Highlight Saturation : 35
Split Toning Balance : 0
Parametric Shadows : +52
Parametric Darks : -25
Parametric Lights : -31
Parametric Highlights : -27
Parametric Shadow Split : 25
Parametric Midtone Split : 50
Parametric Highlight Split : 75
Sharpen Radius : +1.4
Sharpen Detail : 28
Sharpen Edge Masking : 0
Post Crop Vignette Amount : 0
Grain Amount : 0
Luminance Noise Reduction Detail : 50
Color Noise Reduction Detail : 50
Luminance Noise Reduction Contrast : 0
Lens Profile Enable : 1
Lens Manual Distortion Amount : 0
Perspective Vertical : 0
Perspective Horizontal : 0
Perspective Rotate : 0.0
Perspective Scale : 100
Convert To Grayscale : True
Tone Curve Name : Medium Contrast
Camera Profile : Adobe Standard
Lens Profile Setup : LensDefaults
Lens Profile Name : Adobe (Zeiss Planar T* 1,4/50 ZE)
Lens Profile Filename : Canon (Zeiss Planar T 50 f14 ZE).lcp
Lens Profile Distortion Scale : 100
Lens Profile Chromatic Aberration Scale : 100
Lens Profile Vignetting Scale : 100
Has Settings : True
Crop Top : 0
Crop Left : 0.166362
Crop Bottom : 1
Crop Right : 0.946984
Crop Angle : 0
Crop Constrain To Warp : 0
Crop Width : 1124
Crop Height : 960
Crop Unit : pixels
Has Crop : True
Already Applied : True
Creator : Photographer:
Tone Curve : 0, 0, 32, 22, 64, 56, 128, 128, 192, 196, 255, 255
Image Width : 300
Image Height : 256
Bits Per Sample : 8
Color Components : 3
Aperture : 2.5
Image Size : 300x256
Megapixels : 0.077
Scale Factor To 35 mm Equivalent : 1.0
Shutter Speed : 1/125
Create Date : 2011:07:10 18:04:04.35
Date/Time Original : 2011:07:10 18:04:04.35
Circle Of Confusion : 0.031 mm
Field Of View : 40.5 deg
Focal Length : 50.0 mm (35 mm equivalent: 48.8 mm)
Hyperfocal Distance : 32.48 m
Light Value : 9.6
Lens ID : Carl Zeiss Planar T* 50mm f/1.4 ZE