Uber Exif Photo
Make : Canon
Camera Model Name : Canon EOS 7D
Modify Date : 2011:05:01 19:59:14
Exposure Time : 1/5000
F Number : 2.0
Exposure Program : Aperture-priority AE
ISO : 400
Sensitivity Type : Unknown
Date/Time Original : 2011:05:01 03:48:39
Create Date : 2011:05:01 03:48:39
Shutter Speed Value : 1/5000
Aperture Value : 2.0
Exposure Compensation : 0
Max Aperture Value : 2.0
Metering Mode : Multi-segment
Focal Length : 35.0 mm
Custom Rendered : Normal
Exposure Mode : Auto
White Balance : Auto
Scene Capture Type : Standard
Serial Number : 1170706630
Lens Info : 35mm f/?
Lens Model : Zeiss Distagon T* 2/35 ZE
Profile Description : sRGB IEC61966-2.1
Date/Time Digitized : 2011:05:01 03:48:39.00-05:00
Exif Image Width : 3456
Exif Image Height : 2304
Creator Tool : Adobe Photoshop Lightroom
Lens : Zeiss Distagon T* 2/35 ZE
Image Number : 0
Flash Compensation : 0
Firmware : 1.2.1
Version : 6.2
Process Version : 5.7
Incremental Temperature : +23
Incremental Tint : +49
Exposure : +0.70
Shadows : 8
Brightness : +57
Contrast : 0
Sharpness : 25
Luminance Smoothing : 0
Color Noise Reduction : 25
Chromatic Aberration R : 0
Chromatic Aberration B : 0
Vignette Amount : -41
Vignette Midpoint : 48
Shadow Tint : 0
Red Hue : 0
Red Saturation : -34
Green Hue : 0
Green Saturation : 0
Blue Hue : 0
Blue Saturation : +63
Fill Light : 0
Highlight Recovery : 0
Clarity : 0
Defringe : 0
Gray Mixer Red : -6
Gray Mixer Orange : -16
Gray Mixer Yellow : -21
Gray Mixer Green : -26
Gray Mixer Aqua : -20
Gray Mixer Blue : +8
Gray Mixer Purple : +16
Gray Mixer Magenta : +7
Split Toning Shadow Hue : 30
Split Toning Shadow Saturation : 28
Split Toning Highlight Hue : 50
Split Toning Highlight Saturation : 66
Split Toning Balance : 0
Parametric Shadows : -20
Parametric Darks : -2
Parametric Lights : +2
Parametric Highlights : 0
Parametric Shadow Split : 25
Parametric Midtone Split : 50
Parametric Highlight Split : 75
Sharpen Radius : +1.0
Sharpen Detail : 50
Sharpen Edge Masking : 0
Post Crop Vignette Amount : -35
Post Crop Vignette Midpoint : 50
Post Crop Vignette Feather : 50
Post Crop Vignette Roundness : 0
Post Crop Vignette Style : Highlight Priority
Post Crop Vignette Highlight Contrast : 0
Grain Amount : 0
Color Noise Reduction Detail : 50
Lens Profile Enable : 0
Lens Manual Distortion Amount : 0
Perspective Vertical : 0
Perspective Horizontal : 0
Perspective Rotate : 0.0
Perspective Scale : 100
Convert To Grayscale : True
Tone Curve Name : Linear
Camera Profile : Adobe Standard
Lens Profile Setup : LensDefaults
Has Settings : True
Has Crop : False
Already Applied : True
Flash Fired : False
Flash Return : No return detection
Flash Mode : Off
Flash Function : False
Flash Red Eye Mode : False
Tone Curve : 0, 0, 255, 255
Image Width : 300
Image Height : 200
Bits Per Sample : 8
Color Components : 3
Aperture : 2.0
Image Size : 300x200
Megapixels : 0.060
Scale Factor To 35 mm Equivalent : 1.6
Shutter Speed : 1/5000
Create Date : 2011:05:01 03:48:39.00
Date/Time Original : 2011:05:01 03:48:39.00
Flash : Off, Did not fire
Circle Of Confusion : 0.019 mm
Field Of View : 36.3 deg
Focal Length : 35.0 mm (35 mm equivalent: 55.0 mm)
Hyperfocal Distance : 32.01 m
Light Value : 12.3
Lens ID : Carl Zeiss Distagon T* 35mm f/2 ZE