Uber Exif Photo
Caption-Abstract : SONY DSC
Image Description : SONY DSC
Make : SONY
Camera Model Name : DSLR-A850
Software : DSLR-A850 v1.00
Modify Date : 2011:02:28 23:16:25
Exposure Time : 1/1600
F Number : 3.5
Exposure Program : Aperture-priority AE
ISO : 200
Sensitivity Type : Unknown
Date/Time Original : 2010:09:26 13:24:55
Create Date : 2010:09:26 13:24:55
Shutter Speed Value : 1/1600
Aperture Value : 3.5
Brightness Value : 9.25
Exposure Compensation : +0.3
Max Aperture Value : 2.8
Metering Mode : Center-weighted average
Light Source : Unknown
Focal Length : 50.0 mm
Scene Type : Directly photographed
Custom Rendered : Normal
Exposure Mode : Auto
White Balance : Auto
Focal Length In 35mm Format : 50 mm
Scene Capture Type : Standard
Contrast : Normal
Saturation : High
Sharpness : Hard
Lens Info : 24-70mm f/2.8
Lens Model : 24-70mm F2.8 ZA SSM
Profile Description : sRGB IEC61966-2.1
Date/Time Digitized : 2010:09:26 13:24:55+01:00
Exif Image Width : 2000
Exif Image Height : 1333
Creator Tool : Adobe Photoshop Lightroom 3.3
Lens : 24-70mm F2.8 ZA SSM
Version : 6.3
Process Version : 5.7
Color Temperature : 4800
Tint : 0
Exposure : +0.10
Shadows : 15
Brightness : +50
Luminance Smoothing : 15
Color Noise Reduction : 25
Chromatic Aberration R : 0
Chromatic Aberration B : 0
Vignette Amount : -14
Vignette Midpoint : 64
Shadow Tint : +100
Red Hue : +100
Red Saturation : -50
Green Hue : -2
Green Saturation : -48
Blue Hue : -100
Blue Saturation : +100
Fill Light : 63
Vibrance : +29
Highlight Recovery : 100
Clarity : 0
Defringe : 2
Hue Adjustment Red : +81
Hue Adjustment Orange : +29
Hue Adjustment Yellow : +5
Hue Adjustment Green : 0
Hue Adjustment Aqua : 0
Hue Adjustment Blue : 0
Hue Adjustment Purple : 0
Hue Adjustment Magenta : 0
Saturation Adjustment Red : -100
Saturation Adjustment Orange : -74
Saturation Adjustment Yellow : +45
Saturation Adjustment Green : +45
Saturation Adjustment Aqua : -100
Saturation Adjustment Blue : -83
Saturation Adjustment Purple : -100
Saturation Adjustment Magenta : -100
Luminance Adjustment Red : -36
Luminance Adjustment Orange : +40
Luminance Adjustment Yellow : 0
Luminance Adjustment Green : +100
Luminance Adjustment Aqua : +100
Luminance Adjustment Blue : -100
Luminance Adjustment Purple : 0
Luminance Adjustment Magenta : 0
Split Toning Shadow Hue : 43
Split Toning Shadow Saturation : 5
Split Toning Highlight Hue : 51
Split Toning Highlight Saturation : 29
Split Toning Balance : 0
Parametric Shadows : -21
Parametric Darks : 0
Parametric Lights : +39
Parametric Highlights : 0
Parametric Shadow Split : 25
Parametric Midtone Split : 50
Parametric Highlight Split : 75
Sharpen Radius : +1.0
Sharpen Detail : 25
Sharpen Edge Masking : 0
Post Crop Vignette Amount : +5
Post Crop Vignette Midpoint : 50
Post Crop Vignette Feather : 50
Post Crop Vignette Roundness : 0
Post Crop Vignette Style : Highlight Priority
Grain Amount : 0
Luminance Noise Reduction Detail : 50
Color Noise Reduction Detail : 50
Luminance Noise Reduction Contrast : 0
Lens Profile Enable : 0
Lens Manual Distortion Amount : 0
Perspective Vertical : 0
Perspective Horizontal : 0
Perspective Rotate : 0.0
Perspective Scale : 100
Convert To Grayscale : False
Tone Curve Name : Medium Contrast
Camera Profile : Adobe Standard
Lens Profile Setup : LensDefaults
Has Settings : True
Has Crop : False
Already Applied : True
Flash Fired : False
Flash Return : No return detection
Flash Mode : Off
Flash Function : False
Flash Red Eye Mode : False
Description : SONY DSC
Tone Curve : 0, 0, 32, 22, 64, 56, 128, 128, 192, 196, 255, 255
Image Width : 300
Image Height : 200
Bits Per Sample : 8
Color Components : 3
Aperture : 3.5
Image Size : 300x200
Megapixels : 0.060
Scale Factor To 35 mm Equivalent : 1.0
Shutter Speed : 1/1600
Flash : Off, Did not fire
Circle Of Confusion : 0.030 mm
Field Of View : 39.6 deg
Focal Length : 50.0 mm (35 mm equivalent: 50.0 mm)
Hyperfocal Distance : 23.77 m
Light Value : 13.3
Lens ID : Carl Zeiss Vario-Sonnar T* 24-70mm F2.8 ZA SSM (SAL2470Z) or Carl Zeiss Vario-Sonnar T* 24-70mm F2.8 ZA SSM II (SAL2470Z2) or Tamron SP 24-70mm F2.8 Di USD