Uber Exif Photo
Make : Canon
Camera Model Name : Canon EOS 5D Mark II
Modify Date : 2011:02:27 18:45:19
Exposure Time : 1/13
F Number : 8.0
Exposure Program : Aperture-priority AE
ISO : 1600
Date/Time Original : 2010:12:26 13:48:08
Create Date : 2010:12:26 13:48:08
Shutter Speed Value : 1/13
Aperture Value : 8.0
Exposure Compensation : 0
Max Aperture Value : 2.0
Metering Mode : Multi-segment
Focal Length : 35.0 mm
Custom Rendered : Normal
Exposure Mode : Auto bracket
White Balance : Manual
Scene Capture Type : Standard
Date/Time Digitized : 2010:12:26 13:48:08.43-08:00
Exif Image Width : 1500
Exif Image Height : 1000
Creator Tool : Adobe Photoshop Lightroom
Serial Number : 230115456
Lens Info : 35mm f/?
Lens : 35mm
Image Number : 0
Flash Compensation : 0
Firmware : 1.0.6
Version : 4.6
Incremental Temperature : +5
Incremental Tint : -83
Exposure : 0.00
Shadows : 32
Brightness : +46
Contrast : +11
Sharpness : 46
Luminance Smoothing : 46
Color Noise Reduction : 0
Chromatic Aberration R : 0
Chromatic Aberration B : 0
Vignette Amount : -43
Vignette Midpoint : 26
Shadow Tint : -50
Red Hue : +7
Red Saturation : +10
Green Hue : +26
Green Saturation : -100
Blue Hue : +14
Blue Saturation : +60
Fill Light : 4
Highlight Recovery : 13
Clarity : +48
Defringe : 0
Gray Mixer Red : +17
Gray Mixer Orange : 0
Gray Mixer Yellow : +54
Gray Mixer Green : +37
Gray Mixer Aqua : +83
Gray Mixer Blue : +46
Gray Mixer Purple : 0
Gray Mixer Magenta : +63
Split Toning Shadow Hue : 234
Split Toning Shadow Saturation : 0
Split Toning Highlight Hue : 0
Split Toning Highlight Saturation : 0
Split Toning Balance : +85
Parametric Shadows : +24
Parametric Darks : -14
Parametric Lights : -15
Parametric Highlights : +30
Parametric Shadow Split : 10
Parametric Midtone Split : 39
Parametric Highlight Split : 75
Sharpen Radius : +1.2
Sharpen Detail : 25
Sharpen Edge Masking : 10
Post Crop Vignette Amount : 0
Convert To Grayscale : True
Tone Curve Name : Linear
Camera Profile : Embedded
Has Settings : True
Has Crop : False
Already Applied : True
Flash Fired : False
Flash Return : No return detection
Flash Mode : Off
Flash Function : False
Flash Red Eye Mode : False
Tone Curve : 0, 0, 255, 255
Image Width : 300
Image Height : 200
Bits Per Sample : 8
Color Components : 1
Aperture : 8.0
Image Size : 300x200
Megapixels : 0.060
Scale Factor To 35 mm Equivalent : 1.0
Shutter Speed : 1/13
Create Date : 2010:12:26 13:48:08.43
Date/Time Original : 2010:12:26 13:48:08.43
Flash : Off, Did not fire
Circle Of Confusion : 0.031 mm
Field Of View : 55.6 deg
Focal Length : 35.0 mm (35 mm equivalent: 34.2 mm)
Hyperfocal Distance : 4.97 m
Light Value : 5.7
Lens ID : 35mm