Uber Exif Photo
Keywords : macro, flowers, Planar 50mm F1.4, 1Ds Medník Posázaví výlet ÈR
Copyright Notice : Jakub Mach
Country-Primary Location Name : Czech republic
By-line : Jakub Mach
Photometric Interpretation : RGB
Make : Canon
Camera Model Name : Canon EOS-1DS
Planar Configuration : Chunky
Modify Date : 2010:04:07 00:32:43
Artist : Jakub Mach
Copyright : Jakub Mach
Exposure Time : 1/80
F Number : 2.0
Exposure Program : Aperture-priority AE
ISO : 200
Date/Time Original : 2010:04:03 15:47:56
Create Date : 2010:04:03 15:47:56
Shutter Speed Value : 1/80
Aperture Value : 2.0
Exposure Compensation : +1/3
Max Aperture Value : 2.0
Metering Mode : Multi-segment
Focal Length : 50.0 mm
Custom Rendered : Normal
Exposure Mode : Auto
White Balance : Manual
Scene Capture Type : Standard
Exif Image Width : 1024
Exif Image Height : 681
Color Space : Uncalibrated
Orientation : Horizontal (normal)
Profile Description : sRGB IEC61966-2.1
Date Created : 2010:04:03 15:47:56Z
Source : Jakub Mach
Country : Czech republic
Date/Time Digitized : 2010:04:03 15:47:56+02:00
Flash Fired : False
Flash Return : No return detection
Flash Mode : Unknown
Flash Function : False
Flash Red Eye Mode : False
Creator Tool : Adobe Photoshop Lightroom
Serial Number : 119763
Lens Info : 50mm f/?
Lens : 50.0 mm
Image Number : 15207
Flash Compensation : 0
Owner Name : Jakub Mach
Firmware : 1.0.3
Marked : True
Version : 5.2
Color Temperature : 5700
Tint : +7
Exposure : 0.00
Shadows : 5
Brightness : +44
Contrast : +10
Saturation : 0
Sharpness : 25
Luminance Smoothing : 0
Color Noise Reduction : 25
Chromatic Aberration R : 0
Chromatic Aberration B : 0
Vignette Amount : 0
Shadow Tint : 0
Red Hue : 0
Red Saturation : 0
Green Hue : 0
Green Saturation : 0
Blue Hue : 0
Blue Saturation : 0
Fill Light : 0
Vibrance : +21
Highlight Recovery : 0
Clarity : 0
Defringe : 0
Hue Adjustment Red : 0
Hue Adjustment Orange : 0
Hue Adjustment Yellow : 0
Hue Adjustment Green : 0
Hue Adjustment Aqua : 0
Hue Adjustment Blue : 0
Hue Adjustment Purple : 0
Hue Adjustment Magenta : 0
Saturation Adjustment Red : 0
Saturation Adjustment Orange : 0
Saturation Adjustment Yellow : 0
Saturation Adjustment Green : 0
Saturation Adjustment Aqua : 0
Saturation Adjustment Blue : 0
Saturation Adjustment Purple : 0
Saturation Adjustment Magenta : 0
Luminance Adjustment Red : 0
Luminance Adjustment Orange : 0
Luminance Adjustment Yellow : 0
Luminance Adjustment Green : 0
Luminance Adjustment Aqua : 0
Luminance Adjustment Blue : 0
Luminance Adjustment Purple : 0
Luminance Adjustment Magenta : 0
Split Toning Shadow Hue : 0
Split Toning Shadow Saturation : 0
Split Toning Highlight Hue : 0
Split Toning Highlight Saturation : 0
Split Toning Balance : 0
Parametric Shadows : 0
Parametric Darks : -19
Parametric Lights : +16
Parametric Highlights : +21
Parametric Shadow Split : 25
Parametric Midtone Split : 50
Parametric Highlight Split : 75
Sharpen Radius : +1.0
Sharpen Detail : 25
Sharpen Edge Masking : 0
Post Crop Vignette Amount : 0
Convert To Grayscale : False
Tone Curve Name : Medium Contrast
Camera Profile : Camera Standard
Has Settings : True
Has Crop : False
Already Applied : True
Tone Curve : 0, 0, 32, 22, 64, 56, 128, 128, 192, 196, 255, 255
Creator : Jakub Mach
Rights : Jakub Mach
Subject : 1Ds Medník Posázaví výlet ČR, Planar 50mm F1.4, flowers, macro
Creator Work Email : machjakub@seznam.cz
Image Width : 300
Image Height : 200
Bits Per Sample : 8
Color Components : 3
Aperture : 2.0
Image Size : 300x200
Megapixels : 0.060
Scale Factor To 35 mm Equivalent : 1.0
Shutter Speed : 1/80
Flash : No Flash
Circle Of Confusion : 0.030 mm
Field Of View : 39.3 deg
Focal Length : 50.0 mm (35 mm equivalent: 50.4 mm)
Hyperfocal Distance : 41.90 m
Light Value : 7.3
Lens ID : 50.0mm