Uber Exif Photo
Keywords : november
Make : Canon
Camera Model Name : Canon EOS 5D Mark II
Modify Date : 2010:11:03 19:03:31
Exposure Time : 1/40
F Number : 1.4
Exposure Program : Aperture-priority AE
ISO : 1600
Date/Time Original : 2010:11:03 17:23:23
Create Date : 2010:11:03 17:23:23
Shutter Speed Value : 1/40
Aperture Value : 1.4
Exposure Compensation : 0
Max Aperture Value : 1.4
Metering Mode : Multi-segment
Focal Length : 50.0 mm
Custom Rendered : Normal
Exposure Mode : Auto
White Balance : Auto
Scene Capture Type : Standard
Profile Description : sRGB IEC61966-2.1
Date/Time Digitized : 2010:11:03 17:23:23.40+02:00
Exif Image Width : 1024
Exif Image Height : 614
Creator Tool : Adobe Photoshop Lightroom
Serial Number : 530318836
Lens : 1-65535mm
Image Number : 0
Flash Compensation : 0
Firmware : 1.0.7
Version : 5.7
Color Temperature : 3750
Tint : +29
Exposure : +0.29
Shadows : 17
Brightness : +64
Contrast : +70
Sharpness : 52
Luminance Smoothing : 100
Color Noise Reduction : 100
Chromatic Aberration R : 0
Chromatic Aberration B : 0
Vignette Amount : -100
Vignette Midpoint : 11
Shadow Tint : 0
Red Hue : 0
Red Saturation : 0
Green Hue : 0
Green Saturation : 0
Blue Hue : 0
Blue Saturation : 0
Fill Light : 61
Highlight Recovery : 30
Clarity : +81
Defringe : 0
Gray Mixer Red : +24
Gray Mixer Orange : 0
Gray Mixer Yellow : 0
Gray Mixer Green : +37
Gray Mixer Aqua : 0
Gray Mixer Blue : +29
Gray Mixer Purple : 0
Gray Mixer Magenta : 0
Split Toning Shadow Hue : 223
Split Toning Shadow Saturation : 36
Split Toning Highlight Hue : 26
Split Toning Highlight Saturation : 20
Split Toning Balance : +50
Parametric Shadows : 0
Parametric Darks : 0
Parametric Lights : 0
Parametric Highlights : 0
Parametric Shadow Split : 25
Parametric Midtone Split : 50
Parametric Highlight Split : 75
Sharpen Radius : +0.8
Sharpen Detail : 39
Sharpen Edge Masking : 0
Post Crop Vignette Amount : 0
Convert To Grayscale : True
Tone Curve Name : Strong Contrast
Camera Profile : Adobe Standard
Has Settings : True
Crop Top : 0.046403
Crop Left : 0.005127
Crop Bottom : 0.911076
Crop Right : 0.946506
Crop Angle : 0.517241
Crop Width : 1024
Crop Height : 614
Crop Unit : pixels
Has Crop : True
Already Applied : True
Flash Fired : False
Flash Return : No return detection
Flash Mode : Off
Flash Function : False
Flash Red Eye Mode : False
Subject : november
Tone Curve : 0, 0, 32, 16, 64, 50, 128, 128, 192, 202, 255, 255
Image Width : 300
Image Height : 180
Bits Per Sample : 8
Color Components : 3
Aperture : 1.4
Image Size : 300x180
Megapixels : 0.054
Scale Factor To 35 mm Equivalent : 1.0
Shutter Speed : 1/40
Create Date : 2010:11:03 17:23:23.40
Date/Time Original : 2010:11:03 17:23:23.40
Flash : Off, Did not fire
Circle Of Confusion : 0.031 mm
Field Of View : 40.5 deg
Focal Length : 50.0 mm (35 mm equivalent: 48.8 mm)
Hyperfocal Distance : 58.00 m
Light Value : 2.3
Lens ID : Canon EF 35-80mm f/4-5.6