Uber Exif Photo
Object Name : StS_20080101_1462
Keywords : @f5.6, black and white, Carl Zeiss Makro-Planar 100 mm/f2.0 ZF, Digital, F.A. Dick, kitchen, metal, monochrome, Nikon D2Xs, photography, sharpener, stainless steel, stillife, StS_20080101_1462, technology
By-line : Stefan Schönfeld
By-line Title : Bildermaler
Province-State : NRW
Country-Primary Location Name : Deutschland
Copyright Notice : ©StS; st-schoenfeld@web.de
Writer-Editor : StS
Copyright Flag : True
Photometric Interpretation : BlackIsZero
Make : NIKON CORPORATION
Camera Model Name : NIKON D2Xs
Orientation : Horizontal (normal)
Samples Per Pixel : 1
Software : Adobe Photoshop CS3 Windows
Modify Date : 2009:09:20 12:13:47
Artist : Stefan Schönfeld
Copyright : ©StS; st-schoenfeld@web.de
Exposure Time : 0.3
F Number : 5.3
Exposure Program : Manual
ISO : 100
Date/Time Original : 2008:01:01 16:52:15
Create Date : 2008:01:01 16:57:22
Shutter Speed Value : 0.3
Aperture Value : 5.3
Exposure Compensation : 0
Max Aperture Value : 1.0
Metering Mode : Multi-segment
Light Source : Unknown
Flash : No Flash
Focal Length : 100.0 mm
Color Space : sRGB
Exif Image Width : 573
Exif Image Height : 575
Sensing Method : One-chip color area
Scene Type : Directly photographed
CFA Pattern : [Red,Green][Green,Blue]
Custom Rendered : Normal
Exposure Mode : Manual
White Balance : Auto
Digital Zoom Ratio : 1
Focal Length In 35mm Format : 150 mm
Scene Capture Type : Standard
Gain Control : None
Contrast : Low
Saturation : Normal
Sharpness : Soft
Subject Distance Range : Unknown
Creator Tool : Adobe Photoshop CS3 Windows
Image Number : 1464
Serial Number : 6023356
Urgency : 2
ICC Profile Name : sRGB IEC61966-2.1
Color Mode : RGB
Authors Position : Bildermaler
Caption Writer : StS
City : Köln
State : NRW
Country : Deutschland
Credit : durch copyright geschützt
Date Created : 2008:01:01 16:52:15.23+01:00
Marked : True
Format : image/jpeg
Already Applied : True
Has Crop : True
Crop Unit : Unknown (3)
Crop Height : 1
Crop Width : 1
Crop Angle : 0
Crop Right : 0.806091
Crop Bottom : 1
Crop Left : 0.141911
Crop Top : 0
Has Settings : True
Camera Profile : ACR 3.1
Tone Curve Name : Medium Contrast
Convert To Grayscale : False
Sharpen Edge Masking : 0
Sharpen Detail : 25
Sharpen Radius : +1.0
Parametric Highlight Split : 75
Parametric Midtone Split : 50
Parametric Shadow Split : 25
Parametric Highlights : 0
Parametric Lights : 0
Parametric Darks : 0
Parametric Shadows : 0
Split Toning Balance : 0
Split Toning Highlight Saturation : 0
Split Toning Highlight Hue : 0
Split Toning Shadow Saturation : 0
Split Toning Shadow Hue : 0
Luminance Adjustment Magenta : 0
Luminance Adjustment Purple : 0
Luminance Adjustment Blue : 0
Luminance Adjustment Aqua : 0
Luminance Adjustment Green : 0
Luminance Adjustment Yellow : 0
Luminance Adjustment Orange : 0
Luminance Adjustment Red : 0
Saturation Adjustment Magenta : 0
Saturation Adjustment Purple : 0
Saturation Adjustment Blue : 0
Saturation Adjustment Aqua : 0
Saturation Adjustment Green : 0
Saturation Adjustment Yellow : 0
Saturation Adjustment Orange : 0
Saturation Adjustment Red : 0
Hue Adjustment Magenta : 0
Hue Adjustment Purple : 0
Hue Adjustment Blue : 0
Hue Adjustment Aqua : 0
Hue Adjustment Green : 0
Hue Adjustment Yellow : 0
Hue Adjustment Orange : 0
Hue Adjustment Red : 0
Defringe : 0
Clarity : 15
Highlight Recovery : 60
Vibrance : 0
Fill Light : 21
Blue Saturation : 0
Blue Hue : 0
Green Saturation : 0
Green Hue : 0
Red Saturation : 0
Red Hue : 0
Shadow Tint : 0
Vignette Amount : 0
Chromatic Aberration B : 0
Chromatic Aberration R : 0
Color Noise Reduction : 25
Luminance Smoothing : 0
Brightness : +1
Shadows : 0
Exposure : 0.00
Tint : +10
Color Temperature : 5600
Raw File Name : StS_20080101_1462.dng
Version : 4.3.1
Usage Terms : Jegliche kommerzielle Nutzung nur mit schriftlicher Erlaubnis des Urhebers!
Creator : Stefan Schönfeld
Subject : @f5.6, black and white, Carl Zeiss Makro-Planar 100 mm/f2.0 ZF, Digital, F.A. Dick, kitchen, metal, monochrome, Nikon D2Xs, photography, sharpener, stainless steel, stillife, StS_20080101_1462, technology
Title : StS_20080101_1462
Rights : ©StS; st-schoenfeld@web.de
Tone Curve : 0, 0, 32, 22, 64, 56, 128, 128, 192, 196, 255, 255
Creator Address : Bülowstr. 37
Creator City : Köln
Creator Region : NRW
Creator Postal Code : 50733
Creator Country : Deutschland
Creator Work Telephone : 0221/7605699
Creator Work Email : st-schoenfeld@web.de
Creator Work URL : http://www.stefanschoenfeld.de
User Fields : Bildmaße_(HxB)_02=Bild (HxB): 152 x 152 mm², Grundmaße_(HxB)_03=Grund (HxB): 297 x 210 mm², Medium_04=Photographie: Inkjet, Rahmen_(HxBxT)_05=413 x 313 x 27 mm³, Preis_06=1.375,00 EUR, Katalog_StS_pdf-Größe_07=(ca. 1,1 MB), Grund_Material_08=auf Papier 250 g (Crane Museo Max)
Catalog Sets : flickr|flickr fertig _96dpi
Image Width : 299
Image Height : 300
Bits Per Sample : 8
Color Components : 1
Aperture : 5.3
Image Size : 299x300
Megapixels : 0.090
Scale Factor To 35 mm Equivalent : 1.5
Shutter Speed : 0.3
Date/Time Original : 2008:01:01 16:52:15.23
Circle Of Confusion : 0.020 mm
Field Of View : 13.7 deg
Focal Length : 100.0 mm (35 mm equivalent: 150.0 mm)
Hyperfocal Distance : 94.19 m
Light Value : 6.4