Uber Exif Photo
Keywords : Hindmarsh River, Sony DSC1, Victor Harbor
Make : SONY
Camera Model Name : DSC-R1
Modify Date : 2010:08:22 23:09:49
Exposure Time : 1/50
F Number : 4.8
Exposure Program : Shutter speed priority AE
ISO : 400
Date/Time Original : 2010:08:19 17:00:17
Create Date : 2010:08:19 17:00:17
Shutter Speed Value : 1/50
Aperture Value : 4.8
Exposure Compensation : -0.3
Max Aperture Value : 2.8
Metering Mode : Multi-segment
Light Source : Unknown
Focal Length : 71.5 mm
Scene Type : Directly photographed
Custom Rendered : Normal
Exposure Mode : Manual
White Balance : Auto
Scene Capture Type : Standard
Contrast : Normal
Saturation : Normal
Sharpness : Normal
Profile Description : sRGB IEC61966-2.1
Date/Time Digitized : 2010:08:19 17:00:17+09:30
Exif Image Width : 1000
Exif Image Height : 667
Creator Tool : Adobe Photoshop Lightroom
Lens Info : 14.3-71.5mm f/2.8-4.8
Lens : 14.3-71.5 mm f/2.8-4.8
Version : 6.1
Process Version : 5.7
Color Temperature : 6205
Tint : +8
Exposure : -0.20
Shadows : 7
Brightness : +50
Luminance Smoothing : 0
Color Noise Reduction : 25
Chromatic Aberration R : 0
Chromatic Aberration B : 0
Vignette Amount : 0
Shadow Tint : +7
Red Hue : 0
Red Saturation : -30
Green Hue : 0
Green Saturation : 0
Blue Hue : 0
Blue Saturation : 0
Fill Light : 17
Vibrance : +18
Highlight Recovery : 36
Clarity : +34
Defringe : 0
Hue Adjustment Red : 0
Hue Adjustment Orange : 0
Hue Adjustment Yellow : 0
Hue Adjustment Green : 0
Hue Adjustment Aqua : 0
Hue Adjustment Blue : 0
Hue Adjustment Purple : 0
Hue Adjustment Magenta : 0
Saturation Adjustment Red : +50
Saturation Adjustment Orange : 0
Saturation Adjustment Yellow : +38
Saturation Adjustment Green : +33
Saturation Adjustment Aqua : 0
Saturation Adjustment Blue : -35
Saturation Adjustment Purple : 0
Saturation Adjustment Magenta : 0
Luminance Adjustment Red : +38
Luminance Adjustment Orange : 0
Luminance Adjustment Yellow : +27
Luminance Adjustment Green : +40
Luminance Adjustment Aqua : 0
Luminance Adjustment Blue : -44
Luminance Adjustment Purple : 0
Luminance Adjustment Magenta : 0
Split Toning Shadow Hue : 0
Split Toning Shadow Saturation : 0
Split Toning Highlight Hue : 0
Split Toning Highlight Saturation : 0
Split Toning Balance : 0
Parametric Shadows : -47
Parametric Darks : -11
Parametric Lights : -70
Parametric Highlights : +98
Parametric Shadow Split : 25
Parametric Midtone Split : 50
Parametric Highlight Split : 75
Sharpen Radius : +1.3
Sharpen Detail : 25
Sharpen Edge Masking : 0
Post Crop Vignette Amount : -14
Post Crop Vignette Midpoint : 41
Post Crop Vignette Feather : 76
Post Crop Vignette Roundness : +39
Post Crop Vignette Style : Highlight Priority
Post Crop Vignette Highlight Contrast : 82
Grain Amount : 0
Color Noise Reduction Detail : 50
Lens Profile Enable : 1
Lens Manual Distortion Amount : 0
Perspective Vertical : 0
Perspective Horizontal : 0
Perspective Rotate : 0.0
Perspective Scale : 100
Convert To Grayscale : False
Tone Curve Name : Medium Contrast
Camera Profile : Adobe Standard
Lens Profile Setup : Custom
Lens Profile Name : Adobe (Sony DT 18-200mm f/3.5-6.3)
Lens Profile Filename : DSLR-A700 (Sony DT 18-200mm f3.5-6.3) - RAW.lcp
Lens Profile Distortion Scale : 77
Lens Profile Chromatic Aberration Scale : 100
Lens Profile Vignetting Scale : 100
Has Settings : True
Has Crop : False
Already Applied : True
Flash Fired : False
Flash Return : No return detection
Flash Mode : Off
Flash Function : False
Flash Red Eye Mode : False
Subject : Hindmarsh River, Sony DSC1, Victor Harbor
Tone Curve : 0, 0, 32, 22, 64, 56, 128, 128, 192, 196, 255, 255
Paint Correction What : Correction
Paint Correction Amount : 1.000000
Paint Correction Active : true
Paint Correction Exposure : -0.105882
Paint Correction Saturation : 0.294118
Paint Correction Contrast : 0.000000
Paint Correction Clarity : 0.000000
Paint Correction Sharpness : 0.000000
Paint Correction Brightness : -0.058824
Paint Correction Toning Hue : 0.000000
Paint Correction Toning Saturation : 0.000000
Paint Correction Mask What : Mask/Paint
Paint Correction Mask Value : 1.000000
Paint Correction Mask Radius : 0.120901
Paint Correction Mask Flow : 1.000000
Paint Correction Mask Center Weight : 0.000000
Image Width : 300
Image Height : 200
Bits Per Sample : 8
Color Components : 3
Aperture : 4.8
Image Size : 300x200
Megapixels : 0.060
Shutter Speed : 1/50
Flash : Off, Did not fire
Light Value : 8.2
Lens ID : 14.3-71.5mm f/2.8-4.8