Uber Exif Photo
By-line : Mirko Macari
Copyright Notice : Copyright:Mirko Macari all right reserved
Make : Canon
Camera Model Name : Canon EOS 5D Mark II
Orientation : Horizontal (normal)
Software : Adobe Photoshop CS4 Macintosh
Modify Date : 2010:08:30 17:44:46
Artist : Mirko Macari
Copyright : Copyright:Mirko Macari all right reserved
Exposure Time : 1/200
F Number : 9.0
Exposure Program : Aperture-priority AE
ISO : 100
Date/Time Original : 2010:08:20 13:23:44
Create Date : 2010:08:20 13:23:44
Shutter Speed Value : 1/200
Aperture Value : 9.0
Exposure Compensation : -1/3
Max Aperture Value : 2.8
Metering Mode : Multi-segment
Focal Length : 21.0 mm
Color Space : Uncalibrated
Exif Image Width : 960
Exif Image Height : 640
Custom Rendered : Normal
Exposure Mode : Auto
White Balance : Auto
Scene Capture Type : Standard
Profile Description : Adobe RGB (1998)
Date/Time Digitized : 2010:08:20 13:23:44.19+02:00
Rating : 0
Format : image/jpeg
Serial Number : 1230713550
Lens Info : 21mm f/?
Lens : Zeiss Distagon T* 2.8/21 ZE
Image Number : 0
Flash Compensation : 0
Owner Name : Mirko Macari
Firmware : 2.0.4
Raw File Name : IMG_9156.CR2
Version : 5.6
Color Temperature : 5300
Tint : +8
Exposure : -0.05
Shadows : 11
Brightness : +50
Contrast : +25
Saturation : +22
Sharpness : 25
Luminance Smoothing : 0
Color Noise Reduction : 25
Chromatic Aberration R : 0
Chromatic Aberration B : 0
Vignette Amount : 0
Shadow Tint : 0
Red Hue : 0
Red Saturation : 0
Green Hue : 0
Green Saturation : 0
Blue Hue : 0
Blue Saturation : 0
Fill Light : 7
Vibrance : -8
Highlight Recovery : 15
Clarity : 0
Defringe : 0
Hue Adjustment Red : 0
Hue Adjustment Orange : 0
Hue Adjustment Yellow : 0
Hue Adjustment Green : 0
Hue Adjustment Aqua : 0
Hue Adjustment Blue : 0
Hue Adjustment Purple : 0
Hue Adjustment Magenta : 0
Saturation Adjustment Red : 0
Saturation Adjustment Orange : 0
Saturation Adjustment Yellow : 0
Saturation Adjustment Green : 0
Saturation Adjustment Aqua : 0
Saturation Adjustment Blue : 0
Saturation Adjustment Purple : 0
Saturation Adjustment Magenta : 0
Luminance Adjustment Red : 0
Luminance Adjustment Orange : 0
Luminance Adjustment Yellow : 0
Luminance Adjustment Green : 0
Luminance Adjustment Aqua : 0
Luminance Adjustment Blue : 0
Luminance Adjustment Purple : 0
Luminance Adjustment Magenta : 0
Split Toning Shadow Hue : 0
Split Toning Shadow Saturation : 0
Split Toning Highlight Hue : 0
Split Toning Highlight Saturation : 0
Split Toning Balance : 0
Parametric Shadows : 0
Parametric Darks : 0
Parametric Lights : 0
Parametric Highlights : 0
Parametric Shadow Split : 25
Parametric Midtone Split : 50
Parametric Highlight Split : 75
Sharpen Radius : +1.0
Sharpen Detail : 25
Sharpen Edge Masking : 0
Post Crop Vignette Amount : 0
Convert To Grayscale : False
Tone Curve Name : Medium Contrast
Camera Profile : Adobe Standard
Has Settings : True
Has Crop : False
Already Applied : True
Sidecar For Extension : CR2
Color Mode : RGB
ICC Profile Name : Adobe RGB (1998)
Flash Fired : False
Flash Return : No return detection
Flash Mode : Off
Flash Function : False
Flash Red Eye Mode : False
Creator : Mirko Macari
Rights : Copyright:Mirko Macari all right reserved
Tone Curve : 0, 0, 32, 22, 64, 56, 128, 128, 192, 196, 255, 255
Image Width : 300
Image Height : 200
Bits Per Sample : 8
Color Components : 3
Aperture : 9.0
Image Size : 300x200
Megapixels : 0.060
Scale Factor To 35 mm Equivalent : 1.0
Shutter Speed : 1/200
Create Date : 2010:08:20 13:23:44.19
Date/Time Original : 2010:08:20 13:23:44.19
Modify Date : 2010:08:30 17:44:46.19
Flash : Off, Did not fire
Circle Of Confusion : 0.031 mm
Field Of View : 82.6 deg
Focal Length : 21.0 mm (35 mm equivalent: 20.5 mm)
Hyperfocal Distance : 1.59 m
Light Value : 14.0
Lens ID : Carl Zeiss Distagon T* 21mm f/2.8 ZE