Uber Exif Photo
Caption-Abstract : SONY DSC
Image Description : SONY DSC
Make : SONY
Camera Model Name : DSLR-A700
Orientation : Horizontal (normal)
Software : ACD Systems Digital Imaging
Modify Date : 2010:08:03 12:30:09
Exposure Time : 1/200
F Number : 2.0
Exposure Program : Manual
ISO : 400
Date/Time Original : 2010:08:01 19:30:02
Create Date : 2010:08:01 19:30:02
Shutter Speed Value : 1/200
Aperture Value : 2.0
Brightness Value : 3.12
Exposure Compensation : 0
Max Aperture Value : 1.4
Metering Mode : Center-weighted average
Light Source : Unknown
Focal Length : 85.0 mm
Exif Image Width : 1344
Exif Image Height : 1920
Scene Type : Directly photographed
Custom Rendered : Normal
Exposure Mode : Manual
White Balance : Auto
Digital Zoom Ratio : 0
Focal Length In 35mm Format : 127 mm
Scene Capture Type : Standard
Contrast : Normal
Saturation : Normal
Sharpness : Hard
Date/Time Digitized : 2010:08:01 19:30:02.0+1:00
Flash Fired : False
Flash Return : No return detection
Flash Mode : Off
Flash Function : False
Flash Red Eye Mode : False
Creator Tool : Adobe Photoshop Lightroom
Lens Info : 85mm f/1.4
Lens : 85mm F1.4 ZA
Version : 5.5
Color Temperature : 6286
Tint : +4
Exposure : -0.48
Shadows : 5
Brightness : +50
Luminance Smoothing : 0
Color Noise Reduction : 25
Chromatic Aberration R : 0
Chromatic Aberration B : 0
Vignette Amount : 0
Shadow Tint : 0
Red Hue : 0
Red Saturation : 0
Green Hue : 0
Green Saturation : 0
Blue Hue : 0
Blue Saturation : 0
Fill Light : 0
Highlight Recovery : 0
Clarity : +74
Defringe : 0
Gray Mixer Red : -4
Gray Mixer Orange : -15
Gray Mixer Yellow : -20
Gray Mixer Green : -26
Gray Mixer Aqua : -20
Gray Mixer Blue : +8
Gray Mixer Purple : +17
Gray Mixer Magenta : +8
Split Toning Shadow Hue : 0
Split Toning Shadow Saturation : 0
Split Toning Highlight Hue : 0
Split Toning Highlight Saturation : 0
Split Toning Balance : 0
Parametric Shadows : -5
Parametric Darks : -24
Parametric Lights : 0
Parametric Highlights : 0
Parametric Shadow Split : 25
Parametric Midtone Split : 50
Parametric Highlight Split : 75
Sharpen Radius : +1.0
Sharpen Detail : 25
Sharpen Edge Masking : 0
Post Crop Vignette Amount : 0
Convert To Grayscale : True
Tone Curve Name : Medium Contrast
Camera Profile : Adobe Standard
Has Settings : True
Crop Top : 0.089347
Crop Left : 0.038571
Crop Bottom : 0.936347
Crop Right : 0.845236
Crop Angle : 0
Crop Width : 3446
Crop Height : 2412
Crop Unit : pixels
Has Crop : True
Already Applied : True
Tone Curve : 0, 0, 32, 22, 64, 56, 128, 128, 192, 196, 255, 255
Description : SONY DSC
Image Width : 210
Image Height : 300
Bits Per Sample : 8
Color Components : 1
Aperture : 2.0
Image Size : 210x300
Megapixels : 0.063
Scale Factor To 35 mm Equivalent : 1.5
Shutter Speed : 1/200
Create Date : 2010:08:01 19:30:02.0
Date/Time Original : 2010:08:01 19:30:02.0
Modify Date : 2010:08:03 12:30:09.203
Flash : Off, Did not fire
Circle Of Confusion : 0.020 mm
Field Of View : 16.1 deg
Focal Length : 85.0 mm (35 mm equivalent: 127.0 mm)
Hyperfocal Distance : 179.64 m
Light Value : 7.6
Lens ID : 85mm F1.4 ZA