Uber Exif Photo
Caption-Abstract : SONY DSC
Image Description : SONY DSC
Make : SONY
Camera Model Name : DSLR-A350
Orientation : Horizontal (normal)
Software : Adobe Photoshop CS4 Windows
Modify Date : 2010:08:01 21:40:47
Exposure Time : 1/320
F Number : 6.3
Exposure Program : Program AE
ISO : 100
Date/Time Original : 2009:11:01 15:22:36
Create Date : 2009:11:01 15:22:36
Shutter Speed Value : 1
Aperture Value : 6.3
Brightness Value : 8.5
Exposure Compensation : 0
Max Aperture Value : 4.5
Metering Mode : Multi-segment
Light Source : Unknown
Focal Length : 40.0 mm
Color Space : sRGB
Exif Image Width : 1200
Exif Image Height : 798
Scene Type : Directly photographed
Custom Rendered : Normal
Exposure Mode : Auto
White Balance : Auto
Focal Length In 35mm Format : 60 mm
Scene Capture Type : Standard
Contrast : Normal
Saturation : Normal
Sharpness : Normal
Profile Description : sRGB IEC61966-2.1
Date/Time Digitized : 2009:11:01 15:22:36+06:30
Creator Tool : Capture NX 2.1.0 W
Rating : 0
Format : image/jpeg
Raw File Name : DSC03936.ARW
Version : 5.0
Color Temperature : 5100
Tint : +28
Exposure : -0.55
Shadows : 19
Brightness : +50
Luminance Smoothing : 52
Color Noise Reduction : 52
Chromatic Aberration R : 0
Chromatic Aberration B : 0
Vignette Amount : -21
Vignette Midpoint : 50
Shadow Tint : 0
Red Hue : 0
Red Saturation : 0
Green Hue : 0
Green Saturation : 0
Blue Hue : 0
Blue Saturation : 0
Fill Light : 20
Vibrance : +39
Highlight Recovery : 24
Clarity : +35
Defringe : 0
Hue Adjustment Red : +29
Hue Adjustment Orange : -48
Hue Adjustment Yellow : 0
Hue Adjustment Green : +48
Hue Adjustment Aqua : 0
Hue Adjustment Blue : 0
Hue Adjustment Purple : 0
Hue Adjustment Magenta : 0
Saturation Adjustment Red : 0
Saturation Adjustment Orange : 0
Saturation Adjustment Yellow : 0
Saturation Adjustment Green : 0
Saturation Adjustment Aqua : 0
Saturation Adjustment Blue : 0
Saturation Adjustment Purple : 0
Saturation Adjustment Magenta : 0
Luminance Adjustment Red : 0
Luminance Adjustment Orange : 0
Luminance Adjustment Yellow : 0
Luminance Adjustment Green : 0
Luminance Adjustment Aqua : 0
Luminance Adjustment Blue : 0
Luminance Adjustment Purple : 0
Luminance Adjustment Magenta : 0
Split Toning Shadow Hue : 167
Split Toning Shadow Saturation : 4
Split Toning Highlight Hue : 111
Split Toning Highlight Saturation : 5
Split Toning Balance : -3
Parametric Shadows : +40
Parametric Darks : -14
Parametric Lights : -5
Parametric Highlights : -20
Parametric Shadow Split : 25
Parametric Midtone Split : 50
Parametric Highlight Split : 75
Sharpen Radius : +1.7
Sharpen Detail : 47
Sharpen Edge Masking : 0
Post Crop Vignette Amount : 0
Convert To Grayscale : False
Tone Curve Name : Medium Contrast
Camera Profile : ACR 4.4
Has Settings : True
Has Crop : False
Already Applied : True
Sidecar For Extension : ARW
Color Mode : RGB
ICC Profile Name : sRGB IEC61966-2.1
Flash Fired : False
Flash Return : No return detection
Flash Mode : Auto
Flash Function : False
Flash Red Eye Mode : False
Description : SONY DSC
Tone Curve : 0, 0, 32, 22, 64, 56, 128, 128, 192, 196, 255, 255
Image Width : 300
Image Height : 200
Bits Per Sample : 8
Color Components : 3
Aperture : 6.3
Image Size : 300x200
Megapixels : 0.060
Scale Factor To 35 mm Equivalent : 1.5
Shutter Speed : 1/320
Flash : Auto, Did not fire
Circle Of Confusion : 0.020 mm
Field Of View : 33.4 deg
Focal Length : 40.0 mm (35 mm equivalent: 60.0 mm)
Hyperfocal Distance : 12.68 m
Light Value : 13.6