Uber Exif Photo
Copyright Flag : False
Orientation : Horizontal (normal)
Software : Adobe Photoshop CS2 Windows
Modify Date : 2010:07:29 12:40:57
Color Space : sRGB
Exif Image Width : 850
Exif Image Height : 859
Profile Description : sRGB IEC61966-2.1
Creator Tool : Adobe Photoshop CS2 Windows
Create Date : 2010:07:29 11:37:41+03:00
Version : 4.5
White Balance : Custom
Incremental Temperature : +2
Incremental Tint : 0
Exposure : +0.10
Shadows : 0
Brightness : 0
Contrast : +32
Saturation : 0
Sharpness : 64
Luminance Smoothing : 37
Color Noise Reduction : 0
Chromatic Aberration R : 0
Chromatic Aberration B : 0
Vignette Amount : 0
Shadow Tint : 0
Red Hue : 0
Red Saturation : 0
Green Hue : 0
Green Saturation : 0
Blue Hue : 0
Blue Saturation : 0
Fill Light : 13
Vibrance : +14
Highlight Recovery : 0
Clarity : +19
Defringe : 0
Hue Adjustment Red : 0
Hue Adjustment Orange : 0
Hue Adjustment Yellow : +5
Hue Adjustment Green : 0
Hue Adjustment Aqua : 0
Hue Adjustment Blue : 0
Hue Adjustment Purple : 0
Hue Adjustment Magenta : 0
Saturation Adjustment Red : 0
Saturation Adjustment Orange : 0
Saturation Adjustment Yellow : 0
Saturation Adjustment Green : 0
Saturation Adjustment Aqua : 0
Saturation Adjustment Blue : 0
Saturation Adjustment Purple : 0
Saturation Adjustment Magenta : 0
Luminance Adjustment Red : 0
Luminance Adjustment Orange : 0
Luminance Adjustment Yellow : 0
Luminance Adjustment Green : 0
Luminance Adjustment Aqua : 0
Luminance Adjustment Blue : 0
Luminance Adjustment Purple : 0
Luminance Adjustment Magenta : 0
Split Toning Shadow Hue : 0
Split Toning Shadow Saturation : 0
Split Toning Highlight Hue : 56
Split Toning Highlight Saturation : 19
Split Toning Balance : 0
Parametric Shadows : 0
Parametric Darks : 0
Parametric Lights : -33
Parametric Highlights : -24
Parametric Shadow Split : 25
Parametric Midtone Split : 50
Parametric Highlight Split : 75
Sharpen Radius : +1.0
Sharpen Detail : 25
Sharpen Edge Masking : 36
Post Crop Vignette Amount : -5
Post Crop Vignette Midpoint : 50
Post Crop Vignette Feather : 68
Post Crop Vignette Roundness : +38
Convert To Grayscale : False
Tone Curve Name : Linear
Camera Profile : Embedded
Has Settings : True
Crop Top : 0.014535
Crop Left : 0.008811
Crop Bottom : 0.994186
Crop Right : 0.988253
Crop Angle : 0
Crop Width : 1484
Crop Height : 1500
Crop Unit : pixels
Has Crop : True
Already Applied : True
Tone Curve : 0, 0, 255, 255
Format : image/jpeg
Color Mode : RGB
ICC Profile Name : sRGB IEC61966-2.1
Image Width : 297
Image Height : 300
Bits Per Sample : 8
Color Components : 3
Image Size : 297x300
Megapixels : 0.089