Uber Exif Photo
Make : Canon
Camera Model Name : Canon EOS 5D
Modify Date : 2010:07:28 03:24:17
Exposure Time : 1/125
F Number : 1.8
Exposure Program : Aperture-priority AE
ISO : 1600
Date/Time Original : 2010:01:07 14:43:07
Create Date : 2010:01:07 14:43:07
Shutter Speed Value : 1/125
Aperture Value : 1.8
Exposure Compensation : 0
Max Aperture Value : 1.8
Metering Mode : Multi-segment
Focal Length : 50.0 mm
Custom Rendered : Normal
Exposure Mode : Auto
White Balance : Manual
Scene Capture Type : Standard
Profile Description : sRGB IEC61966-2.1
Date/Time Digitized : 2010:01:07 14:43:07-08:00
Exif Image Width : 1500
Exif Image Height : 1000
Creator Tool : Adobe Photoshop Lightroom
Serial Number : 1911200481
Lens Info : 50mm f/?
Lens : EF50mm f/1.8
Image Number : 1
Flash Compensation : 0
Firmware : 1.1.0
Version : 4.6
Incremental Temperature : -5
Incremental Tint : 0
Exposure : 0.00
Shadows : 0
Brightness : 0
Contrast : +18
Saturation : +40
Sharpness : 86
Luminance Smoothing : 44
Color Noise Reduction : 0
Chromatic Aberration R : 0
Chromatic Aberration B : 0
Vignette Amount : -33
Vignette Midpoint : 50
Shadow Tint : 0
Red Hue : 0
Red Saturation : 0
Green Hue : 0
Green Saturation : 0
Blue Hue : 0
Blue Saturation : 0
Fill Light : 0
Vibrance : +21
Highlight Recovery : 0
Clarity : 0
Defringe : 0
Hue Adjustment Red : 0
Hue Adjustment Orange : 0
Hue Adjustment Yellow : 0
Hue Adjustment Green : 0
Hue Adjustment Aqua : 0
Hue Adjustment Blue : 0
Hue Adjustment Purple : 0
Hue Adjustment Magenta : 0
Saturation Adjustment Red : 0
Saturation Adjustment Orange : 0
Saturation Adjustment Yellow : 0
Saturation Adjustment Green : 0
Saturation Adjustment Aqua : 0
Saturation Adjustment Blue : 0
Saturation Adjustment Purple : 0
Saturation Adjustment Magenta : 0
Luminance Adjustment Red : 0
Luminance Adjustment Orange : 0
Luminance Adjustment Yellow : 0
Luminance Adjustment Green : 0
Luminance Adjustment Aqua : 0
Luminance Adjustment Blue : 0
Luminance Adjustment Purple : 0
Luminance Adjustment Magenta : 0
Split Toning Shadow Hue : 0
Split Toning Shadow Saturation : 1
Split Toning Highlight Hue : 0
Split Toning Highlight Saturation : 2
Split Toning Balance : 0
Parametric Shadows : -2
Parametric Darks : -2
Parametric Lights : 0
Parametric Highlights : 0
Parametric Shadow Split : 25
Parametric Midtone Split : 50
Parametric Highlight Split : 75
Sharpen Radius : +1.0
Sharpen Detail : 25
Sharpen Edge Masking : 0
Post Crop Vignette Amount : 0
Convert To Grayscale : False
Tone Curve Name : Linear
Camera Profile : Embedded
Has Settings : True
Has Crop : False
Already Applied : True
Flash Fired : False
Flash Return : No return detection
Flash Mode : Off
Flash Function : False
Flash Red Eye Mode : False
Tone Curve : 0, 0, 255, 255
Image Width : 300
Image Height : 200
Bits Per Sample : 8
Color Components : 3
Aperture : 1.8
Image Size : 300x200
Megapixels : 0.060
Scale Factor To 35 mm Equivalent : 1.0
Shutter Speed : 1/125
Flash : Off, Did not fire
Circle Of Confusion : 0.030 mm
Field Of View : 39.5 deg
Focal Length : 50.0 mm (35 mm equivalent: 50.1 mm)
Hyperfocal Distance : 46.32 m
Light Value : 4.7
Lens ID : EF50mm f/1.8