Uber Exif Photo
Make : Canon
Camera Model Name : Canon EOS 5D
Modify Date : 2010:07:28 01:20:46
Exposure Time : 1/320
F Number : 1.8
Exposure Program : Aperture-priority AE
ISO : 50
Date/Time Original : 2010:01:16 12:26:00
Create Date : 2010:01:16 12:26:00
Shutter Speed Value : 1/320
Aperture Value : 1.8
Exposure Compensation : 0
Max Aperture Value : 1.8
Metering Mode : Multi-segment
Focal Length : 50.0 mm
Custom Rendered : Normal
Exposure Mode : Auto bracket
White Balance : Manual
Scene Capture Type : Standard
Profile Description : sRGB IEC61966-2.1
Date/Time Digitized : 2010:01:16 12:26:00-08:00
Exif Image Width : 1500
Exif Image Height : 1000
Creator Tool : Adobe Photoshop Lightroom
Serial Number : 1911200481
Lens Info : 50mm f/?
Lens : EF50mm f/1.8
Image Number : 12
Flash Compensation : 0
Firmware : 1.1.0
Version : 4.6
Incremental Temperature : +2
Incremental Tint : -35
Exposure : +0.19
Shadows : 17
Brightness : +36
Contrast : +43
Saturation : -100
Sharpness : 4
Luminance Smoothing : 0
Color Noise Reduction : 0
Chromatic Aberration R : 0
Chromatic Aberration B : 0
Vignette Amount : -43
Vignette Midpoint : 46
Shadow Tint : 0
Red Hue : 0
Red Saturation : 0
Green Hue : 0
Green Saturation : 0
Blue Hue : 0
Blue Saturation : 0
Fill Light : 0
Vibrance : +100
Highlight Recovery : 100
Clarity : 0
Defringe : 2
Hue Adjustment Red : 0
Hue Adjustment Orange : 0
Hue Adjustment Yellow : 0
Hue Adjustment Green : 0
Hue Adjustment Aqua : 0
Hue Adjustment Blue : 0
Hue Adjustment Purple : 0
Hue Adjustment Magenta : 0
Saturation Adjustment Red : -100
Saturation Adjustment Orange : -100
Saturation Adjustment Yellow : -100
Saturation Adjustment Green : -100
Saturation Adjustment Aqua : -100
Saturation Adjustment Blue : -100
Saturation Adjustment Purple : -100
Saturation Adjustment Magenta : -100
Luminance Adjustment Red : +89
Luminance Adjustment Orange : +26
Luminance Adjustment Yellow : +19
Luminance Adjustment Green : +38
Luminance Adjustment Aqua : -77
Luminance Adjustment Blue : -100
Luminance Adjustment Purple : -62
Luminance Adjustment Magenta : 0
Split Toning Shadow Hue : 236
Split Toning Shadow Saturation : 27
Split Toning Highlight Hue : 40
Split Toning Highlight Saturation : 0
Split Toning Balance : +19
Parametric Shadows : +34
Parametric Darks : +24
Parametric Lights : +1
Parametric Highlights : -5
Parametric Shadow Split : 25
Parametric Midtone Split : 50
Parametric Highlight Split : 75
Sharpen Radius : +1.1
Sharpen Detail : 32
Sharpen Edge Masking : 0
Post Crop Vignette Amount : 0
Convert To Grayscale : False
Tone Curve Name : Medium Contrast
Camera Profile : Embedded
Has Settings : True
Has Crop : False
Already Applied : True
Flash Fired : False
Flash Return : No return detection
Flash Mode : Off
Flash Function : False
Flash Red Eye Mode : False
Tone Curve : 0, 0, 32, 22, 64, 56, 128, 128, 192, 196, 255, 255
Image Width : 300
Image Height : 200
Bits Per Sample : 8
Color Components : 3
Aperture : 1.8
Image Size : 300x200
Megapixels : 0.060
Scale Factor To 35 mm Equivalent : 1.0
Shutter Speed : 1/320
Flash : Off, Did not fire
Circle Of Confusion : 0.030 mm
Field Of View : 39.5 deg
Focal Length : 50.0 mm (35 mm equivalent: 50.1 mm)
Hyperfocal Distance : 46.32 m
Light Value : 11.0
Lens ID : EF50mm f/1.8