Uber Exif Photo
Make : Canon
Camera Model Name : Canon EOS 5D
Modify Date : 2010:07:27 23:47:49
Exposure Time : 2.5
F Number : 1.8
Exposure Program : Manual
ISO : 50
Date/Time Original : 2010:01:01 15:43:06
Create Date : 2010:01:01 15:43:06
Shutter Speed Value : 2.5
Aperture Value : 1.8
Exposure Compensation : 0
Max Aperture Value : 1.8
Metering Mode : Multi-segment
Focal Length : 50.0 mm
Custom Rendered : Normal
Exposure Mode : Manual
White Balance : Manual
Scene Capture Type : Standard
Profile Description : sRGB IEC61966-2.1
Date/Time Digitized : 2010:01:01 15:43:06-08:00
Exif Image Width : 684
Exif Image Height : 1000
Creator Tool : Adobe Photoshop Lightroom
Serial Number : 1911200481
Lens Info : 50mm f/?
Lens : EF50mm f/1.8
Image Number : 5
Flash Compensation : 0
Firmware : 1.1.0
Version : 4.6
Incremental Temperature : +2
Incremental Tint : +7
Exposure : 0.00
Shadows : 2
Brightness : +43
Contrast : +34
Saturation : +5
Sharpness : 7
Luminance Smoothing : 0
Color Noise Reduction : 0
Chromatic Aberration R : 0
Chromatic Aberration B : 0
Vignette Amount : 0
Shadow Tint : 0
Red Hue : 0
Red Saturation : 0
Green Hue : 0
Green Saturation : 0
Blue Hue : 0
Blue Saturation : 0
Fill Light : 0
Vibrance : +64
Highlight Recovery : 100
Clarity : +17
Defringe : 0
Hue Adjustment Red : 0
Hue Adjustment Orange : 0
Hue Adjustment Yellow : 0
Hue Adjustment Green : 0
Hue Adjustment Aqua : 0
Hue Adjustment Blue : 0
Hue Adjustment Purple : 0
Hue Adjustment Magenta : 0
Saturation Adjustment Red : +24
Saturation Adjustment Orange : +14
Saturation Adjustment Yellow : +7
Saturation Adjustment Green : +38
Saturation Adjustment Aqua : 0
Saturation Adjustment Blue : -7
Saturation Adjustment Purple : +2
Saturation Adjustment Magenta : 0
Luminance Adjustment Red : 0
Luminance Adjustment Orange : 0
Luminance Adjustment Yellow : 0
Luminance Adjustment Green : 0
Luminance Adjustment Aqua : 0
Luminance Adjustment Blue : 0
Luminance Adjustment Purple : 0
Luminance Adjustment Magenta : 0
Split Toning Shadow Hue : 0
Split Toning Shadow Saturation : 5
Split Toning Highlight Hue : 0
Split Toning Highlight Saturation : 4
Split Toning Balance : 0
Parametric Shadows : 0
Parametric Darks : +2
Parametric Lights : -2
Parametric Highlights : 0
Parametric Shadow Split : 25
Parametric Midtone Split : 50
Parametric Highlight Split : 75
Sharpen Radius : +1.1
Sharpen Detail : 33
Sharpen Edge Masking : 57
Post Crop Vignette Amount : 0
Convert To Grayscale : False
Tone Curve Name : Linear
Camera Profile : Embedded
Has Settings : True
Crop Top : 0
Crop Left : 0.025362
Crop Bottom : 1
Crop Right : 1
Crop Angle : 0
Crop Width : 1000
Crop Height : 684
Crop Unit : pixels
Has Crop : True
Already Applied : True
Flash Fired : False
Flash Return : No return detection
Flash Mode : Off
Flash Function : False
Flash Red Eye Mode : False
Tone Curve : 0, 0, 255, 255
Image Width : 205
Image Height : 300
Bits Per Sample : 8
Color Components : 3
Aperture : 1.8
Image Size : 205x300
Megapixels : 0.061
Scale Factor To 35 mm Equivalent : 1.0
Shutter Speed : 2.5
Flash : Off, Did not fire
Circle Of Confusion : 0.030 mm
Field Of View : 39.5 deg
Focal Length : 50.0 mm (35 mm equivalent: 50.1 mm)
Hyperfocal Distance : 46.32 m
Light Value : 1.4
Lens ID : EF50mm f/1.8