Uber Exif Photo
Caption-Abstract : KONICA MINOLTA DIGITAL CAMERA
By-line : £ukasz Cyrus
Province-State : Œlask
Country-Primary Location Name : Poland
Copyright Notice : £ukasz Cyrus
Copyright Flag : True
URL : www.shutter12.blogspot.com
Image Description : KONICA MINOLTA DIGITAL CAMERA
Make : KONICA MINOLTA
Camera Model Name : DYNAX 7D
Orientation : Horizontal (normal)
Software : Adobe Photoshop 7.0
Modify Date : 2010:07:26 22:55:12
Artist : ukasz Cyrus
Copyright : ukasz Cyrus
Exposure Time : 1/100
F Number : 1.7
Exposure Program : Aperture-priority AE
ISO : 100
Date/Time Original : 2010:07:26 17:06:06
Create Date : 2010:07:26 17:06:06
Shutter Speed Value : 1/100
Aperture Value : 1.7
Brightness Value : 3.75
Exposure Compensation : +0.7
Max Aperture Value : 1.7
Metering Mode : Center-weighted average
Light Source : Unknown
Focal Length : 50.0 mm
Subject Area : 1504 1000 3008 2000
Color Space : sRGB
Exif Image Width : 1000
Exif Image Height : 516
Custom Rendered : Normal
Exposure Mode : Auto
White Balance : Auto
Digital Zoom Ratio : 0
Focal Length In 35mm Format : 75 mm
Scene Capture Type : Standard
Gain Control : None
Contrast : Normal
Saturation : Normal
Sharpness : Normal
Creator Postal Code : 41-705
Creator Work Email : bestway1@neostrada.pl
Creator Work Telephone : +48506818872
Creator Region : Ślask
Creator Country : Poland
Creator City : Ruda Ślaska
Creator Address : Słowików 16
Creator Work URL : www.shutter12.blogspot.com
Version : 5.7
Color Temperature : 5700
Tint : +10
Exposure : 0.00
Shadows : 5
Brightness : +50
Luminance Smoothing : 0
Color Noise Reduction : 0
Chromatic Aberration R : 0
Chromatic Aberration B : 0
Vignette Amount : 0
Shadow Tint : 0
Red Hue : 0
Red Saturation : 0
Green Hue : 0
Green Saturation : +55
Blue Hue : 0
Blue Saturation : +40
Fill Light : 20
Highlight Recovery : 0
Clarity : 0
Defringe : 0
Gray Mixer Red : +100
Gray Mixer Orange : +100
Gray Mixer Yellow : +100
Gray Mixer Green : -27
Gray Mixer Aqua : -100
Gray Mixer Blue : -100
Gray Mixer Purple : -60
Gray Mixer Magenta : +4
Split Toning Shadow Hue : 0
Split Toning Shadow Saturation : 0
Split Toning Highlight Hue : 0
Split Toning Highlight Saturation : 0
Split Toning Balance : 0
Parametric Shadows : 0
Parametric Darks : 0
Parametric Lights : 0
Parametric Highlights : 0
Parametric Shadow Split : 25
Parametric Midtone Split : 50
Parametric Highlight Split : 75
Sharpen Radius : +1.0
Sharpen Detail : 25
Sharpen Edge Masking : 0
Post Crop Vignette Amount : -20
Post Crop Vignette Midpoint : 40
Post Crop Vignette Feather : 90
Post Crop Vignette Roundness : 0
Convert To Grayscale : True
Tone Curve Name : Medium Contrast
Camera Profile : Adobe Standard
Has Settings : True
Crop Top : 0.223859
Crop Left : 0
Crop Bottom : 1
Crop Right : 1
Crop Angle : 0
Crop Width : 1000
Crop Height : 516
Crop Unit : pixels
Has Crop : True
Already Applied : True
Tone Curve : 0, 0, 32, 22, 64, 56, 128, 128, 192, 196, 255, 255
Gradient Based Corr Masks : ,
Gradient Based Corr What : Correction
Gradient Based Corr Amount : 1.000000
Gradient Based Corr Active : true
Gradient Based Corr Exposure : 0.000000
Gradient Based Corr Saturation : 0.000000
Gradient Based Corr Contrast : 0.000000
Gradient Based Corr Clarity : 1.000000
Gradient Based Corr Sharpness : 0.000000
Gradient Based Corr Brightness : 0.000000
Gradient Based Corr Toning Hue : 60.000000
Gradient Based Corr Toning Saturation : 0.000000
Date/Time Digitized : 2010:07:26 17:06:06+02:00
Flash Fired : False
Flash Return : No return detection
Flash Mode : Off
Flash Function : False
Flash Red Eye Mode : False
Flash Compensation : 0
Date Created : 2009:12:29
City : Ruda Ślaska
Country : Poland
State : Ślask
Creator Tool : Adobe Photoshop Lightroom
Marked : True
Web Statement : www.shutter12.blogspot.com
Description : KONICA MINOLTA DIGITAL CAMERA
Creator : Łukasz Cyrus
Rights : Łukasz Cyrus
Image Width : 300
Image Height : 155
Bits Per Sample : 8
Color Components : 1
Aperture : 1.7
Image Size : 300x155
Megapixels : 0.046
Scale Factor To 35 mm Equivalent : 1.5
Shutter Speed : 1/100
Flash : Off, Did not fire
Circle Of Confusion : 0.020 mm
Field Of View : 27.0 deg
Focal Length : 50.0 mm (35 mm equivalent: 75.0 mm)
Hyperfocal Distance : 73.42 m
Light Value : 8.2