Uber Exif Photo
Keywords : blizzard, brooklyn bridge, dumbo, feb 2010, snow, zeiss 35mm
By-line : Photographer: Jonathan Segura
Copyright Notice : Copyright: Jonathan Segura
Make : Canon
Camera Model Name : Canon EOS 5D Mark II
Modify Date : 2010:07:26 23:12:15
Artist : Photographer: Jonathan Segura
Copyright : Copyright: Jonathan Segura
Exposure Time : 1/20
F Number : 2.8
Exposure Program : Aperture-priority AE
ISO : 2000
Date/Time Original : 2010:02:26 01:53:16
Create Date : 2010:02:26 01:53:16
Shutter Speed Value : 1/20
Aperture Value : 2.8
Exposure Compensation : 0
Max Aperture Value : 2.0
Metering Mode : Spot
Focal Length : 35.0 mm
Custom Rendered : Normal
Exposure Mode : Auto
White Balance : Auto
Scene Capture Type : Standard
Profile Description : sRGB IEC61966-2.1
Date/Time Digitized : 2010:02:26 01:53:16.13-05:00
Exif Image Width : 1200
Exif Image Height : 626
Creator Tool : Adobe Photoshop Lightroom
Serial Number : 620301347
Lens Info : 35mm f/?
Lens : Zeiss Distagon T* 2/35 ZE
Image Number : 0
Flash Compensation : 0
Owner Name : Jonathan Segura
Firmware : 1.1.0
Version : 6.1
Process Version : 5.7
Color Temperature : 2306
Tint : +4
Exposure : 0.00
Shadows : 11
Brightness : +50
Contrast : +62
Saturation : +2
Sharpness : 25
Luminance Smoothing : 0
Color Noise Reduction : 25
Chromatic Aberration R : 0
Chromatic Aberration B : 0
Vignette Amount : 0
Shadow Tint : 0
Red Hue : 0
Red Saturation : 0
Green Hue : 0
Green Saturation : 0
Blue Hue : 0
Blue Saturation : 0
Fill Light : 0
Vibrance : 0
Highlight Recovery : 32
Clarity : +53
Defringe : 0
Hue Adjustment Red : 0
Hue Adjustment Orange : 0
Hue Adjustment Yellow : 0
Hue Adjustment Green : 0
Hue Adjustment Aqua : 0
Hue Adjustment Blue : 0
Hue Adjustment Purple : 0
Hue Adjustment Magenta : 0
Saturation Adjustment Red : 0
Saturation Adjustment Orange : 0
Saturation Adjustment Yellow : 0
Saturation Adjustment Green : 0
Saturation Adjustment Aqua : 0
Saturation Adjustment Blue : 0
Saturation Adjustment Purple : 0
Saturation Adjustment Magenta : 0
Luminance Adjustment Red : 0
Luminance Adjustment Orange : 0
Luminance Adjustment Yellow : 0
Luminance Adjustment Green : 0
Luminance Adjustment Aqua : 0
Luminance Adjustment Blue : 0
Luminance Adjustment Purple : 0
Luminance Adjustment Magenta : 0
Split Toning Shadow Hue : 0
Split Toning Shadow Saturation : 0
Split Toning Highlight Hue : 0
Split Toning Highlight Saturation : 0
Split Toning Balance : 0
Parametric Shadows : 0
Parametric Darks : 0
Parametric Lights : 0
Parametric Highlights : 0
Parametric Shadow Split : 25
Parametric Midtone Split : 50
Parametric Highlight Split : 75
Sharpen Radius : +1.0
Sharpen Detail : 25
Sharpen Edge Masking : 0
Post Crop Vignette Amount : 0
Grain Amount : 0
Color Noise Reduction Detail : 50
Lens Profile Enable : 0
Lens Manual Distortion Amount : 0
Perspective Vertical : 0
Perspective Horizontal : 0
Perspective Rotate : 0.0
Perspective Scale : 100
Convert To Grayscale : False
Tone Curve Name : Strong Contrast
Camera Profile : Adobe Standard
Lens Profile Setup : LensDefaults
Has Settings : True
Crop Top : 0.078038
Crop Left : 0
Crop Bottom : 0.830546
Crop Right : 0.961367
Crop Angle : 0
Crop Constrain To Warp : 0
Crop Width : 1200
Crop Height : 626
Crop Unit : pixels
Has Crop : True
Already Applied : True
Flash Fired : False
Flash Return : No return detection
Flash Mode : Off
Flash Function : False
Flash Red Eye Mode : False
Creator : Photographer: Jonathan Segura
Rights : Copyright: Jonathan Segura
Subject : blizzard, brooklyn bridge, dumbo, feb 2010, snow, zeiss 35mm
Tone Curve : 0, 0, 32, 16, 64, 50, 128, 128, 192, 202, 255, 255
Image Width : 300
Image Height : 157
Bits Per Sample : 8
Color Components : 3
Aperture : 2.8
Image Size : 300x157
Megapixels : 0.047
Scale Factor To 35 mm Equivalent : 1.0
Shutter Speed : 1/20
Create Date : 2010:02:26 01:53:16.13
Date/Time Original : 2010:02:26 01:53:16.13
Flash : Off, Did not fire
Circle Of Confusion : 0.031 mm
Field Of View : 55.6 deg
Focal Length : 35.0 mm (35 mm equivalent: 34.2 mm)
Hyperfocal Distance : 14.21 m
Light Value : 3.0
Lens ID : Carl Zeiss Distagon T* 35mm f/2 ZE