Uber Exif Photo
By-line : Photographer: Jonathan Segura
Copyright Notice : Copyright: Jonathan Segura
Make : Canon
Camera Model Name : Canon EOS 5D Mark II
Modify Date : 2010:07:26 22:55:28
Artist : Photographer: Jonathan Segura
Copyright : Copyright: Jonathan Segura
Exposure Time : 1/30
F Number : 2.8
Exposure Program : Manual
ISO : 800
Date/Time Original : 2010:07:26 21:01:14
Create Date : 2010:07:26 21:01:14
Shutter Speed Value : 1/30
Aperture Value : 2.8
Exposure Compensation : 0
Max Aperture Value : 2.8
Metering Mode : Multi-segment
Focal Length : 21.0 mm
Custom Rendered : Normal
Exposure Mode : Manual
White Balance : Auto
Scene Capture Type : Standard
Date/Time Digitized : 2010:07:26 21:01:14.32-04:00
Exif Image Width : 1200
Exif Image Height : 800
Creator Tool : Adobe Photoshop Lightroom
Serial Number : 620301347
Lens Info : 21mm f/?
Lens : Zeiss Distagon T* 2.8/21 ZE
Image Number : 0
Flash Compensation : 0
Owner Name : Jonathan Segura
Firmware : 2.0.4
Version : 6.1
Process Version : 5.7
Color Temperature : 2850
Tint : 0
Exposure : +1.00
Shadows : 7
Brightness : +50
Contrast : +25
Sharpness : 46
Luminance Smoothing : 36
Color Noise Reduction : 25
Chromatic Aberration R : 0
Chromatic Aberration B : 0
Vignette Amount : 0
Shadow Tint : 0
Red Hue : 0
Red Saturation : 0
Green Hue : 0
Green Saturation : 0
Blue Hue : 0
Blue Saturation : 0
Fill Light : 23
Highlight Recovery : 0
Clarity : +57
Defringe : 0
Gray Mixer Red : -1
Gray Mixer Orange : -9
Gray Mixer Yellow : -12
Gray Mixer Green : -21
Gray Mixer Aqua : -21
Gray Mixer Blue : +2
Gray Mixer Purple : +11
Gray Mixer Magenta : +6
Split Toning Shadow Hue : 0
Split Toning Shadow Saturation : 0
Split Toning Highlight Hue : 0
Split Toning Highlight Saturation : 0
Split Toning Balance : 0
Parametric Shadows : 0
Parametric Darks : 0
Parametric Lights : 0
Parametric Highlights : 0
Parametric Shadow Split : 25
Parametric Midtone Split : 50
Parametric Highlight Split : 75
Sharpen Radius : +1.0
Sharpen Detail : 25
Sharpen Edge Masking : 0
Post Crop Vignette Amount : 0
Grain Amount : 0
Luminance Noise Reduction Detail : 50
Color Noise Reduction Detail : 50
Luminance Noise Reduction Contrast : 0
Lens Profile Enable : 0
Lens Manual Distortion Amount : 0
Perspective Vertical : 0
Perspective Horizontal : 0
Perspective Rotate : 0.0
Perspective Scale : 100
Convert To Grayscale : True
Tone Curve Name : Medium Contrast
Camera Profile : Adobe Standard
Lens Profile Setup : LensDefaults
Has Settings : True
Has Crop : False
Already Applied : True
Flash Fired : False
Flash Return : No return detection
Flash Mode : Off
Flash Function : False
Flash Red Eye Mode : False
Creator : Photographer: Jonathan Segura
Rights : Copyright: Jonathan Segura
Tone Curve : 0, 0, 32, 22, 64, 56, 128, 128, 192, 196, 255, 255
Image Width : 300
Image Height : 200
Bits Per Sample : 8
Color Components : 1
Aperture : 2.8
Image Size : 300x200
Megapixels : 0.060
Scale Factor To 35 mm Equivalent : 1.0
Shutter Speed : 1/30
Create Date : 2010:07:26 21:01:14.32
Date/Time Original : 2010:07:26 21:01:14.32
Flash : Off, Did not fire
Circle Of Confusion : 0.031 mm
Field Of View : 82.6 deg
Focal Length : 21.0 mm (35 mm equivalent: 20.5 mm)
Hyperfocal Distance : 5.12 m
Light Value : 4.9
Lens ID : Carl Zeiss Distagon T* 21mm f/2.8 ZE