Uber Exif Photo
Make : NIKON CORPORATION
Camera Model Name : NIKON D3
Orientation : Horizontal (normal)
Software : Adobe Photoshop CS4 Windows
Modify Date : 2010:01:02 21:18:46
Exposure Time : 1/15
F Number : 4.0
Exposure Program : Aperture-priority AE
ISO : 800
Date/Time Original : 2010:01:02 17:25:28
Create Date : 2010:01:02 17:25:28
Shutter Speed Value : 1/15
Aperture Value : 4.0
Exposure Compensation : -2/3
Max Aperture Value : 1.0
Metering Mode : Multi-segment
Light Source : Unknown
Focal Length : 100.0 mm
User Comment : TOMASZ DZIUBINSKI
Color Space : sRGB
Exif Image Width : 1024
Exif Image Height : 701
Sensing Method : One-chip color area
Scene Type : Directly photographed
CFA Pattern : [Red,Green][Green,Blue]
Custom Rendered : Normal
Exposure Mode : Auto
White Balance : Auto
Digital Zoom Ratio : 1
Focal Length In 35mm Format : 100 mm
Scene Capture Type : Standard
Gain Control : Low gain up
Contrast : Normal
Saturation : Normal
Sharpness : Hard
Subject Distance Range : Unknown
Photometric Interpretation : RGB
Samples Per Pixel : 3
Planar Configuration : Chunky
Date/Time Digitized : 2010:01:02 17:25:28.42+01:00
Creator Tool : Ver.2.01
Rating : 0
Serial Number : 2023254
Lens Info : 0mm f/0
Lens : 0.0 mm f/0.0
Image Number : 178971
Raw File Name : _FFN8682.NEF
Version : 5.6
Color Temperature : 2800
Tint : 0
Exposure : +0.10
Shadows : 1
Brightness : +39
Luminance Smoothing : 100
Color Noise Reduction : 100
Chromatic Aberration R : 0
Chromatic Aberration B : 0
Vignette Amount : 0
Shadow Tint : 0
Red Hue : 0
Red Saturation : 0
Green Hue : 0
Green Saturation : 0
Blue Hue : 0
Blue Saturation : 0
Fill Light : 0
Vibrance : +7
Highlight Recovery : 44
Clarity : +91
Defringe : 1
Hue Adjustment Red : 0
Hue Adjustment Orange : 0
Hue Adjustment Yellow : 0
Hue Adjustment Green : 0
Hue Adjustment Aqua : 0
Hue Adjustment Blue : 0
Hue Adjustment Purple : 0
Hue Adjustment Magenta : 0
Saturation Adjustment Red : 0
Saturation Adjustment Orange : 0
Saturation Adjustment Yellow : 0
Saturation Adjustment Green : 0
Saturation Adjustment Aqua : 0
Saturation Adjustment Blue : 0
Saturation Adjustment Purple : 0
Saturation Adjustment Magenta : 0
Luminance Adjustment Red : 0
Luminance Adjustment Orange : 0
Luminance Adjustment Yellow : 0
Luminance Adjustment Green : 0
Luminance Adjustment Aqua : 0
Luminance Adjustment Blue : 0
Luminance Adjustment Purple : 0
Luminance Adjustment Magenta : 0
Split Toning Shadow Hue : 0
Split Toning Shadow Saturation : 0
Split Toning Highlight Hue : 0
Split Toning Highlight Saturation : 0
Split Toning Balance : 0
Parametric Shadows : +5
Parametric Darks : +44
Parametric Lights : -29
Parametric Highlights : +3
Parametric Shadow Split : 25
Parametric Midtone Split : 50
Parametric Highlight Split : 75
Sharpen Radius : +0.5
Sharpen Detail : 75
Sharpen Edge Masking : 0
Post Crop Vignette Amount : 0
Convert To Grayscale : False
Tone Curve Name : Medium Contrast
Camera Profile : Camera D2X Mode 2 dcpTool Untwist
Has Settings : True
Has Crop : False
Already Applied : True
Sidecar For Extension : NEF
Color Mode : RGB
ICC Profile Name : sRGB IEC61966-2.1
Format : image/jpeg
Flash Fired : False
Flash Return : No return detection
Flash Mode : Unknown
Flash Function : False
Flash Red Eye Mode : False
Tone Curve : 0, 0, 32, 22, 64, 56, 128, 128, 192, 196, 255, 255
Image Width : 300
Image Height : 205
Bits Per Sample : 8
Color Components : 1
Aperture : 4.0
Image Size : 300x205
Megapixels : 0.061
Scale Factor To 35 mm Equivalent : 1.0
Shutter Speed : 1/15
Create Date : 2010:01:02 17:25:28.42
Date/Time Original : 2010:01:02 17:25:28.42
Modify Date : 2010:01:02 21:18:46.42
Flash : No Flash
Circle Of Confusion : 0.030 mm
Field Of View : 20.4 deg
Focal Length : 100.0 mm (35 mm equivalent: 100.0 mm)
Hyperfocal Distance : 83.21 m
Light Value : 4.9
Lens ID : 0.0mm f/0.0