Uber Exif Photo
Caption-Abstract : Brighton Beach, NY
By-line : Mike Peters
Keywords : Brighton Beach, NYC, square, color, film, hasselblad, fujicolor800z
Copyright Notice : © 2009 Mike Peters
Copyright Flag : True
Image Description : Brighton Beach, NY
Orientation : Horizontal (normal)
Software : Adobe Photoshop CS4 Macintosh
Modify Date : 2010:07:23 18:41:42
Artist : Mike Peters
Copyright : © 2009 Mike Peters
Color Space : sRGB
Exif Image Width : 747
Exif Image Height : 750
Profile Description : sRGB IEC61966-2.1
Create Date : 2009:06:24 14:26:42-04:00
Label : Select
Raw File Name : 050909r04f13 2.tif
Version : 5.3
White Balance : Custom
Incremental Temperature : -6
Incremental Tint : +2
Exposure : 0.00
Shadows : 2
Brightness : +20
Contrast : 0
Saturation : 0
Sharpness : 50
Luminance Smoothing : 1
Color Noise Reduction : 100
Chromatic Aberration R : 0
Chromatic Aberration B : 0
Vignette Amount : -56
Vignette Midpoint : 21
Shadow Tint : +100
Red Hue : 0
Red Saturation : 0
Green Hue : 0
Green Saturation : 0
Blue Hue : 0
Blue Saturation : 0
Fill Light : 10
Vibrance : 0
Highlight Recovery : 30
Clarity : +30
Defringe : 0
Hue Adjustment Red : +14
Hue Adjustment Orange : 0
Hue Adjustment Yellow : 0
Hue Adjustment Green : 0
Hue Adjustment Aqua : 0
Hue Adjustment Blue : 0
Hue Adjustment Purple : 0
Hue Adjustment Magenta : 0
Saturation Adjustment Red : -10
Saturation Adjustment Orange : 0
Saturation Adjustment Yellow : 0
Saturation Adjustment Green : -15
Saturation Adjustment Aqua : 0
Saturation Adjustment Blue : 0
Saturation Adjustment Purple : 0
Saturation Adjustment Magenta : 0
Luminance Adjustment Red : 0
Luminance Adjustment Orange : 0
Luminance Adjustment Yellow : 0
Luminance Adjustment Green : 0
Luminance Adjustment Aqua : 0
Luminance Adjustment Blue : 0
Luminance Adjustment Purple : 0
Luminance Adjustment Magenta : 0
Split Toning Shadow Hue : 0
Split Toning Shadow Saturation : 0
Split Toning Highlight Hue : 0
Split Toning Highlight Saturation : 0
Split Toning Balance : 0
Parametric Shadows : 0
Parametric Darks : 0
Parametric Lights : 0
Parametric Highlights : 0
Parametric Shadow Split : 25
Parametric Midtone Split : 50
Parametric Highlight Split : 75
Sharpen Radius : +0.5
Sharpen Detail : 25
Sharpen Edge Masking : 40
Post Crop Vignette Amount : 0
Convert To Grayscale : False
Tone Curve Name : Linear
Camera Profile : Embedded
Has Settings : True
Crop Top : 0.016715
Crop Left : 0.001492
Crop Bottom : 0.994035
Crop Right : 0.980811
Crop Angle : -0.265564
Has Crop : True
Already Applied : True
Format : image/jpeg
Color Mode : RGB
ICC Profile Name : sRGB IEC61966-2.1
Preserved File Name : 050909r04f13 BrightonBeach_.jpg
Marked : True
Tone Curve : 0, 0, 255, 255, 32, 22, 64, 56, 128, 128, 192, 196, 32, 16, 64, 50, 192, 202
Rights : © 2009 Mike Peters
Creator : Mike Peters
Description : Brighton Beach, NY
Subject : Brighton Beach, NYC, square, color, film, hasselblad, fujicolor800z
Usage Terms : All Rights Reserved
Creator Address : 189 Claremont Avenue
Creator City : Verona
Creator Region : NJ
Creator Postal Code : 07044
Creator Country : USA
Creator Work Telephone : 973-809-4762
Creator Work Email : mike@mikepeters.com
Creator Work URL : www.mikepeters.com
Image Width : 299
Image Height : 300
Bits Per Sample : 8
Color Components : 3
Image Size : 299x300
Megapixels : 0.090