Uber Exif Photo
Caption-Abstract : Kearny, NJ
By-line : Mike Peters
Object Name : Kearny, NJ
Keywords : Kearny, NJ, square, color, film, hasselblad, fujicolor800z
Copyright Notice : © 2009 Mike Peters
Image Description : Kearny, NJ
Make : Microtek
Camera Model Name : ArtixScan 120tf
Orientation : Horizontal (normal)
Software : Adobe Photoshop CS4 Macintosh
Modify Date : 2010:07:23 18:41:50
Artist : Mike Peters
Copyright : © 2009 Mike Peters
Color Space : sRGB
Exif Image Width : 744
Exif Image Height : 750
Profile Description : sRGB IEC61966-2.1
Create Date : 2009:05:12 22:59:43-04:00
Creator Tool : SilverFast 6.4.4r7a
Label : Second
Already Applied : True
Has Crop : True
Crop Angle : -0.638621
Crop Right : 0.994933
Crop Bottom : 0.979511
Crop Left : 0.000234
Crop Top : 0.03136
Has Settings : True
Camera Profile : Embedded
Tone Curve Name : Strong Contrast
Convert To Grayscale : False
Post Crop Vignette Amount : 0
Sharpen Edge Masking : 0
Sharpen Detail : 40
Sharpen Radius : +0.5
Parametric Highlight Split : 75
Parametric Midtone Split : 50
Parametric Shadow Split : 25
Parametric Highlights : 0
Parametric Lights : 0
Parametric Darks : 0
Parametric Shadows : 0
Split Toning Balance : 0
Split Toning Highlight Saturation : 0
Split Toning Highlight Hue : 0
Split Toning Shadow Saturation : 0
Split Toning Shadow Hue : 0
Luminance Adjustment Magenta : 0
Luminance Adjustment Purple : 0
Luminance Adjustment Blue : 0
Luminance Adjustment Aqua : 0
Luminance Adjustment Green : 0
Luminance Adjustment Yellow : 0
Luminance Adjustment Orange : 0
Luminance Adjustment Red : 0
Saturation Adjustment Magenta : 0
Saturation Adjustment Purple : 0
Saturation Adjustment Blue : 0
Saturation Adjustment Aqua : 0
Saturation Adjustment Green : -30
Saturation Adjustment Yellow : 0
Saturation Adjustment Orange : 0
Saturation Adjustment Red : -20
Hue Adjustment Magenta : 0
Hue Adjustment Purple : 0
Hue Adjustment Blue : 0
Hue Adjustment Aqua : +30
Hue Adjustment Green : 0
Hue Adjustment Yellow : 0
Hue Adjustment Orange : 0
Hue Adjustment Red : +15
Defringe : 0
Clarity : +40
Highlight Recovery : 0
Vibrance : 0
Fill Light : 20
Blue Saturation : 0
Blue Hue : 0
Green Saturation : 0
Green Hue : 0
Red Saturation : 0
Red Hue : 0
Shadow Tint : -4
Vignette Midpoint : 25
Vignette Amount : -50
Chromatic Aberration B : 0
Chromatic Aberration R : 0
Color Noise Reduction : 100
Luminance Smoothing : 0
Sharpness : 50
Saturation : 0
Contrast : 0
Brightness : -10
Shadows : 10
Exposure : -0.15
Incremental Tint : -8
Incremental Temperature : +4
White Balance : Custom
Version : 5.2
Raw File Name : 040509r03f13 kearnyRp.tif
Format : image/jpeg
ICC Profile Name : sRGB IEC61966-2.1
Color Mode : RGB
Preserved File Name : 040509r03f13 kearny_.jpg
Tone Curve : 0, 0, 32, 16, 64, 50, 128, 128, 192, 202, 255, 255
Rights : © 2009 Mike Peters
Creator : Mike Peters
Description : Kearny, NJ
Subject : Kearny, NJ, square, color, film, hasselblad, fujicolor800z
Title : Kearny, NJ
Creator Address : 189 Claremont Avenue
Creator City : Verona
Creator Region : NJ
Creator Postal Code : 07044
Creator Country : USA
Creator Work Telephone : 973-809-4762
Creator Work Email : mike@mikepeters.com
Creator Work URL : www.mikepeters.com
Usage Terms : All Rights Reserved
Image Width : 298
Image Height : 300
Bits Per Sample : 8
Color Components : 3
Image Size : 298x300
Megapixels : 0.089