Uber Exif Photo
Caption-Abstract : July 4th Parade, Ridgefilend Park, NJ
By-line : Mike Peters
Keywords : Ridgefilend Park, NJ, square, color, film, hasselblad, fujicolor800z
Copyright Notice : © 2010 Mike Peters _ 973-809-4762 _ mike@mikepeters.com_ALL RIGHTS RESERVED
Copyright Flag : True
Image Description : July 4th Parade, Ridgefilend Park, NJ
Orientation : Horizontal (normal)
Software : Adobe Photoshop CS4 Macintosh
Modify Date : 2010:07:23 18:40:59
Artist : Mike Peters
Copyright : © 2010 Mike Peters _ 973-809-4762 _ mike@mikepeters.com_ALL RIGHTS RESERVED
Color Space : sRGB
Exif Image Width : 745
Exif Image Height : 750
Profile Description : sRGB IEC61966-2.1
Create Date : 2009:05:14 10:00-04:00
Label : Approved
Already Applied : True
Has Crop : True
Crop Angle : -0.541532
Crop Right : 0.999795
Crop Bottom : 0.970313
Crop Left : 0.001665
Crop Top : 0.047528
Has Settings : True
Camera Profile : Embedded
Tone Curve Name : Medium Contrast
Convert To Grayscale : False
Grain Amount : 0
Post Crop Vignette Amount : 0
Sharpen Edge Masking : 100
Sharpen Detail : 50
Sharpen Radius : +0.5
Parametric Highlight Split : 75
Parametric Midtone Split : 50
Parametric Shadow Split : 25
Parametric Highlights : 0
Parametric Lights : 0
Parametric Darks : 0
Parametric Shadows : 0
Split Toning Balance : 0
Split Toning Highlight Saturation : 0
Split Toning Highlight Hue : 0
Split Toning Shadow Saturation : 0
Split Toning Shadow Hue : 0
Luminance Adjustment Magenta : 0
Luminance Adjustment Purple : 0
Luminance Adjustment Blue : 0
Luminance Adjustment Aqua : 0
Luminance Adjustment Green : 0
Luminance Adjustment Yellow : 0
Luminance Adjustment Orange : 0
Luminance Adjustment Red : 0
Saturation Adjustment Magenta : 0
Saturation Adjustment Purple : 0
Saturation Adjustment Blue : 0
Saturation Adjustment Aqua : 0
Saturation Adjustment Green : -30
Saturation Adjustment Yellow : 0
Saturation Adjustment Orange : 0
Saturation Adjustment Red : -20
Hue Adjustment Magenta : 0
Hue Adjustment Purple : 0
Hue Adjustment Blue : 0
Hue Adjustment Aqua : +30
Hue Adjustment Green : 0
Hue Adjustment Yellow : 0
Hue Adjustment Orange : 0
Hue Adjustment Red : +15
Defringe : 0
Clarity : +40
Highlight Recovery : 0
Vibrance : 0
Fill Light : 30
Blue Saturation : 0
Blue Hue : 0
Green Saturation : 0
Green Hue : 0
Red Saturation : 0
Red Hue : 0
Shadow Tint : -100
Vignette Midpoint : 25
Vignette Amount : -50
Chromatic Aberration B : 0
Chromatic Aberration R : 0
Color Noise Reduction : 100
Luminance Smoothing : 50
Sharpness : 50
Saturation : 0
Contrast : -25
Brightness : -10
Shadows : 12
Exposure : 0.00
Incremental Tint : -35
Incremental Temperature : -3
White Balance : Custom
Process Version : 5.0
Version : 5.7
Raw File Name : 070510r09f09 RidgefieldPk R.tif
Format : image/jpeg
ICC Profile Name : sRGB IEC61966-2.1
Color Mode : RGB
Marked : True
Preserved File Name : 070510r09f09 RidgefieldPk_.jpg
Gradient Based Corr What : Correction
Gradient Based Corr Amount : 1.000000
Gradient Based Corr Active : true
Gradient Based Corr Exposure : 0.062500
Gradient Based Corr Saturation : 0.000000
Gradient Based Corr Contrast : 0.750000
Gradient Based Corr Clarity : 0.000000
Gradient Based Corr Sharpness : 0.000000
Gradient Based Corr Brightness : -0.150000
Gradient Based Corr Toning Hue : 0.000000
Gradient Based Corr Toning Saturation : 0.000000
Gradient Based Corr Mask What : Mask/Gradient
Gradient Based Corr Mask Value : 1.000000
Gradient Based Corr Mask Zero X : 0.483149
Gradient Based Corr Mask Zero Y : 0.529649
Gradient Based Corr Mask Full X : 0.485235
Gradient Based Corr Mask Full Y : 0.096674
Paint Correction What : Correction
Paint Correction Amount : 1.000000
Paint Correction Active : true
Paint Correction Exposure : 0.000000
Paint Correction Saturation : 0.000000
Paint Correction Contrast : 0.440000
Paint Correction Clarity : 0.000000
Paint Correction Sharpness : 0.000000
Paint Correction Brightness : -0.150000
Paint Correction Toning Hue : 0.000000
Paint Correction Toning Saturation : 0.000000
Paint Correction Mask What : Mask/Paint
Paint Correction Mask Value : 0.500000
Paint Correction Mask Radius : 0.012465
Paint Correction Mask Flow : 0.765677
Paint Correction Mask Center Weight : 0.313251
Tone Curve : 0, 0, 32, 16, 64, 50, 128, 128, 192, 202, 255, 255
Subject : Ridgefilend Park, NJ, square, color, film, hasselblad, fujicolor800z
Description : July 4th Parade, Ridgefilend Park, NJ
Creator : Mike Peters
Rights : © 2010 Mike Peters _ 973-809-4762 _ mike@mikepeters.com_ALL RIGHTS RESERVED
Usage Terms : All Rights Reserved
Creator Address : 189 Claremont Avenue
Creator City : Verona
Creator Region : NJ
Creator Postal Code : 07044
Creator Country : USA
Creator Work Telephone : 973-809-4762
Creator Work Email : mike@mikepeters.com
Creator Work URL : www.mikepeters.com
Image Width : 298
Image Height : 300
Bits Per Sample : 8
Color Components : 3
Image Size : 298x300
Megapixels : 0.089