Uber Exif Photo
Caption-Abstract : KONICA MINOLTA DIGITAL CAMERA
By-line : £ukasz Cyrus
Province-State : Œlask
Country-Primary Location Name : Poland
Copyright Notice : £ukasz Cyrus
Copyright Flag : True
URL : www.shutter12.blogspot.com
Image Description : KONICA MINOLTA DIGITAL CAMERA
Make : KONICA MINOLTA
Camera Model Name : DYNAX 7D
Orientation : Horizontal (normal)
Software : Adobe Photoshop 7.0
Modify Date : 2010:07:23 23:34:07
Artist : ukasz Cyrus
Copyright : ukasz Cyrus
Exposure Time : 1/200
F Number : 1.7
Exposure Program : Aperture-priority AE
ISO : 100
Date/Time Original : 2010:07:23 20:58:55
Create Date : 2010:07:23 20:58:55
Shutter Speed Value : 1/200
Aperture Value : 1.7
Brightness Value : 4.62
Exposure Compensation : +0.7
Max Aperture Value : 1.7
Metering Mode : Center-weighted average
Light Source : Unknown
Focal Length : 50.0 mm
Subject Area : 1504 1000 3008 2000
Color Space : Uncalibrated
Exif Image Width : 1000
Exif Image Height : 665
Custom Rendered : Normal
Exposure Mode : Auto
White Balance : Auto
Digital Zoom Ratio : 0
Focal Length In 35mm Format : 75 mm
Scene Capture Type : Standard
Gain Control : None
Contrast : Normal
Saturation : Normal
Sharpness : Normal
Creator Postal Code : 41-705
Creator Work Email : bestway1@neostrada.pl
Creator Work Telephone : +48506818872
Creator Region : Ślask
Creator Country : Poland
Creator City : Ruda Ślaska
Creator Address : Słowików 16
Creator Work URL : www.shutter12.blogspot.com
Version : 5.7
Color Temperature : 4000
Tint : +5
Exposure : +0.38
Shadows : 36
Brightness : +43
Luminance Smoothing : 0
Color Noise Reduction : 25
Chromatic Aberration R : 0
Chromatic Aberration B : 0
Vignette Amount : 0
Shadow Tint : 0
Red Hue : 0
Red Saturation : 0
Green Hue : 0
Green Saturation : 0
Blue Hue : 0
Blue Saturation : 0
Fill Light : 52
Highlight Recovery : 0
Clarity : +25
Defringe : 0
Gray Mixer Red : -7
Gray Mixer Orange : -16
Gray Mixer Yellow : -20
Gray Mixer Green : -25
Gray Mixer Aqua : -19
Gray Mixer Blue : +8
Gray Mixer Purple : +15
Gray Mixer Magenta : +5
Split Toning Shadow Hue : 40
Split Toning Shadow Saturation : 8
Split Toning Highlight Hue : 38
Split Toning Highlight Saturation : 3
Split Toning Balance : 0
Parametric Shadows : 0
Parametric Darks : 0
Parametric Lights : 0
Parametric Highlights : 0
Parametric Shadow Split : 25
Parametric Midtone Split : 50
Parametric Highlight Split : 75
Sharpen Radius : +0.6
Sharpen Detail : 98
Sharpen Edge Masking : 0
Post Crop Vignette Amount : 0
Convert To Grayscale : True
Tone Curve Name : Medium Contrast
Tone Curve : 0, 0, 32, 22, 64, 56, 128, 128, 192, 196, 255, 255
Camera Profile : ACR 4.4
Gradient Based Corr What : Correction
Gradient Based Corr Amount : 1.000000
Gradient Based Corr Active : true
Gradient Based Corr Exposure : 0.075000
Gradient Based Corr Saturation : 0.000000
Gradient Based Corr Contrast : 0.000000
Gradient Based Corr Clarity : 0.000000
Gradient Based Corr Sharpness : 0.000000
Gradient Based Corr Brightness : 0.000000
Gradient Based Corr Toning Hue : 60.000000
Gradient Based Corr Toning Saturation : 0.000000
Gradient Based Corr Mask What : Mask/Gradient
Gradient Based Corr Mask Value : 1.000000
Gradient Based Corr Mask Zero X : 0.529873
Gradient Based Corr Mask Zero Y : 0.481591
Gradient Based Corr Mask Full X : 0.375122
Gradient Based Corr Mask Full Y : 0.279823
Has Settings : True
Has Crop : False
Already Applied : True
Date/Time Digitized : 2010:07:23 20:58:55+02:00
Flash Fired : False
Flash Return : No return detection
Flash Mode : Off
Flash Function : False
Flash Red Eye Mode : False
Flash Compensation : 0
Date Created : 2009:12:29
City : Ruda Ślaska
Country : Poland
State : Ślask
Samples Per Pixel : 3
Photometric Interpretation : RGB
Creator Tool : Adobe Photoshop Lightroom
Marked : True
Web Statement : www.shutter12.blogspot.com
Description : KONICA MINOLTA DIGITAL CAMERA
Creator : Łukasz Cyrus
Rights : Łukasz Cyrus
Image Width : 300
Image Height : 200
Bits Per Sample : 8
Color Components : 3
Aperture : 1.7
Image Size : 300x200
Megapixels : 0.060
Scale Factor To 35 mm Equivalent : 1.5
Shutter Speed : 1/200
Flash : Off, Did not fire
Circle Of Confusion : 0.020 mm
Field Of View : 27.0 deg
Focal Length : 50.0 mm (35 mm equivalent: 75.0 mm)
Hyperfocal Distance : 73.42 m
Light Value : 9.2