Uber Exif Photo
By-line : TOMASZ DZIUBINSKI, WARSAW,POLAND
Copyright Notice : TOMASZ DZIUBINSKI ALL RIGHTS RESERVED
Make : NIKON CORPORATION
Camera Model Name : NIKON D3
Orientation : Horizontal (normal)
Software : Adobe Photoshop CS5 Windows
Modify Date : 2010:07:13 23:04:41
Artist : TOMASZ DZIUBINSKI, WARSAW,POLAND
Copyright : TOMASZ DZIUBINSKI ALL RIGHTS RESERVED
Exposure Time : 1/160
F Number : 16.0
Exposure Program : Aperture-priority AE
ISO : 1600
Date/Time Original : 2010:05:29 17:35:43
Create Date : 2010:05:29 17:35:43
Shutter Speed Value : 1/160
Aperture Value : 16.0
Exposure Compensation : -1/3
Max Aperture Value : 1.0
Metering Mode : Multi-segment
Light Source : Unknown
Flash : No Flash
Focal Length : 50.0 mm
User Comment : TOMASZ DZIUBINSKI
Color Space : sRGB
Exif Image Width : 1024
Exif Image Height : 681
Sensing Method : One-chip color area
Scene Type : Directly photographed
CFA Pattern : [Red,Green][Green,Blue]
Custom Rendered : Normal
Exposure Mode : Auto
White Balance : Auto
Digital Zoom Ratio : 1
Focal Length In 35mm Format : 50 mm
Scene Capture Type : Standard
Gain Control : High gain up
Contrast : Normal
Saturation : Normal
Sharpness : Normal
Subject Distance Range : Unknown
Profile Description : sRGB IEC61966-2.1
Creator Tool : Adobe Photoshop CS5 Windows
Rating : 0
Format : image/jpeg
Serial Number : 2023254
Lens Info : 0mm f/0
Lens : 0.0 mm f/0.0
Image Number : 200330
Raw File Name : _FFO0018.NEF
Version : 6.1
Process Version : 5.7
Color Temperature : 4350
Tint : -16
Exposure : +0.35
Shadows : 5
Brightness : +50
Luminance Smoothing : 75
Color Noise Reduction : 50
Chromatic Aberration R : 0
Chromatic Aberration B : 0
Vignette Amount : 0
Shadow Tint : 0
Red Hue : 0
Red Saturation : 0
Green Hue : 0
Green Saturation : 0
Blue Hue : 0
Blue Saturation : 0
Fill Light : 0
Vibrance : +17
Highlight Recovery : 0
Clarity : +70
Defringe : 1
Hue Adjustment Red : 0
Hue Adjustment Orange : 0
Hue Adjustment Yellow : 0
Hue Adjustment Green : 0
Hue Adjustment Aqua : 0
Hue Adjustment Blue : 0
Hue Adjustment Purple : 0
Hue Adjustment Magenta : 0
Saturation Adjustment Red : 0
Saturation Adjustment Orange : 0
Saturation Adjustment Yellow : 0
Saturation Adjustment Green : 0
Saturation Adjustment Aqua : 0
Saturation Adjustment Blue : 0
Saturation Adjustment Purple : 0
Saturation Adjustment Magenta : 0
Luminance Adjustment Red : 0
Luminance Adjustment Orange : 0
Luminance Adjustment Yellow : 0
Luminance Adjustment Green : 0
Luminance Adjustment Aqua : 0
Luminance Adjustment Blue : 0
Luminance Adjustment Purple : 0
Luminance Adjustment Magenta : 0
Split Toning Shadow Hue : 0
Split Toning Shadow Saturation : 0
Split Toning Highlight Hue : 0
Split Toning Highlight Saturation : 0
Split Toning Balance : 0
Parametric Shadows : -15
Parametric Darks : 0
Parametric Lights : +17
Parametric Highlights : +5
Parametric Shadow Split : 25
Parametric Midtone Split : 50
Parametric Highlight Split : 75
Sharpen Radius : +1.0
Sharpen Detail : 25
Sharpen Edge Masking : 0
Post Crop Vignette Amount : 0
Grain Amount : 0
Luminance Noise Reduction Detail : 75
Color Noise Reduction Detail : 50
Luminance Noise Reduction Contrast : 35
Lens Profile Enable : 0
Lens Manual Distortion Amount : 0
Perspective Vertical : 0
Perspective Horizontal : 0
Perspective Rotate : 0.0
Perspective Scale : 100
Convert To Grayscale : False
Tone Curve Name : Medium Contrast
Camera Profile : Adobe Standard
Lens Profile Setup : LensDefaults
Has Settings : True
Has Crop : False
Already Applied : True
Sidecar For Extension : NEF
Color Mode : RGB
ICC Profile Name : sRGB IEC61966-2.1
Date Created : 2010:05:29 17:35:43.091
Creator : TOMASZ DZIUBINSKI, WARSAW,POLAND
Rights : TOMASZ DZIUBINSKI ALL RIGHTS RESERVED
Tone Curve : 0, 0, 32, 22, 64, 56, 128, 128, 192, 196, 255, 255
Image Width : 300
Image Height : 200
Bits Per Sample : 8
Color Components : 3
Aperture : 16.0
Image Size : 300x200
Megapixels : 0.060
Scale Factor To 35 mm Equivalent : 1.0
Shutter Speed : 1/160
Create Date : 2010:05:29 17:35:43.91
Date/Time Original : 2010:05:29 17:35:43.91
Modify Date : 2010:07:13 23:04:41.91
Circle Of Confusion : 0.030 mm
Field Of View : 39.6 deg
Focal Length : 50.0 mm (35 mm equivalent: 50.0 mm)
Hyperfocal Distance : 5.20 m
Light Value : 11.3
Lens ID : 0.0mm f/0.0