Uber Exif Photo
By-line : Dave Curtis
Country-Primary Location Name : New Zealand
Copyright Notice : © Dave Curtis www.magiclight.co.nz
Copyright Flag : True
Make : Canon
Camera Model Name : Canon EOS-1Ds Mark III
Modify Date : 2010:07:11 12:46:05
Copyright : (C) Dave Curtis www.magiclight.co.nz
Exposure Time : 1/160
F Number : 8.0
Exposure Program : Aperture-priority AE
ISO : 100
Date/Time Original : 2010:07:04 13:57:46
Create Date : 2010:07:04 13:57:46
Shutter Speed Value : 1/160
Aperture Value : 8.0
Exposure Compensation : +4/3
Max Aperture Value : 2.0
Metering Mode : Multi-segment
Focal Length : 50.0 mm
Custom Rendered : Normal
Exposure Mode : Auto
White Balance : Auto
Scene Capture Type : Standard
Profile Description : sRGB IEC61966-2.1
Date/Time Digitized : 2010:07:04 13:57:46.00+12:00
Exif Image Width : 900
Exif Image Height : 600
Rating : 3
Creator Tool : Adobe Photoshop Lightroom
Serial Number : 611643
Lens Info : 50mm f/?
Lens : Zeiss Makro-Planar T* 2/50 ZE
Image Number : 0
Flash Compensation : 0
Firmware : 1.1.4
Country : New Zealand
Marked : True
Version : 6.1
Process Version : 5.7
Color Temperature : 5600
Tint : -2
Exposure : -0.56
Shadows : 5
Brightness : +50
Contrast : +25
Saturation : +16
Sharpness : 60
Luminance Smoothing : 0
Color Noise Reduction : 0
Chromatic Aberration R : 0
Chromatic Aberration B : 0
Vignette Amount : 0
Shadow Tint : 0
Red Hue : 0
Red Saturation : 0
Green Hue : 0
Green Saturation : 0
Blue Hue : 0
Blue Saturation : 0
Fill Light : 0
Vibrance : +19
Highlight Recovery : 0
Clarity : +22
Defringe : 0
Hue Adjustment Red : 0
Hue Adjustment Orange : 0
Hue Adjustment Yellow : 0
Hue Adjustment Green : 0
Hue Adjustment Aqua : 0
Hue Adjustment Blue : 0
Hue Adjustment Purple : 0
Hue Adjustment Magenta : 0
Saturation Adjustment Red : 0
Saturation Adjustment Orange : 0
Saturation Adjustment Yellow : 0
Saturation Adjustment Green : 0
Saturation Adjustment Aqua : 0
Saturation Adjustment Blue : 0
Saturation Adjustment Purple : 0
Saturation Adjustment Magenta : 0
Luminance Adjustment Red : 0
Luminance Adjustment Orange : 0
Luminance Adjustment Yellow : 0
Luminance Adjustment Green : 0
Luminance Adjustment Aqua : 0
Luminance Adjustment Blue : 0
Luminance Adjustment Purple : 0
Luminance Adjustment Magenta : 0
Split Toning Shadow Hue : 0
Split Toning Shadow Saturation : 0
Split Toning Highlight Hue : 0
Split Toning Highlight Saturation : 0
Split Toning Balance : 0
Parametric Shadows : -10
Parametric Darks : -5
Parametric Lights : +5
Parametric Highlights : +10
Parametric Shadow Split : 25
Parametric Midtone Split : 50
Parametric Highlight Split : 75
Sharpen Radius : +1.0
Sharpen Detail : 25
Sharpen Edge Masking : 0
Post Crop Vignette Amount : 0
Grain Amount : 0
Lens Profile Enable : 0
Lens Manual Distortion Amount : 0
Perspective Vertical : 0
Perspective Horizontal : 0
Perspective Rotate : 0.0
Perspective Scale : 100
Convert To Grayscale : False
Tone Curve Name : Medium Contrast
Camera Profile : ACR 4.4
Lens Profile Setup : LensDefaults
Has Settings : True
Has Crop : False
Already Applied : True
Flash Fired : False
Flash Return : No return detection
Flash Mode : Unknown
Flash Function : False
Flash Red Eye Mode : False
Creator : Dave Curtis
Rights : © Dave Curtis www.magiclight.co.nz
Creator Country : New Zealand
Creator Work URL : www.magiclight.co.nz
Tone Curve : 0, 0, 32, 22, 64, 56, 128, 128, 192, 196, 255, 255
Gradient Based Corr What : Correction
Gradient Based Corr Amount : 1.000000
Gradient Based Corr Active : true
Gradient Based Corr Exposure : -0.155000
Gradient Based Corr Saturation : 0.052000
Gradient Based Corr Contrast : 0.000000
Gradient Based Corr Clarity : 0.000000
Gradient Based Corr Sharpness : 0.000000
Gradient Based Corr Brightness : 0.000000
Gradient Based Corr Toning Hue : 292.000000
Gradient Based Corr Toning Saturation : 0.000000
Gradient Based Corr Mask What : Mask/Gradient
Gradient Based Corr Mask Value : 1.000000
Gradient Based Corr Mask Zero X : 0.425906
Gradient Based Corr Mask Zero Y : 0.512356
Gradient Based Corr Mask Full X : 0.407245
Gradient Based Corr Mask Full Y : 0.047776
Image Width : 300
Image Height : 200
Bits Per Sample : 8
Color Components : 3
Aperture : 8.0
Image Size : 300x200
Megapixels : 0.060
Scale Factor To 35 mm Equivalent : 1.0
Shutter Speed : 1/160
Create Date : 2010:07:04 13:57:46.00
Date/Time Original : 2010:07:04 13:57:46.00
Flash : No Flash
Circle Of Confusion : 0.030 mm
Field Of View : 39.6 deg
Focal Length : 50.0 mm (35 mm equivalent: 50.0 mm)
Hyperfocal Distance : 10.39 m
Light Value : 13.3
Lens ID : Carl Zeiss Makro-Planar T* 50mm f/2 ZE