Uber Exif Photo
Caption-Abstract : SONY DSC
Copyright Flag : False
Image Description : SONY DSC
Make : SONY
Camera Model Name : DSLR-A900
Orientation : Horizontal (normal)
Software : Adobe Photoshop CS3 Windows
Modify Date : 2009:02:27 09:40:32
Exposure Time : 1/125
F Number : 8.0
Exposure Program : Aperture-priority AE
ISO : 100
Date/Time Original : 2008:12:26 11:51:26
Create Date : 2008:12:26 11:51:26
Shutter Speed Value : 1/125
Aperture Value : 8.0
Brightness Value : 8.12
Exposure Compensation : 0
Max Aperture Value : 2.8
Metering Mode : Multi-segment
Light Source : Unknown
Focal Length : 55.0 mm
Color Space : Uncalibrated
Exif Image Width : 1024
Exif Image Height : 768
Scene Type : Directly photographed
Custom Rendered : Normal
Exposure Mode : Auto
White Balance : Auto
Focal Length In 35mm Format : 55 mm
Scene Capture Type : Standard
Contrast : Normal
Saturation : Normal
Sharpness : Normal
Profile Description : Adobe RGB (1998)
Date/Time Digitized : 2008:12:26 11:51:26Z
Creator Tool : Adobe Photoshop CS3 Windows
Rating : 0
Format : image/jpeg
Raw File Name : DSC09010.ARW
Version : 4.6
Color Temperature : 5250
Tint : +3
Exposure : 0.00
Shadows : 5
Brightness : +43
Luminance Smoothing : 0
Color Noise Reduction : 25
Chromatic Aberration R : 0
Chromatic Aberration B : 0
Vignette Amount : 0
Shadow Tint : 0
Red Hue : 0
Red Saturation : 0
Green Hue : 0
Green Saturation : 0
Blue Hue : 0
Blue Saturation : 0
Fill Light : 0
Vibrance : +38
Highlight Recovery : 25
Clarity : 0
Defringe : 0
Hue Adjustment Red : +4
Hue Adjustment Orange : +2
Hue Adjustment Yellow : -2
Hue Adjustment Green : -1
Hue Adjustment Aqua : -34
Hue Adjustment Blue : +3
Hue Adjustment Purple : 0
Hue Adjustment Magenta : 0
Saturation Adjustment Red : +12
Saturation Adjustment Orange : +13
Saturation Adjustment Yellow : +17
Saturation Adjustment Green : +18
Saturation Adjustment Aqua : +20
Saturation Adjustment Blue : +21
Saturation Adjustment Purple : 0
Saturation Adjustment Magenta : 0
Luminance Adjustment Red : -32
Luminance Adjustment Orange : -14
Luminance Adjustment Yellow : +12
Luminance Adjustment Green : +31
Luminance Adjustment Aqua : 0
Luminance Adjustment Blue : -13
Luminance Adjustment Purple : 0
Luminance Adjustment Magenta : 0
Split Toning Shadow Hue : 80
Split Toning Shadow Saturation : 0
Split Toning Highlight Hue : 29
Split Toning Highlight Saturation : 0
Split Toning Balance : -47
Parametric Shadows : +46
Parametric Darks : +61
Parametric Lights : 0
Parametric Highlights : 0
Parametric Shadow Split : 25
Parametric Midtone Split : 50
Parametric Highlight Split : 75
Sharpen Radius : +1.0
Sharpen Detail : 25
Sharpen Edge Masking : 0
Post Crop Vignette Amount : 0
Convert To Grayscale : False
Tone Curve Name : Medium Contrast
Camera Profile : ACR 4.6
Has Settings : True
Crop Top : 0.001567
Crop Left : 0.067224
Crop Bottom : 0.995298
Crop Right : 0.95054
Crop Angle : 0
Crop Width : 3
Crop Height : 4
Crop Unit : Unknown (3)
Has Crop : True
Already Applied : True
Sidecar For Extension : ARW
Color Mode : RGB
ICC Profile Name : Adobe RGB (1998)
Flash Fired : False
Flash Return : No return detection
Flash Mode : Off
Flash Function : False
Flash Red Eye Mode : False
Description : SONY DSC
Tone Curve : 0, 0, 32, 22, 64, 56, 128, 128, 192, 196, 255, 255
Image Width : 300
Image Height : 225
Bits Per Sample : 8
Color Components : 3
Aperture : 8.0
Image Size : 300x225
Megapixels : 0.068
Scale Factor To 35 mm Equivalent : 1.0
Shutter Speed : 1/125
Flash : Off, Did not fire
Circle Of Confusion : 0.030 mm
Field Of View : 36.2 deg
Focal Length : 55.0 mm (35 mm equivalent: 55.0 mm)
Hyperfocal Distance : 12.58 m
Light Value : 13.0