Uber Exif Photo
By-line : marino mannarini
By-line Title : photographer
Copyright Notice : ©marino mannarini 2010
Copyright Flag : True
URL : www.mydvaphoto.com
Make : NIKON CORPORATION
Camera Model Name : NIKON D700
Software : Ver.1.02
Modify Date : 2010:06:25 17:44:44
Artist : Marino Mannarini +393338562061
Copyright : (C)marino mannarini 2010
Exposure Time : 1/500
F Number : 16.0
Exposure Program : Aperture-priority AE
ISO : 200
Date/Time Original : 2010:04:26 11:16:40
Create Date : 2010:04:26 11:16:40
Shutter Speed Value : 1/500
Aperture Value : 16.0
Exposure Compensation : 0
Max Aperture Value : 1.0
Metering Mode : Center-weighted average
Light Source : Unknown
Focal Length : 18.0 mm
User Comment : (c)Marino Mannarini mydvaphoto.com
Sensing Method : One-chip color area
Scene Type : Directly photographed
CFA Pattern : [Red,Green][Green,Blue]
Custom Rendered : Normal
Exposure Mode : Auto
White Balance : Auto
Digital Zoom Ratio : 1
Focal Length In 35mm Format : 18 mm
Scene Capture Type : Standard
Gain Control : None
Contrast : Normal
Saturation : Normal
Sharpness : Normal
Subject Distance Range : Unknown
Profile Description : sRGB IEC61966-2.1
Date/Time Digitized : 2010:04:26 11:16:40.00+02:00
Exif Image Width : 900
Exif Image Height : 599
Creator Tool : Adobe Photoshop Lightroom
Serial Number : 2132043
Lens Info : 0mm f/0
Lens : 0.0 mm f/0.0
Image Number : 14263
Marked : True
Web Statement : www.mydvaphoto.com
Authors Position : photographer
Version : 6.1
Process Version : 5.7
Color Temperature : 6479
Tint : +2
Exposure : 0.00
Shadows : 27
Brightness : +34
Luminance Smoothing : 0
Color Noise Reduction : 25
Chromatic Aberration R : 0
Chromatic Aberration B : 0
Vignette Amount : 0
Shadow Tint : 0
Red Hue : 0
Red Saturation : 0
Green Hue : 0
Green Saturation : 0
Blue Hue : 0
Blue Saturation : 0
Fill Light : 0
Vibrance : 0
Highlight Recovery : 45
Clarity : 0
Defringe : 0
Hue Adjustment Red : 0
Hue Adjustment Orange : 0
Hue Adjustment Yellow : 0
Hue Adjustment Green : 0
Hue Adjustment Aqua : 0
Hue Adjustment Blue : 0
Hue Adjustment Purple : 0
Hue Adjustment Magenta : 0
Saturation Adjustment Red : 0
Saturation Adjustment Orange : 0
Saturation Adjustment Yellow : 0
Saturation Adjustment Green : 0
Saturation Adjustment Aqua : 0
Saturation Adjustment Blue : 0
Saturation Adjustment Purple : 0
Saturation Adjustment Magenta : 0
Luminance Adjustment Red : 0
Luminance Adjustment Orange : 0
Luminance Adjustment Yellow : 0
Luminance Adjustment Green : 0
Luminance Adjustment Aqua : 0
Luminance Adjustment Blue : 0
Luminance Adjustment Purple : 0
Luminance Adjustment Magenta : 0
Split Toning Shadow Hue : 56
Split Toning Shadow Saturation : 22
Split Toning Highlight Hue : 68
Split Toning Highlight Saturation : 20
Split Toning Balance : 0
Parametric Shadows : -27
Parametric Darks : 0
Parametric Lights : +27
Parametric Highlights : 0
Parametric Shadow Split : 25
Parametric Midtone Split : 50
Parametric Highlight Split : 75
Sharpen Radius : +1.0
Sharpen Detail : 25
Sharpen Edge Masking : 0
Post Crop Vignette Amount : -24
Post Crop Vignette Midpoint : 56
Post Crop Vignette Feather : 72
Post Crop Vignette Roundness : -31
Post Crop Vignette Style : Paint Overlay
Grain Amount : 0
Color Noise Reduction Detail : 50
Lens Profile Enable : 0
Lens Manual Distortion Amount : 0
Perspective Vertical : 0
Perspective Horizontal : 0
Perspective Rotate : 0.0
Perspective Scale : 100
Convert To Grayscale : False
Tone Curve Name : Medium Contrast
Camera Profile : Adobe Standard
Lens Profile Setup : LensDefaults
Has Settings : True
Has Crop : False
Already Applied : True
Flash Fired : False
Flash Return : No return detection
Flash Mode : Unknown
Flash Function : False
Flash Red Eye Mode : False
Creator : marino mannarini
Rights : ©marino mannarini 2010
Creator Postal Code : I 73100
Creator Work Telephone : +393338562061
Creator Region : LE
Creator City : LECCE
Creator Country : ITALY
Creator Work Email : marinomannarini@gmail.com
Creator Address : piazza libertini, 10
Creator Work URL : www.mydvaphoto.com
Usage Terms : all rights reserved
Tone Curve : 0, 0, 32, 22, 64, 56, 128, 128, 192, 196, 255, 255
Image Width : 300
Image Height : 200
Bits Per Sample : 8
Color Components : 3
Aperture : 16.0
Image Size : 300x200
Megapixels : 0.060
Scale Factor To 35 mm Equivalent : 1.0
Shutter Speed : 1/500
Create Date : 2010:04:26 11:16:40.00
Date/Time Original : 2010:04:26 11:16:40.00
Flash : No Flash
Circle Of Confusion : 0.030 mm
Field Of View : 90.0 deg
Focal Length : 18.0 mm (35 mm equivalent: 18.0 mm)
Hyperfocal Distance : 0.67 m
Light Value : 16.0
Lens ID : 0.0mm f/0.0