Uber Exif Photo
Make : Canon
Camera Model Name : Canon EOS-1Ds Mark II
Software : Adobe Photoshop CS Windows
Modify Date : 2010:06:06 18:42:29
Exposure Time : 1/800
Exposure Program : Aperture-priority AE
ISO : 100
Date/Time Original : 2005:02:19 16:34:23
Create Date : 2005:02:19 16:34:23
Shutter Speed Value : 1/800
Exposure Compensation : 0
Focal Length : 0.0 mm
Custom Rendered : Normal
Exposure Mode : Auto
White Balance : Auto
Scene Capture Type : Standard
F Number : 0
Date/Time Digitized : 2005:02:19 16:34:23-08:00
Aperture Value : Inf
Color Space : sRGB
Exif Image Width : 1280
Exif Image Height : 567
Creator Tool : Adobe Photoshop Lightroom
Rating : 5
Format : image/tiff
Version : 5.7
Incremental Temperature : +9
Incremental Tint : -6
Exposure : +0.41
Shadows : 6
Brightness : +5
Contrast : +64
Sharpness : 51
Luminance Smoothing : 0
Color Noise Reduction : 0
Chromatic Aberration R : 0
Chromatic Aberration B : 0
Vignette Amount : +1
Vignette Midpoint : 51
Shadow Tint : 0
Red Hue : 0
Red Saturation : 0
Green Hue : 0
Green Saturation : 0
Blue Hue : 0
Blue Saturation : 0
Fill Light : 0
Highlight Recovery : 85
Clarity : +50
Defringe : 0
Gray Mixer Red : -5
Gray Mixer Orange : -13
Gray Mixer Yellow : -17
Gray Mixer Green : -23
Gray Mixer Aqua : -19
Gray Mixer Blue : +5
Gray Mixer Purple : +12
Gray Mixer Magenta : +4
Split Toning Shadow Hue : 50
Split Toning Shadow Saturation : 0
Split Toning Highlight Hue : 0
Split Toning Highlight Saturation : 0
Split Toning Balance : 0
Parametric Shadows : +13
Parametric Darks : -1
Parametric Lights : 0
Parametric Highlights : -13
Parametric Shadow Split : 25
Parametric Midtone Split : 50
Parametric Highlight Split : 75
Sharpen Radius : +1.2
Sharpen Detail : 30
Sharpen Edge Masking : 0
Post Crop Vignette Amount : 0
Convert To Grayscale : True
Tone Curve Name : Linear
Camera Profile : Embedded
Has Settings : True
Crop Top : 0.19168
Crop Left : 0.014868
Crop Bottom : 0.874583
Crop Right : 0.986067
Crop Angle : -1.37044
Crop Width : 1280
Crop Height : 567
Crop Unit : pixels
Has Crop : True
Already Applied : True
Flash Fired : False
Flash Return : No return detection
Flash Mode : Off
Flash Function : False
Flash Red Eye Mode : False
Tone Curve : 0, 0, 255, 255
Paint Correction What : Correction
Paint Correction Amount : 1.000000
Paint Correction Active : true
Paint Correction Exposure : 0.191176
Paint Correction Saturation : 0.000000
Paint Correction Contrast : 0.000000
Paint Correction Clarity : 0.000000
Paint Correction Sharpness : 0.000000
Paint Correction Brightness : 0.161765
Paint Correction Toning Hue : 358.000000
Paint Correction Toning Saturation : 0.000000
Paint Correction Mask What : Mask/Paint
Paint Correction Mask Value : 0.682171
Paint Correction Mask Radius : 0.050178
Paint Correction Mask Flow : 0.961628
Paint Correction Mask Center Weight : 0.080127
Gradient Based Corr What : Correction
Gradient Based Corr Amount : 1.000000
Gradient Based Corr Active : true
Gradient Based Corr Exposure : -0.308824
Gradient Based Corr Saturation : 0.000000
Gradient Based Corr Contrast : 0.000000
Gradient Based Corr Clarity : 0.000000
Gradient Based Corr Sharpness : 0.000000
Gradient Based Corr Brightness : 0.000000
Gradient Based Corr Toning Hue : 358.000000
Gradient Based Corr Toning Saturation : 0.000000
Gradient Based Corr Mask What : Mask/Gradient
Gradient Based Corr Mask Value : 1.000000
Gradient Based Corr Mask Zero X : 0.495512
Gradient Based Corr Mask Zero Y : 0.471639
Gradient Based Corr Mask Full X : 0.494558
Gradient Based Corr Mask Full Y : 0.172220
Image Width : 300
Image Height : 133
Bits Per Sample : 8
Color Components : 1
Aperture : Inf
Image Size : 300x133
Megapixels : 0.040
Scale Factor To 35 mm Equivalent : 1.0
Shutter Speed : 1/800
Flash : Off, Did not fire
Circle Of Confusion : 0.030 mm
Focal Length : 0.0 mm (35 mm equivalent: 0.0 mm)
Hyperfocal Distance : Inf m