Uber Exif Photo
Caption-Abstract : SONY DSC
Image Description : SONY DSC
Make : SONY
Camera Model Name : DSLR-A700
Orientation : Horizontal (normal)
Software : ACD Systems Digital Imaging
Modify Date : 2010:06:04 09:23:00
Exposure Time : 1/125
F Number : 4.0
Exposure Program : Manual
ISO :
Date/Time Original : 2010:03:26 14:23:22
Create Date : 2010:03:26 14:23:22
Shutter Speed Value : 1/125
Aperture Value : 4.0
Brightness Value : 0.62
Exposure Compensation : 0
Max Aperture Value : 1.4
Metering Mode : Spot
Light Source : Unknown
Focal Length : 85.0 mm
Exif Image Width : 595
Exif Image Height : 850
Scene Type : Directly photographed
Custom Rendered : Normal
Exposure Mode : Manual
White Balance : Auto
Digital Zoom Ratio : 0
Focal Length In 35mm Format : 127 mm
Scene Capture Type : Standard
Contrast : Normal
Saturation : Normal
Sharpness : Hard
Date/Time Digitized : 2010:03:26 14:23:220Z
Flash Fired : True
Flash Return : No return detection
Flash Mode : On
Flash Function : False
Flash Red Eye Mode : False
Creator Tool : Adobe Photoshop Lightroom
Lens Info : 85mm f/1.4
Lens : 85mm F1.4 ZA
Version : 5.6
Color Temperature : 4381
Tint : +2
Exposure : +0.67
Shadows : 5
Brightness : +50
Luminance Smoothing : 0
Color Noise Reduction : 25
Chromatic Aberration R : 0
Chromatic Aberration B : 0
Vignette Amount : 0
Shadow Tint : 0
Red Hue : 0
Red Saturation : 0
Green Hue : 0
Green Saturation : 0
Blue Hue : 0
Blue Saturation : 0
Fill Light : 13
Highlight Recovery : 0
Clarity : +24
Defringe : 0
Gray Mixer Red : +10
Gray Mixer Orange : -31
Gray Mixer Yellow : +31
Gray Mixer Green : -26
Gray Mixer Aqua : -67
Gray Mixer Blue : +48
Gray Mixer Purple : +15
Gray Mixer Magenta : +5
Split Toning Shadow Hue : 0
Split Toning Shadow Saturation : 0
Split Toning Highlight Hue : 0
Split Toning Highlight Saturation : 0
Split Toning Balance : 0
Parametric Shadows : -17
Parametric Darks : -17
Parametric Lights : 0
Parametric Highlights : 0
Parametric Shadow Split : 25
Parametric Midtone Split : 50
Parametric Highlight Split : 75
Sharpen Radius : +1.0
Sharpen Detail : 25
Sharpen Edge Masking : 0
Post Crop Vignette Amount : +98
Post Crop Vignette Midpoint : 31
Post Crop Vignette Feather : 50
Post Crop Vignette Roundness : -76
Convert To Grayscale : True
Tone Curve Name : Medium Contrast
Camera Profile : Adobe Standard
Has Settings : True
Crop Top : 0.000149
Crop Left : 0.119267
Crop Bottom : 0.924918
Crop Right : 1
Crop Angle : 0
Crop Width : 3762
Crop Height : 2634
Crop Unit : pixels
Has Crop : True
Already Applied : True
Tone Curve : 0, 0, 32, 22, 64, 56, 128, 128, 192, 196, 255, 255
Description : SONY DSC
Image Width : 210
Image Height : 300
Bits Per Sample : 8
Color Components : 1
Aperture : 4.0
Image Size : 210x300
Megapixels : 0.063
Scale Factor To 35 mm Equivalent : 1.5
Shutter Speed : 1/125
Create Date : 2010:03:26 14:23:22.0
Date/Time Original : 2010:03:26 14:23:22.0
Modify Date : 2010:06:04 09:23:00.925
Flash : On, Fired
Circle Of Confusion : 0.020 mm
Field Of View : 16.1 deg
Focal Length : 85.0 mm (35 mm equivalent: 127.0 mm)
Hyperfocal Distance : 89.82 m
Lens ID : Carl Zeiss Planar T* 85mm F1.4 ZA (SAL85F14Z)