Uber Exif Photo
Caption-Abstract : SONY DSC
Copyright Flag : False
Image Description : SONY DSC
Make : SONY
Camera Model Name : DSLR-A700
Orientation : Horizontal (normal)
Software : Adobe Photoshop CS2 Windows
Modify Date : 2010:06:03 12:02:34
Exposure Time : 5
F Number : 8.0
Exposure Program : Manual
ISO : 100
Date/Time Original : 2010:05:20 20:47:21
Create Date : 2010:05:20 20:47:21
Shutter Speed Value : 5
Aperture Value : 8.0
Brightness Value : -3
Exposure Compensation : 0
Max Aperture Value : 3.5
Metering Mode : Multi-segment
Light Source : Tungsten (Incandescent)
Focal Length : 16.0 mm
Color Space : sRGB
Exif Image Width : 900
Exif Image Height : 571
Scene Type : Directly photographed
Custom Rendered : Normal
Exposure Mode : Auto bracket
White Balance : Manual
Digital Zoom Ratio : 0
Focal Length In 35mm Format : 24 mm
Scene Capture Type : Standard
Contrast : Normal
Saturation : Normal
Sharpness : Normal
Profile Description : sRGB IEC61966-2.1
Date/Time Digitized : 2010:05:20 20:47:21-07:00
Flash Fired : False
Flash Return : No return detection
Flash Mode : Off
Flash Function : False
Flash Red Eye Mode : False
Creator Tool : Adobe Photoshop CS2 Windows
Version : 4.5
Color Temperature : 5185
Tint : +22
Exposure : +0.12
Shadows : 0
Brightness : +7
Luminance Smoothing : 32
Color Noise Reduction : 25
Chromatic Aberration R : 0
Chromatic Aberration B : 0
Vignette Amount : +40
Vignette Midpoint : 48
Shadow Tint : 0
Red Hue : 0
Red Saturation : 0
Green Hue : 0
Green Saturation : 0
Blue Hue : 0
Blue Saturation : 0
Fill Light : 11
Vibrance : +40
Highlight Recovery : 0
Clarity : +7
Defringe : 0
Hue Adjustment Red : 0
Hue Adjustment Orange : +13
Hue Adjustment Yellow : -77
Hue Adjustment Green : -87
Hue Adjustment Aqua : +40
Hue Adjustment Blue : -35
Hue Adjustment Purple : +63
Hue Adjustment Magenta : -96
Saturation Adjustment Red : 0
Saturation Adjustment Orange : 0
Saturation Adjustment Yellow : +56
Saturation Adjustment Green : +66
Saturation Adjustment Aqua : +12
Saturation Adjustment Blue : +36
Saturation Adjustment Purple : -86
Saturation Adjustment Magenta : +41
Luminance Adjustment Red : 0
Luminance Adjustment Orange : 0
Luminance Adjustment Yellow : 0
Luminance Adjustment Green : 0
Luminance Adjustment Aqua : 0
Luminance Adjustment Blue : -2
Luminance Adjustment Purple : 0
Luminance Adjustment Magenta : 0
Split Toning Shadow Hue : 21
Split Toning Shadow Saturation : 0
Split Toning Highlight Hue : 55
Split Toning Highlight Saturation : 25
Split Toning Balance : -24
Parametric Shadows : -34
Parametric Darks : -13
Parametric Lights : +9
Parametric Highlights : +24
Parametric Shadow Split : 25
Parametric Midtone Split : 50
Parametric Highlight Split : 75
Sharpen Radius : +1.0
Sharpen Detail : 6
Sharpen Edge Masking : 0
Post Crop Vignette Amount : 0
Convert To Grayscale : False
Tone Curve Name : Medium Contrast
Camera Profile : ACR 2.4
Has Settings : True
Crop Top : 0
Crop Left : 0
Crop Bottom : 0.885714
Crop Right : 1
Crop Angle : 0
Crop Width : 4272
Crop Height : 2523
Crop Unit : pixels
Has Crop : True
Already Applied : True
Tone Curve : 0, 0, 32, 22, 64, 56, 128, 128, 192, 196, 255, 255
Color Mode : RGB
ICC Profile Name : sRGB IEC61966-2.1
Description : SONY DSC
Format : image/jpeg
Image Width : 300
Image Height : 190
Bits Per Sample : 8
Color Components : 3
Aperture : 8.0
Image Size : 300x190
Megapixels : 0.057
Scale Factor To 35 mm Equivalent : 1.5
Shutter Speed : 5
Flash : Off, Did not fire
Circle Of Confusion : 0.020 mm
Field Of View : 73.7 deg
Focal Length : 16.0 mm (35 mm equivalent: 24.0 mm)
Hyperfocal Distance : 1.60 m
Light Value : 3.7