Uber Exif Photo
Caption-Abstract : SONY DSC
Image Description : SONY DSC
Make : SONY
Camera Model Name : DSLR-A700
Orientation : Horizontal (normal)
Software : ACD Systems Digital Imaging
Modify Date : 2010:01:03 08:59:59
Exposure Time : 1/400
F Number : 2.5
Exposure Program : Aperture-priority AE
ISO :
Date/Time Original : 2009:10:01 11:50:32
Create Date : 2009:10:01 11:50:32
Shutter Speed Value : 1/400
Aperture Value : 2.5
Brightness Value : 5.25
Exposure Compensation : 0
Max Aperture Value : 1.4
Metering Mode : Spot
Light Source : Unknown
Focal Length : 85.0 mm
Exif Image Width : 567
Exif Image Height : 850
Scene Type : Directly photographed
Custom Rendered : Normal
Exposure Mode : Auto
White Balance : Auto
Digital Zoom Ratio : 0
Focal Length In 35mm Format : 127 mm
Scene Capture Type : Standard
Contrast : Normal
Saturation : Normal
Sharpness : Hard
Date/Time Digitized : 2009:10:01 11:50:320Z
Flash Fired : False
Flash Return : No return detection
Flash Mode : Off
Flash Function : False
Flash Red Eye Mode : False
Creator Tool : Adobe Photoshop Lightroom
Lens Info : 85mm f/1.4
Lens : 85mm F1.4 ZA
Version : 5.5
Color Temperature : 4950
Tint : 0
Exposure : 0.00
Shadows : 25
Brightness : +50
Luminance Smoothing : 0
Color Noise Reduction : 25
Chromatic Aberration R : 0
Chromatic Aberration B : 0
Vignette Amount : 0
Shadow Tint : 0
Red Hue : 0
Red Saturation : 0
Green Hue : 0
Green Saturation : 0
Blue Hue : 0
Blue Saturation : 0
Fill Light : 34
Highlight Recovery : 13
Clarity : -22
Defringe : 0
Gray Mixer Red : -7
Gray Mixer Orange : -16
Gray Mixer Yellow : +34
Gray Mixer Green : +58
Gray Mixer Aqua : -100
Gray Mixer Blue : -100
Gray Mixer Purple : +14
Gray Mixer Magenta : +5
Split Toning Shadow Hue : 0
Split Toning Shadow Saturation : 0
Split Toning Highlight Hue : 0
Split Toning Highlight Saturation : 0
Split Toning Balance : 0
Parametric Shadows : 0
Parametric Darks : 0
Parametric Lights : 0
Parametric Highlights : 0
Parametric Shadow Split : 25
Parametric Midtone Split : 50
Parametric Highlight Split : 75
Sharpen Radius : +1.0
Sharpen Detail : 25
Sharpen Edge Masking : 0
Post Crop Vignette Amount : 0
Convert To Grayscale : True
Tone Curve Name : Medium Contrast
Camera Profile : Adobe Standard
Has Settings : True
Crop Top : 0.000903
Crop Left : 0.02892
Crop Bottom : 0.979197
Crop Right : 0.962384
Crop Angle : 1.25137
Crop Width : 4048
Crop Height : 2699
Crop Unit : pixels
Has Crop : True
Already Applied : True
Tone Curve : 0, 0, 32, 22, 64, 56, 128, 128, 192, 196, 255, 255
Description : SONY DSC
Image Width : 200
Image Height : 300
Bits Per Sample : 8
Color Components : 1
Aperture : 2.5
Image Size : 200x300
Megapixels : 0.060
Scale Factor To 35 mm Equivalent : 1.5
Shutter Speed : 1/400
Create Date : 2009:10:01 11:50:32.0
Date/Time Original : 2009:10:01 11:50:32.0
Modify Date : 2010:01:03 08:59:59.328
Flash : Off, Did not fire
Circle Of Confusion : 0.020 mm
Field Of View : 16.1 deg
Focal Length : 85.0 mm (35 mm equivalent: 127.0 mm)
Hyperfocal Distance : 143.71 m
Lens ID : 85mm F1.4 ZA