Uber Exif Photo
Caption-Abstract : NYC
By-line : Mike Peters
Keywords : NYC, square, color, film, hasselblad, fujicolor800z
Copyright Notice : © 2010 Mike Peters
Copyright Flag : True
Image Description : NYC
Orientation : Horizontal (normal)
Software : Adobe Photoshop CS4 Macintosh
Modify Date : 2010:05:28 11:22:59
Artist : Mike Peters
Copyright : © 2010 Mike Peters
Color Space : sRGB
Exif Image Width : 504
Exif Image Height : 505
Profile Description : sRGB IEC61966-2.1
Create Date : 2010:05:23 16:44:59-04:00
Rating : 0
Already Applied : True
Has Crop : True
Crop Angle : -0.15755
Crop Right : 0.992774
Crop Bottom : 0.989446
Crop Left : 0.005083
Crop Top : 0.015555
Has Settings : True
Camera Profile : Embedded
Tone Curve Name : Medium Contrast
Convert To Grayscale : False
Post Crop Vignette Amount : 0
Sharpen Edge Masking : 0
Sharpen Detail : 40
Sharpen Radius : +0.5
Parametric Highlight Split : 75
Parametric Midtone Split : 50
Parametric Shadow Split : 25
Parametric Highlights : 0
Parametric Lights : 0
Parametric Darks : 0
Parametric Shadows : 0
Split Toning Balance : 0
Split Toning Highlight Saturation : 0
Split Toning Highlight Hue : 0
Split Toning Shadow Saturation : 0
Split Toning Shadow Hue : 0
Luminance Adjustment Magenta : 0
Luminance Adjustment Purple : 0
Luminance Adjustment Blue : 0
Luminance Adjustment Aqua : 0
Luminance Adjustment Green : 0
Luminance Adjustment Yellow : 0
Luminance Adjustment Orange : 0
Luminance Adjustment Red : 0
Saturation Adjustment Magenta : 0
Saturation Adjustment Purple : 0
Saturation Adjustment Blue : 0
Saturation Adjustment Aqua : 0
Saturation Adjustment Green : -15
Saturation Adjustment Yellow : 0
Saturation Adjustment Orange : 0
Saturation Adjustment Red : -13
Hue Adjustment Magenta : 0
Hue Adjustment Purple : 0
Hue Adjustment Blue : 0
Hue Adjustment Aqua : 0
Hue Adjustment Green : 0
Hue Adjustment Yellow : 0
Hue Adjustment Orange : 0
Hue Adjustment Red : +11
Defringe : 0
Clarity : +30
Highlight Recovery : 0
Vibrance : 0
Fill Light : 0
Blue Saturation : 0
Blue Hue : 0
Green Saturation : 0
Green Hue : 0
Red Saturation : 0
Red Hue : 0
Shadow Tint : 0
Vignette Midpoint : 20
Vignette Amount : -59
Chromatic Aberration B : 0
Chromatic Aberration R : 0
Color Noise Reduction : 100
Luminance Smoothing : 0
Sharpness : 52
Saturation : 0
Contrast : 0
Brightness : -8
Shadows : 0
Exposure : -0.10
Incremental Tint : +7
Incremental Temperature : -2
White Balance : Custom
Version : 5.3
Raw File Name : 032010r01f16 nyc R.tif
Format : image/jpeg
ICC Profile Name : sRGB IEC61966-2.1
Color Mode : RGB
Marked : True
Paint Correction What : Correction
Paint Correction Amount : 1.000000
Paint Correction Active : true
Paint Correction Exposure : 0.175000
Paint Correction Saturation : 0.000000
Paint Correction Contrast : 0.000000
Paint Correction Clarity : 0.000000
Paint Correction Sharpness : 0.000000
Paint Correction Brightness : 0.000000
Paint Correction Toning Hue : 0.000000
Paint Correction Toning Saturation : 0.000000
Paint Correction Mask What : Mask/Paint
Paint Correction Mask Value : 0.500000
Paint Correction Mask Radius : 0.041817
Paint Correction Mask Flow : 0.888889
Paint Correction Mask Center Weight : 0.313251
Tone Curve : 0, 0, 32, 22, 64, 56, 128, 128, 192, 196, 255, 255
Subject : NYC, square, color, film, hasselblad, fujicolor800z
Description : NYC
Creator : Mike Peters
Rights : © 2010 Mike Peters
Usage Terms : All Rights Reserved
Creator Address : 189 Claremont Avenue
Creator City : Verona
Creator Region : NJ
Creator Postal Code : 07044
Creator Country : USA
Creator Work Telephone : 973-809-4762
Creator Work Email : mike@mikepeters.com
Creator Work URL : www.mikepeters.com
Image Width : 299
Image Height : 300
Bits Per Sample : 8
Color Components : 3
Image Size : 299x300
Megapixels : 0.090