Uber Exif Photo
Copyright Notice : Dave Curtis magiclight.co.nz
Copyright Flag : True
Make : Canon
Camera Model Name : Canon EOS-1Ds Mark III
Modify Date : 2010:05:28 21:43:43
Copyright : Dave Curtis magiclight.co.nz
Exposure Time : 1/2000
F Number : 2.8
Exposure Program : Aperture-priority AE
ISO : 100
Date/Time Original : 2010:02:15 13:33:56
Create Date : 2010:02:15 13:33:56
Shutter Speed Value : 1/2000
Aperture Value : 2.8
Exposure Compensation : +2/3
Max Aperture Value : 2.8
Metering Mode : Multi-segment
Focal Length : 21.0 mm
Custom Rendered : Normal
Exposure Mode : Auto
White Balance : Auto
Scene Capture Type : Standard
Date/Time Digitized : 2010:02:15 13:33:56.00+13:00
Exif Image Width : 1000
Exif Image Height : 667
Creator Tool : Adobe Photoshop Lightroom
Serial Number : 611643
Lens Info : 21mm f/?
Lens : Zeiss Distagon T* 2.8/21 ZE
Image Number : 0
Flash Compensation : 0
Firmware : 1.1.4
Marked : True
Version : 6.0
Process Version : 5.7
Color Temperature : 5550
Tint : +2
Exposure : 0.00
Shadows : 5
Brightness : +50
Contrast : +25
Sharpness : 25
Luminance Smoothing : 0
Color Noise Reduction : 25
Chromatic Aberration R : 0
Chromatic Aberration B : 0
Vignette Amount : 0
Shadow Tint : 0
Red Hue : 0
Red Saturation : 0
Green Hue : 0
Green Saturation : 0
Blue Hue : 0
Blue Saturation : 0
Fill Light : 0
Highlight Recovery : 0
Clarity : 0
Defringe : 0
Gray Mixer Red : -10
Gray Mixer Orange : +31
Gray Mixer Yellow : +28
Gray Mixer Green : +1
Gray Mixer Aqua : -18
Gray Mixer Blue : -51
Gray Mixer Purple : +16
Gray Mixer Magenta : +4
Split Toning Shadow Hue : 0
Split Toning Shadow Saturation : 0
Split Toning Highlight Hue : 0
Split Toning Highlight Saturation : 0
Split Toning Balance : 0
Parametric Shadows : -4
Parametric Darks : -3
Parametric Lights : +3
Parametric Highlights : +6
Parametric Shadow Split : 25
Parametric Midtone Split : 50
Parametric Highlight Split : 75
Sharpen Radius : +1.0
Sharpen Detail : 25
Sharpen Edge Masking : 0
Post Crop Vignette Amount : 0
Grain Amount : 0
Color Noise Reduction Detail : 50
Convert To Grayscale : True
Tone Curve Name : Medium Contrast
Camera Profile : Adobe Standard
Has Settings : True
Has Crop : False
Already Applied : True
Flash Fired : False
Flash Return : No return detection
Flash Mode : Unknown
Flash Function : False
Flash Red Eye Mode : False
Rights : Dave Curtis magiclight.co.nz
Tone Curve : 0, 0, 32, 22, 64, 56, 128, 128, 192, 196, 255, 255
Image Width : 300
Image Height : 200
Bits Per Sample : 8
Color Components : 1
Aperture : 2.8
Image Size : 300x200
Megapixels : 0.060
Scale Factor To 35 mm Equivalent : 1.0
Shutter Speed : 1/2000
Create Date : 2010:02:15 13:33:56.00
Date/Time Original : 2010:02:15 13:33:56.00
Flash : No Flash
Circle Of Confusion : 0.030 mm
Field Of View : 81.3 deg
Focal Length : 21.0 mm (35 mm equivalent: 21.0 mm)
Hyperfocal Distance : 5.24 m
Light Value : 13.9
Lens ID : Carl Zeiss Distagon T* 21mm f/2.8 ZE