Uber Exif Photo
Object Name : Leica M9 Monochrom, Zeiss C-Biogon 21mm/4.5@f8
Keywords : 21mm, B&W, c-biogon, landscape, leica, leica m9, m9, urban, zeiss
Copyright Notice : dierk topp
Caption-Abstract : Filter: B&W #023 (yellow-orange), PP: Nik Silver Efex2
Copyright Flag : True
Image Description : Filter: B&W #023 (yellow-orange), PP: Nik Silver Efex2
Make : Leica Camera AG
Camera Model Name : M Monochrom
Software : Adobe Photoshop Lightroom 4.1 (Windows)
Modify Date : 2012:09:08 15:52:18
Copyright : dierk topp
Exposure Time : 1/4000
Exposure Program : Aperture-priority AE
ISO : 320
Date/Time Original : 2012:08:17 12:58:25
Create Date : 2012:08:17 12:58:25
Shutter Speed Value : 1/4000
Exposure Compensation : 0
Max Aperture Value : 2.8
Metering Mode : Center-weighted average
Light Source : Unknown
Flash : No Flash
Focal Length : 21.0 mm
Color Space : Uncalibrated
Scene Type : Directly photographed
Exposure Mode : Auto bracket
Digital Zoom Ratio : 0
Focal Length In 35mm Format : 21 mm
Scene Capture Type : Standard
Serial Number : 4343114
Description : Filter: B&W #023 (yellow-orange), PP: Nik Silver Efex2
Format : image/jpeg
Rights : dierk topp
Subject : 21mm, B&W, c-biogon, landscape, leica, leica m9, m9, urban, zeiss
Title : Leica M9 Monochrom, Zeiss C-Biogon 21mm/4.5@f8
Saturation : Normal
Sharpness : Normal
Date Created : 2012:08:17 12:58:25
Property Release Status : Unknown (nil)
PLUS Version : 1.2.0
Creator Tool : Adobe Photoshop Lightroom 4.1 (Windows)
Label : Blau
Marked : True
Already Applied : True
Blue Hue : 0
Blue Saturation : 0
Camera Profile : Embedded
Color Noise Reduction : 0
Convert To Grayscale : False
Grain Amount : 0
Green Hue : 0
Green Saturation : 0
Has Crop : False
Has Settings : True
Hue Adjustment Aqua : 0
Hue Adjustment Blue : 0
Hue Adjustment Green : 0
Hue Adjustment Magenta : 0
Hue Adjustment Orange : 0
Hue Adjustment Purple : 0
Hue Adjustment Red : 0
Hue Adjustment Yellow : 0
Incremental Temperature : 0
Incremental Tint : 0
Lens Manual Distortion Amount : 0
Lens Profile Enable : 0
Lens Profile Setup : LensDefaults
Luminance Adjustment Aqua : 0
Luminance Adjustment Blue : 0
Luminance Adjustment Green : 0
Luminance Adjustment Magenta : 0
Luminance Adjustment Orange : 0
Luminance Adjustment Purple : 0
Luminance Adjustment Red : 0
Luminance Adjustment Yellow : 0
Luminance Smoothing : 0
Parametric Darks : -15
Parametric Highlight Split : 75
Parametric Highlights : 0
Parametric Lights : +15
Parametric Midtone Split : 50
Parametric Shadow Split : 25
Parametric Shadows : 0
Perspective Horizontal : 0
Perspective Rotate : 0.0
Perspective Scale : 100
Perspective Vertical : 0
Post Crop Vignette Amount : 0
Process Version : 6.7
Red Hue : 0
Red Saturation : 0
Saturation Adjustment Aqua : 0
Saturation Adjustment Blue : 0
Saturation Adjustment Green : 0
Saturation Adjustment Magenta : 0
Saturation Adjustment Orange : 0
Saturation Adjustment Purple : 0
Saturation Adjustment Red : 0
Saturation Adjustment Yellow : 0
Shadow Tint : 0
Sharpen Detail : 25
Sharpen Edge Masking : 0
Sharpen Radius : +1.0
Split Toning Balance : 0
Split Toning Highlight Hue : 0
Split Toning Highlight Saturation : 0
Split Toning Shadow Hue : 0
Split Toning Shadow Saturation : 0
Version : 7.1
Vibrance : 0
Vignette Amount : 0
Image Width : 300
Image Height : 205
Bits Per Sample : 8
Color Components : 1
Image Size : 300x205
Megapixels : 0.061
Scale Factor To 35 mm Equivalent : 1.0
Shutter Speed : 1/4000
Circle Of Confusion : 0.030 mm
Field Of View : 81.2 deg
Focal Length : 21.0 mm (35 mm equivalent: 21.0 mm)