Uber Exif Photo
By-line : Sikko Hoekstra
Keywords : Valkenburg
Copyright Notice : Sikko Hoekstra
Make : Canon
Camera Model Name : Canon EOS 5D Mark III
Orientation : Horizontal (normal)
Software : Adobe Photoshop Elements 11.0 Windows
Modify Date : 2013:12:31 13:30:35
Artist : Sikko Hoekstra
Copyright : Sikko Hoekstra
Exposure Time : 30
F Number : 8.0
Exposure Program : Aperture-priority AE
ISO : 100
Date/Time Original : 2013:12:28 22:00:23
Create Date : 2013:12:28 22:00:23
Shutter Speed Value : 30
Aperture Value : 8.0
Exposure Compensation : 0
Max Aperture Value : 2.8
Metering Mode : Multi-segment
Flash : Off, Did not fire
Focal Length : 21.0 mm
Color Space : Uncalibrated
Exif Image Width : 2000
Exif Image Height : 1333
Custom Rendered : Normal
Exposure Mode : Auto
White Balance : Auto
Scene Capture Type : Standard
Lens Model : Zeiss Distagon T* 2.8/21 ZE
Profile Description : Adobe RGB (1998)
Creator Tool : Adobe Photoshop Lightroom 5.3 (Windows)
Format : image/jpeg
Serial Number : 033023007429
Lens Info : 21mm f/?
Lens : Zeiss Distagon T* 2.8/21 ZE
Lens Serial Number : 0000000000
Image Number : 0
Flash Compensation : 0
Firmware : 1.2.1
Date Created : 2013:12:28 22:00:23
Color Mode : RGB
ICC Profile Name : Adobe RGB (1998)
Version : 8.3
Process Version : 6.7
Auto White Version : 134348800
Color Temperature : 3250
Tint : +14
Saturation : 0
Sharpness : 46
Luminance Smoothing : 23
Color Noise Reduction : 25
Vignette Amount : 0
Shadow Tint : 0
Red Hue : 0
Red Saturation : 0
Green Hue : 0
Green Saturation : 0
Blue Hue : 0
Blue Saturation : 0
Vibrance : +19
Hue Adjustment Red : 0
Hue Adjustment Orange : 0
Hue Adjustment Yellow : 0
Hue Adjustment Green : 0
Hue Adjustment Aqua : 0
Hue Adjustment Blue : 0
Hue Adjustment Purple : 0
Hue Adjustment Magenta : 0
Saturation Adjustment Red : 0
Saturation Adjustment Orange : 0
Saturation Adjustment Yellow : 0
Saturation Adjustment Green : 0
Saturation Adjustment Aqua : 0
Saturation Adjustment Blue : 0
Saturation Adjustment Purple : 0
Saturation Adjustment Magenta : 0
Luminance Adjustment Red : 0
Luminance Adjustment Orange : 0
Luminance Adjustment Yellow : 0
Luminance Adjustment Green : 0
Luminance Adjustment Aqua : 0
Luminance Adjustment Blue : 0
Luminance Adjustment Purple : 0
Luminance Adjustment Magenta : 0
Split Toning Shadow Hue : 0
Split Toning Shadow Saturation : 0
Split Toning Highlight Hue : 0
Split Toning Highlight Saturation : 0
Split Toning Balance : 0
Parametric Shadows : 0
Parametric Darks : 0
Parametric Lights : 0
Parametric Highlights : 0
Parametric Shadow Split : 25
Parametric Midtone Split : 50
Parametric Highlight Split : 75
Sharpen Radius : +1.0
Sharpen Detail : 25
Sharpen Edge Masking : 0
Post Crop Vignette Amount : 0
Grain Amount : 0
Luminance Noise Reduction Detail : 50
Color Noise Reduction Detail : 50
Luminance Noise Reduction Contrast : 0
Color Noise Reduction Smoothness : 50
Lens Profile Enable : 1
Lens Manual Distortion Amount : 0
Perspective Vertical : 0
Perspective Horizontal : 0
Perspective Rotate : 0.0
Perspective Scale : 100
Perspective Aspect : 0
Perspective Upright : Off
Auto Lateral CA : 1
Exposure 2012 : +0.63
Contrast 2012 : +14
Highlights 2012 : -23
Shadows 2012 : -6
Whites 2012 : -5
Blacks 2012 : +3
Clarity 2012 : +16
Defringe Purple Amount : 0
Defringe Purple Hue Lo : 30
Defringe Purple Hue Hi : 70
Defringe Green Amount : 0
Defringe Green Hue Lo : 40
Defringe Green Hue Hi : 60
Convert To Grayscale : False
Tone Curve Name 2012 : Linear
Camera Profile : Adobe Standard
Lens Profile Setup : Custom
Lens Profile Name : Adobe (Zeiss Distagon T* 2,8/21 ZE)
Lens Profile Filename : Canon (Zeiss Distagon T 21 f28 ZE).lcp
Lens Profile Distortion Scale : 100
Lens Profile Chromatic Aberration Scale : 100
Lens Profile Vignetting Scale : 100
Has Settings : True
Crop Top : 0
Crop Left : 0
Crop Bottom : 0.999989
Crop Right : 0.999989
Crop Angle : 0
Crop Constrain To Warp : 1
Has Crop : True
Already Applied : True
Creator : Sikko Hoekstra
Rights : Sikko Hoekstra
Subject : Valkenburg
Tone Curve PV2012 : 0, 0, 255, 255
Tone Curve PV2012 Red : 0, 0, 255, 255
Tone Curve PV2012 Green : 0, 0, 255, 255
Tone Curve PV2012 Blue : 0, 0, 255, 255
Image Width : 300
Image Height : 200
Bits Per Sample : 8
Color Components : 3
Aperture : 8.0
Image Size : 300x200
Megapixels : 0.060
Scale Factor To 35 mm Equivalent : 2.9
Shutter Speed : 30
Create Date : 2013:12:28 22:00:23.00
Date/Time Original : 2013:12:28 22:00:23.00
Circle Of Confusion : 0.010 mm
Field Of View : 33.1 deg
Focal Length : 21.0 mm (35 mm equivalent: 60.5 mm)
Hyperfocal Distance : 5.28 m
Light Value : 1.1
Lens ID : Carl Zeiss Distagon T* 21mm f/2.8 ZE