Uber Exif Photo
Make : Leica Camera AG
Camera Model Name : M9 Digital Camera
Software : 1.116
Modify Date : 2010:10:29 16:00:48
Exposure Time : 1/180
F Number : 8.0
Exposure Program : Aperture-priority AE
ISO : 160
Date/Time Original : 2010:04:26 13:50:09
Create Date : 2010:04:26 13:50:09
Shutter Speed Value : 1/180
Aperture Value : 8.0
Exposure Compensation : +1
Max Aperture Value : 2.8
Metering Mode : Center-weighted average
Light Source : Unknown
Focal Length : 21.0 mm
Contrast : Normal
Sharpening : Normal
Saturation : Normal
JPEG Quality : Fine
White Balance : Auto
WB RGB Levels : 0.4404301075 1 0.7729760332
User Profile : Z21
JPEG Size : 5216x3472
Serial Number : 3834236
Firmware Version : 1.116
Base ISO : 160
Sensor Width : 5270
Sensor Height : 3516
Sensor Bit Depth : 14
Camera Temperature : 29 C
Lens Type : Elmarit-M 21mm f/2.8
Approximate F Number : 6.0
Measured LV : 5.16
External Sensor Brightness Value : 5.72
Color Space : Uncalibrated
Scene Type : Directly photographed
Exposure Mode : Manual
Digital Zoom Ratio : 0
Focal Length In 35mm Format : 21 mm
Scene Capture Type : Standard
Maker Note Safety : Safe
Lens : Leica Elmarit-M 21mm f/2.8
Date/Time Digitized : 2010:04:26 13:50:09+01:00
Flash Fired : False
Flash Function : False
Flash Mode : Unknown
Flash Red Eye Mode : False
Flash Return : No return detection
Exif Image Width : 687
Exif Image Height : 1000
Sharpness : Hard
Creator Tool : Adobe Photoshop Lightroom
Rating : 5
Already Applied : True
Blue Hue : 0
Blue Saturation : 0
Brightness : +71
Camera Profile : Adobe Standard
Chromatic Aberration B : 0
Chromatic Aberration R : 0
Clarity : 0
Color Noise Reduction : 25
Convert To Grayscale : True
Crop Angle : 0
Crop Bottom : 1
Crop Height : 687
Crop Left : 0
Crop Right : 0.968825
Crop Top : 0
Crop Unit : pixels
Crop Width : 1000
Defringe : 0
Exposure : 0.00
Fill Light : 24
Gray Mixer Aqua : -15
Gray Mixer Blue : -62
Gray Mixer Green : -29
Gray Mixer Magenta : +6
Gray Mixer Orange : -22
Gray Mixer Purple : +23
Gray Mixer Red : -12
Gray Mixer Yellow : -27
Green Hue : 0
Green Saturation : 0
Has Crop : True
Has Settings : True
Highlight Recovery : 20
Luminance Smoothing : 0
Parametric Darks : +1
Parametric Highlight Split : 75
Parametric Highlights : +48
Parametric Lights : -36
Parametric Midtone Split : 50
Parametric Shadow Split : 25
Parametric Shadows : -15
Post Crop Vignette Amount : -24
Post Crop Vignette Feather : 65
Post Crop Vignette Midpoint : 50
Post Crop Vignette Roundness : 0
Red Hue : 0
Red Saturation : 0
Shadow Tint : 0
Shadows : 14
Sharpen Detail : 41
Sharpen Edge Masking : 0
Sharpen Radius : +0.8
Split Toning Balance : 0
Split Toning Highlight Hue : 0
Split Toning Highlight Saturation : 0
Split Toning Shadow Hue : 0
Split Toning Shadow Saturation : 0
Color Temperature : 5100
Tint : +11
Tone Curve : 0, 0, 32, 22, 64, 56, 128, 128, 192, 196, 255, 255
Tone Curve Name : Medium Contrast
Version : 6.1
Vignette Amount : 0
Image Width : 213
Image Height : 300
Bits Per Sample : 8
Color Components : 1
Aperture : 8.0
Blue Balance : 0.772976
Image Size : 213x300
Lens ID : Elmarit-M 21mm f/2.8
Megapixels : 0.064
Red Balance : 0.44043
Scale Factor To 35 mm Equivalent : 1.0
Shutter Speed : 1/180
Flash : No Flash
Circle Of Confusion : 0.030 mm
Field Of View : 81.2 deg
Focal Length : 21.0 mm (35 mm equivalent: 21.0 mm)
Hyperfocal Distance : 1.83 m
Light Value : 12.8