Uber Exif Photo
Make : Leica Camera AG
Camera Model Name : M9 Digital Camera
Software : 1.116; post-processed by CornerFix 1.3.0.4
Modify Date : 2010:10:29 16:01:48
Exposure Time : 1/180
F Number : 6.7
Exposure Program : Aperture-priority AE
ISO : 160
Date/Time Original : 2010:04:26 18:15:10
Create Date : 2010:04:26 18:15:10
Shutter Speed Value : 1/180
Aperture Value : 6.7
Exposure Compensation : +1
Max Aperture Value : 2.8
Metering Mode : Center-weighted average
Light Source : Unknown
Focal Length : 21.0 mm
Contrast : Normal
Sharpening : Normal
Saturation : Normal
JPEG Quality : Fine
White Balance : Auto
WB RGB Levels : 0.4357910416 1 0.7900472562
User Profile : Z21
JPEG Size : 5216x3472
Serial Number : 3834236
Firmware Version : 1.116
Base ISO : 160
Sensor Width : 5270
Sensor Height : 3516
Sensor Bit Depth : 14
Camera Temperature : 28 C
Lens Type : Elmarit-M 21mm f/2.8
Approximate F Number : 5.5
Measured LV : 5.24
External Sensor Brightness Value : 5.65
Color Space : Uncalibrated
Scene Type : Directly photographed
Exposure Mode : Manual
Digital Zoom Ratio : 0
Focal Length In 35mm Format : 21 mm
Scene Capture Type : Standard
Maker Note Safety : Safe
Lens : Leica Elmarit-M 21mm f/2.8
Date/Time Digitized : 2010:04:26 18:15:10+01:00
Flash Fired : False
Flash Function : False
Flash Mode : Unknown
Flash Red Eye Mode : False
Flash Return : No return detection
Exif Image Width : 1500
Exif Image Height : 921
Sharpness : Hard
Creator Tool : Adobe Photoshop Lightroom
Rating : 2
Already Applied : True
Blue Hue : 0
Blue Saturation : 0
Brightness : +45
Camera Profile : Adobe Standard
Chromatic Aberration B : 0
Chromatic Aberration R : 0
Clarity : +32
Color Noise Reduction : 25
Convert To Grayscale : True
Crop Angle : 0
Crop Bottom : 0.922948
Crop Height : 921
Crop Left : 0
Crop Right : 1
Crop Top : 0
Crop Unit : pixels
Crop Width : 1500
Defringe : 0
Exposure : +0.55
Fill Light : 13
Gray Mixer Aqua : -89
Gray Mixer Blue : -67
Gray Mixer Green : +39
Gray Mixer Magenta : +8
Gray Mixer Orange : -1
Gray Mixer Purple : +18
Gray Mixer Red : -6
Gray Mixer Yellow : -6
Green Hue : 0
Green Saturation : 0
Has Crop : True
Has Settings : True
Highlight Recovery : 0
Luminance Smoothing : 0
Parametric Darks : 0
Parametric Highlight Split : 75
Parametric Highlights : 0
Parametric Lights : 0
Parametric Midtone Split : 50
Parametric Shadow Split : 25
Parametric Shadows : 0
Post Crop Vignette Amount : 0
Red Hue : 0
Red Saturation : 0
Shadow Tint : 0
Shadows : 12
Sharpen Detail : 50
Sharpen Edge Masking : 0
Sharpen Radius : +0.8
Split Toning Balance : 0
Split Toning Highlight Hue : 0
Split Toning Highlight Saturation : 0
Split Toning Shadow Hue : 0
Split Toning Shadow Saturation : 0
Color Temperature : 5250
Tint : +10
Tone Curve : 0, 0, 32, 22, 64, 56, 128, 128, 192, 196, 255, 255
Tone Curve Name : Medium Contrast
Version : 6.1
Vignette Amount : 0
Image Width : 300
Image Height : 190
Bits Per Sample : 8
Color Components : 1
Aperture : 6.7
Blue Balance : 0.790047
Image Size : 300x190
Lens ID : Elmarit-M 21mm f/2.8
Megapixels : 0.057
Red Balance : 0.435791
Scale Factor To 35 mm Equivalent : 1.0
Shutter Speed : 1/180
Flash : No Flash
Circle Of Confusion : 0.030 mm
Field Of View : 81.2 deg
Focal Length : 21.0 mm (35 mm equivalent: 21.0 mm)
Hyperfocal Distance : 2.19 m
Light Value : 12.3