Uber Exif Photo
Keywords : Bucuresti, Leica, M8, Street
Make : Leica Camera AG
Camera Model Name : M8 Digital Camera
Software : 2.004
Modify Date : 2010:09:23 19:22:06
Exposure Time : 1/350
F Number : 5.7
Exposure Program : Aperture-priority AE
ISO : 1250
Date/Time Original : 2010:09:23 09:01:20
Create Date : 2010:09:23 09:01:20
Shutter Speed Value : 1/350
Aperture Value : 5.7
Exposure Compensation : 0
Max Aperture Value : 1.0
Metering Mode : Center-weighted average
Light Source : Unknown
Scene Type : Directly photographed
White Balance : Auto
Digital Zoom Ratio : 0
Scene Capture Type : Standard
Date/Time Digitized : 2010:09:23 09:01:20+03:00
Exif Image Width : 574
Exif Image Height : 800
Creator Tool : Adobe Photoshop Lightroom
Rating : 3
Serial Number : 3331913
Version : 6.1
Process Version : 5.7
Color Temperature : 6250
Tint : +3
Exposure : 0.00
Shadows : 5
Brightness : +12
Contrast : +100
Sharpness : 25
Luminance Smoothing : 0
Color Noise Reduction : 25
Chromatic Aberration R : 0
Chromatic Aberration B : 0
Vignette Amount : 0
Shadow Tint : 0
Red Hue : 0
Red Saturation : 0
Green Hue : 0
Green Saturation : 0
Blue Hue : 0
Blue Saturation : 0
Fill Light : 0
Highlight Recovery : 0
Clarity : +52
Defringe : 0
Gray Mixer Red : -8
Gray Mixer Orange : -17
Gray Mixer Yellow : -20
Gray Mixer Green : -25
Gray Mixer Aqua : -18
Gray Mixer Blue : +7
Gray Mixer Purple : +13
Gray Mixer Magenta : +3
Split Toning Shadow Hue : 0
Split Toning Shadow Saturation : 0
Split Toning Highlight Hue : 0
Split Toning Highlight Saturation : 0
Split Toning Balance : 0
Parametric Shadows : 0
Parametric Darks : -31
Parametric Lights : +54
Parametric Highlights : +18
Parametric Shadow Split : 28
Parametric Midtone Split : 50
Parametric Highlight Split : 75
Sharpen Radius : +1.0
Sharpen Detail : 25
Sharpen Edge Masking : 0
Post Crop Vignette Amount : 0
Grain Amount : 0
Color Noise Reduction Detail : 50
Lens Profile Enable : 0
Lens Manual Distortion Amount : 0
Perspective Vertical : 0
Perspective Horizontal : 0
Perspective Rotate : 0.0
Perspective Scale : 100
Convert To Grayscale : True
Tone Curve Name : Strong Contrast
Camera Profile : ACR 4.4
Lens Profile Setup : LensDefaults
Has Settings : True
Crop Top : 0.056034
Crop Left : 0.157971
Crop Bottom : 0.939654
Crop Right : 0.986956
Crop Angle : 0
Crop Constrain To Warp : 0
Crop Width : 800
Crop Height : 574
Crop Unit : pixels
Has Crop : True
Already Applied : True
Flash Fired : False
Flash Return : No return detection
Flash Mode : Auto
Flash Function : False
Flash Red Eye Mode : False
Subject : Bucuresti, Leica, M8, Street
Tone Curve : 0, 0, 32, 16, 64, 50, 128, 128, 192, 202, 255, 255
Image Width : 215
Image Height : 300
Bits Per Sample : 8
Color Components : 1
Aperture : 5.7
Image Size : 215x300
Megapixels : 0.065
Scale Factor To 35 mm Equivalent : 6.5
Shutter Speed : 1/350
Flash : Auto, Did not fire
Circle Of Confusion : 0.005 mm
Light Value : 9.8