Uber Exif Photo
Keywords : Marrakech
Copyright Notice : alexanderTnguyen
Copyright Flag : True
Make : Leica Camera AG
Camera Model Name : M9 Digital Camera
Software : 1.116
Modify Date : 2010:07:28 20:17:24
Copyright : alexanderTnguyen
Exposure Time : 1/90
F Number : 1.4
Exposure Program : Aperture-priority AE
ISO : 160
Date/Time Original : 2010:05:20 12:30:25
Create Date : 2010:05:20 12:30:25
Shutter Speed Value : 1/90
Aperture Value : 1.4
Exposure Compensation : -0.664
Max Aperture Value : 1.4
Metering Mode : Center-weighted average
Light Source : Unknown
Focal Length : 50.0 mm
Contrast : Normal
Sharpening : Normal
Saturation : Normal
JPEG Quality : Fine
White Balance : Auto
WB RGB Levels : 0.4736355227 1 0.8467183463
User Profile : Enviro
JPEG Size : 5216x3472
Serial Number : 3838714
Firmware Version : 1.116
Base ISO : 160
Sensor Width : 5270
Sensor Height : 3516
Sensor Bit Depth : 14
Camera Temperature : 22 C
Lens Type : Summilux-M 50mm f/1.4 (II)
Approximate F Number : 1.0
Measured LV : 3.27
External Sensor Brightness Value : 0.83
Scene Type : Directly photographed
Exposure Mode : Manual
Digital Zoom Ratio : 0
Focal Length In 35mm Format : 50 mm
Scene Capture Type : Standard
Maker Note Safety : Safe
Date/Time Digitized : 2010:05:20 12:30:25-07:00
Exif Image Width : 1052
Exif Image Height : 700
Creator Tool : Adobe Photoshop Lightroom
Rating : 5
Lens : Leica Summilux-M 50mm f/1.4 (II)
Marked : True
Version : 6.1
Process Version : 5.0
Color Temperature : 6050
Tint : -9
Exposure : 0.00
Shadows : 2
Brightness : +82
Sharpness : 35
Luminance Smoothing : 0
Color Noise Reduction : 25
Chromatic Aberration R : 0
Chromatic Aberration B : 0
Vignette Amount : -73
Vignette Midpoint : 31
Shadow Tint : 0
Red Hue : 0
Red Saturation : 0
Green Hue : 0
Green Saturation : 0
Blue Hue : 0
Blue Saturation : 0
Fill Light : 15
Highlight Recovery : 22
Clarity : +90
Defringe : 0
Gray Mixer Red : +2
Gray Mixer Orange : -7
Gray Mixer Yellow : -12
Gray Mixer Green : -21
Gray Mixer Aqua : -21
Gray Mixer Blue : +2
Gray Mixer Purple : +12
Gray Mixer Magenta : +9
Split Toning Shadow Hue : 0
Split Toning Shadow Saturation : 0
Split Toning Highlight Hue : 0
Split Toning Highlight Saturation : 0
Split Toning Balance : 0
Parametric Shadows : 0
Parametric Darks : 0
Parametric Lights : 0
Parametric Highlights : 0
Parametric Shadow Split : 25
Parametric Midtone Split : 50
Parametric Highlight Split : 75
Sharpen Radius : +1.2
Sharpen Detail : 20
Sharpen Edge Masking : 70
Post Crop Vignette Amount : 0
Grain Amount : 0
Lens Profile Enable : 0
Lens Manual Distortion Amount : 0
Perspective Vertical : 0
Perspective Horizontal : 0
Perspective Rotate : 0.0
Perspective Scale : 100
Convert To Grayscale : True
Tone Curve Name : Medium Contrast
Camera Profile : M9 Digital Camera 18Sept09
Lens Profile Setup : LensDefaults
Has Settings : True
Has Crop : False
Already Applied : True
Flash Fired : False
Flash Return : No return detection
Flash Mode : Unknown
Flash Function : False
Flash Red Eye Mode : False
Rights : alexanderTnguyen
Subject : Marrakech
Tone Curve : 0, 0, 32, 22, 64, 56, 128, 128, 192, 196, 255, 255
Image Width : 300
Image Height : 200
Bits Per Sample : 8
Color Components : 1
Aperture : 1.4
Blue Balance : 0.846718
Image Size : 300x200
Lens ID : Summilux-M 50mm f/1.4 (II)
Megapixels : 0.060
Red Balance : 0.473636
Scale Factor To 35 mm Equivalent : 1.0
Shutter Speed : 1/90
Flash : No Flash
Circle Of Confusion : 0.030 mm
Field Of View : 39.6 deg
Focal Length : 50.0 mm (35 mm equivalent: 50.0 mm)
Hyperfocal Distance : 59.43 m
Light Value : 6.8