Uber Exif Photo
Photometric Interpretation : RGB
Make : LEICA CAMERA AG
Camera Model Name : LEICA SL (Typ 601)
Orientation : Horizontal (normal)
Samples Per Pixel : 3
Software : Adobe Photoshop 27.6 (Windows)
Modify Date : 2026:05:15 18:32:34
Artist : Artist
Copyright : Infor
Exposure Time : 1/640
Exposure Program : Aperture-priority AE
ISO : 800
Sensitivity Type : Standard Output Sensitivity
Date/Time Original : 2026:05:14 09:54:20
Create Date : 2026:05:14 09:54:20
Shutter Speed Value : 1/640
Exposure Compensation : 0
Max Aperture Value : 1.0
Metering Mode : Multi-segment
Light Source : Unknown
Flash : Off, Did not fire
Color Space : sRGB
Exif Image Width : 1511
Exif Image Height : 2266
Sensing Method : One-chip color area
Custom Rendered : Normal
White Balance : Auto
Scene Capture Type : Standard
Contrast : High
Saturation : Normal
Sharpness : Soft
Lens Make : N/A
Lens Model : N/A
Lens Serial Number : N/A
GPS Version ID : 2.3.0.0
GPS Latitude Ref : North
GPS Longitude Ref : West
GPS Altitude Ref : Above Sea Level
GPS Time Stamp : 13:54:20
GPS Status : Measurement Active
GPS Measure Mode : 3-Dimensional Measurement
GPS Map Datum : WGS-84
GPS Date Stamp : 2026:05:14
By-line : Artist
Copyright Notice : Infor
Creator Tool : Adobe Photoshop Lightroom Classic 15.3 (Windows)
Format : image/jpeg
Lens : N/A
Date Created : 2026:05:14 09:54:20
Color Mode : RGB
ICC Profile Name : sRGB IEC61966-2.1
Preserved File Name : L1080487.JPG
Pick : 0
Raw File Name : L1080487.JPG
Version : 18.3
Process Version : 15.4
Incremental Temperature : +2
Incremental Tint : +12
Exposure 2012 : +0.16
Contrast 2012 : 0
Highlights 2012 : -7
Shadows 2012 : -7
Whites 2012 : -10
Blacks 2012 : -10
Texture : 0
Clarity 2012 : +7
Dehaze : 0
Vibrance : 0
Parametric Shadows : 0
Parametric Darks : 0
Parametric Lights : 0
Parametric Highlights : 0
Parametric Shadow Split : 25
Parametric Midtone Split : 50
Parametric Highlight Split : 75
Sharpen Radius : +3.0
Sharpen Detail : 100
Sharpen Edge Masking : 25
Luminance Smoothing : 24
Luminance Noise Reduction Detail : 50
Luminance Noise Reduction Contrast : 0
Color Noise Reduction : 25
Color Noise Reduction Detail : 50
Color Noise Reduction Smoothness : 50
Hue Adjustment Red : +2
Hue Adjustment Orange : +8
Hue Adjustment Yellow : +15
Hue Adjustment Green : +18
Hue Adjustment Aqua : +12
Hue Adjustment Blue : +5
Hue Adjustment Purple : +4
Hue Adjustment Magenta : +36
Saturation Adjustment Red : +31
Saturation Adjustment Orange : +24
Saturation Adjustment Yellow : +21
Saturation Adjustment Green : 0
Saturation Adjustment Aqua : +92
Saturation Adjustment Blue : -19
Saturation Adjustment Purple : +30
Saturation Adjustment Magenta : +18
Luminance Adjustment Red : +8
Luminance Adjustment Orange : -3
Luminance Adjustment Yellow : -2
Luminance Adjustment Green : +2
Luminance Adjustment Aqua : +7
Luminance Adjustment Blue : -6
Luminance Adjustment Purple : +4
Luminance Adjustment Magenta : +9
Split Toning Shadow Hue : 0
Split Toning Shadow Saturation : 0
Split Toning Highlight Hue : 0
Split Toning Highlight Saturation : 0
Split Toning Balance : 0
Color Grade Midtone Hue : 0
Color Grade Midtone Sat : 0
Color Grade Shadow Lum : 0
Color Grade Midtone Lum : 0
Color Grade Highlight Lum : 0
Color Grade Blending : 50
Color Grade Global Hue : 0
Color Grade Global Sat : 0
Color Grade Global Lum : 0
Auto Lateral CA : 0
Lens Profile Enable : 0
Lens Manual Distortion Amount : 0
Vignette Amount : 0
Defringe Purple Amount : 0
Defringe Purple Hue Lo : 30
Defringe Purple Hue Hi : 70
Defringe Green Amount : 0
Defringe Green Hue Lo : 40
Defringe Green Hue Hi : 60
Perspective Upright : Off
Perspective Vertical : 0
Perspective Horizontal : 0
Perspective Rotate : 0.0
Perspective Aspect : 0
Perspective Scale : 100
Perspective X : 0.00
Perspective Y : 0.00
Grain Amount : 0
Post Crop Vignette Amount : 0
Shadow Tint : 0
Red Hue : 0
Red Saturation : 0
Green Hue : 0
Green Saturation : 0
Blue Hue : 0
Blue Saturation : 0
HDR Edit Mode : 0
Curve Refine Saturation : 100
Convert To Grayscale : False
Override Look Vignette : False
Tone Curve Name 2012 : Custom
Camera Profile : Embedded
Has Settings : True
Crop Top : 0.049217
Crop Left : 0.044776
Crop Bottom : 0.926829
Crop Right : 0.922388
Crop Angle : 0
Crop Constrain To Warp : 0
Crop Constrain To Unit Square : 1
Has Crop : True
Already Applied : True
Creator : Artist
Rights : Infor
Tone Curve PV2012 : 0, 0, 46, 25, 104, 87, 161, 146, 208, 198, 230, 226, 241, 239, 255, 255
Tone Curve PV2012 Red : 0, 0, 255, 255
Tone Curve PV2012 Green : 0, 0, 255, 255
Tone Curve PV2012 Blue : 0, 0, 255, 255
Point Colors : -1.000000, -1.000000, -1.000000, -1.000000, -1.000000, -1.000000, -1.000000, -1.000000, -1.000000, -1.000000, -1.000000, -1.000000, -1.000000, -1.000000, -1.000000, -1.000000, -1.000000, -1.000000, -1.000000
Color Variance : -50.000000
Profile Description : sRGB IEC61966-2.1
Image Width : 267
Image Height : 400
Bits Per Sample : 8
Color Components : 3
Image Size : 267x400
Megapixels : 0.107
Shutter Speed : 1/640
Modify Date : 2026:05:15 18:32:34-04:00
GPS Altitude : 0 m Above Sea Level
GPS Date/Time : 2026:05:14 13:54:20Z
GPS Latitude : 40 deg 58' 34.15" N
GPS Longitude : 74 deg 1' 12.58" W
GPS Position : 40 deg 58' 34.15" N, 74 deg 1' 12.58" W